Workbook
Name _Hlk254263107: Содержание!$A$12

Sheet Титульный лист
A2: Кыргыз Республикасынын Улуттук статистика комитети
A3: Национальный статистический комитет Кыргызской Республики
A18: КЫРГЫЗ РЕСПУБЛИКАСЫНЫН
A19: КЕРЕКТӨӨ РЫНОГУ
A21: 2021-2025
A24: ПОТРЕБИТЕЛЬСКИЙ РЫНОК
A25: КЫРГЫЗСКОЙ РЕСПУБЛИКИ
A36: Бишкек 2026

Sheet Содержание
B1: Мазмуну
B2: Содержание
B3: Кириш сөз
B4: Предисловие | C4: 10
B6: Кыргыз Республикасынын керектөө рыногунун 2021-2025жж. абалы жөнүндө О состоянии потребительского рынка в Кыргызской Республике в 2021-2025гг. | C6: 11
B7: Тиркемелер: статистикалык таблицалар Приложение: статистические таблицы
A8: Таблица 1.1 | B8: Дүң жана чекене сооданын, автоунааларды жана мотоциклдерди оңдоонун жүгүртүүсү
B9: Оборот оптовой и розничной торговли, ремонта автомобилей и мотоциклов | C9: 22
A10: Таблица 1.2 | B10: Дүң жана чекене сооданын, автоунааларды жана мотоциклдерди оңдоонун жүгүртүүсү (мурунку жылга карата пайыз менен)
B11: Оборот оптовой и розничной торговли, ремонта автомобилей и мотоциклов (в процентах к предыдущему году) | C11: 23
A12: Таблица 1.3 | B12: Мейманканалар жана ресторандардын жүгүртүүсү
B13: Оборот гостиниц и ресторанов | C13: 24
A14: Таблица 1.4 | B14: Тамактануу ишканаларын кошкондогу чекене соодасынын жүгүртүү
B15: Оборот розничной торговли включая предприятия питания | C15: 25
A16: Таблица 1.5 | B16: Тамактануу ишканаларын кошкондогу, чекене соода жүгүртүү, сатып өткөрү каналдары боюнча
B17: Оборот розничной торговли, включая предприятия питания по каналам реализации | C17: 26
A18: Таблица 1.6 | B18: Тамактануу ишканаларын кошкондогу, чекене соода жүгүртүү
B19: Оборот розничной торговли, включая предприятия питания | C19: 26
A20: Таблица 1.7 | B20: Тамактануу ишканаларын кошпогондогу, чекене соода жүгүртүү
B21: Оборот розничной торговли, исключая предприятия питания | C21: 27
A22: Таблица 1.8 | B22: Тамактануу ишканаларын кошкондогу, чекене соода жүгүртүүнүн товардык түзүмү
B23: Товарная структура оборота розничной торговли, включая предприятия питания | C23: 28
A24: Таблица 1.9 | B24: Тамактануу ишканаларын кошкондогу, чекене соода жүгүртүүнүн товардык түзүмү (мурунку жылга карата пайыз менен)
B25: Товарная структура оборота розничной торговли, включая предприятия питания (в процентах к предыдущему году) | C25: 29
A26: Таблица 1.10 | B26: Алкоголдук ичимдиктердин жана пивонун ресурстары
B27: Ресурсы алкогольных напитков и пива | C27: 30
A28: Таблица 1.11 | B28: Калктын адам башына чекене соода жүгүртүү
B29: Оборот розничной торговли на душу населения | C29: 31
A30: Таблица 1.12 | B30: Калктын адам башына эсептегенде негизги тамак-аш азыктарын керектөө (мурунку жылга карата пайыз менен)
B31: Потребление основных продуктов питания на душу населения
B32: (в процентах к предыдущему году) | C32: 31
A33: Таблица 1.13 | B33: Буюм-терим, аралаш жана азык-түлүк базарларынын саны
B34: Число вещевых, смешанных и продовольственных рынков | C34: 32
A35: Таблица 1.14 | B35: Тамак-аш азыктарынын айрым түрлөрүнүн орточо керектөө баалары
B36: Средние потребительские цены на отдельные виды продуктов | C36: 33
A37: Таблица 1.15 | B37: Тамак-аш азыктарынын жана азык-түлүк эмес товарлардын керектөө бааларынын индекстери
B38: Индекс потребительских цен на продукты питания и непродовольственные товары | C38: 34
A39: Таблица 1.16 | B39: Тамак-аш азыктарынын айрым топторунун бааларынын индекстери
B40: Индексы цен на отдельные группы продуктов питания | C40: 35
A41: Таблица 1.17 | B41: Азык-түлүк эмес товарлардын айрым топторунун бааларынын индекстери
...

Sheet 1.1.
A1: Мазмуну Содержание
A2: 1. Керектөө рыногу
A3: Потребительский рынок
A4: 1.1. Дүң жана чекене сооданын, автоунааларды жана мотоциклдерди оңдоонун жүгүртүүсү | E4: Оборот оптовой и розничной торговли, ремонта автомобилей и мотоциклов
B6: 2021 | C6: 2022 | D6: 2023 | E6: 2024 | F6: 2025
B7: Млн.сом - Млн. сомов
A8: Бардыгы | B8: 754902.1 | C8: 1000897.9 | D8: 1384371.4 | E8: 1778182.3 | F8: 2238489.8 | G8: Всего
A9: анын ичинде: | G9: в том числе:
A10: автоунааларды жана мотоциклдерди, автоунаа тетиктерин жана шаймандарын сатуунун | B10: 15557.5 | C10: 25126 | D10: 49957.1 | E10: 60132.6 | F10: 85833.1 | G10: торговли автомобилями и мотоциклами, узлами и принадлежностями
A11: автоунааларды техникалык жактан тейлөөнүн жана оңдоонун | B11: 2640 | C11: 3860.6 | D11: 5496.9 | E11: 6963.3 | F11: 10839.6 | G11: технического обслуживания и ремонта автомобилей
A12: дүң сооданын, буга автоунааларды жана мотоциклдерди сатуу кирбейт | B12: 300160.2 | C12: 414485.4 | D12: 642910.6 | E12: 892667.5 | F12: 1127410.1 | G12: оптовой торговли, кроме торговли автомобилями и мотоциклами
A13: мотор майын чекене сатуунун | B13: 77861.7 | C13: 114723.2 | D13: 132106.5 | E13: 158404.5 | F13: 205998.7 | G13: розничной торговли моторным топливом
A14: чекене сооданын, буга автоунааларды жана мотоциклдерди сатуу кирбейт | B14: 358682.7 | C14: 442702.7 | D14: 553900.2 | E14: 660014.4 | F14: 808408.3 | G14: розничной торговли, кроме торговли автомобилями и мотоциклами
A15: Жыйынтыкка карата пайыз менен - В процентах к итогу
A16: Бардыгы | B16: 100 | C16: 100 | D16: 100 | E16: 100 | F16: 100 | G16: Всего
A17: анын ичинде: | G17: в том числе:
A18: автоунааларды жана мотоциклдерди, автоунаа тетиктерин жана шаймандарын сатуунун | B18: 2.0608633 | C18: 2.510346 | D18: 3.6086487 | E18: 3.3816893 | F18: =F10/F8*100 -> 3.83442 | G18: торговли автомобилями и мотоциклами, узлами и принадлежностями
A19: автоунааларды техникалык жактан тейлөөнүн жана оңдоонун | B19: 0.34971422 | C19: 0.38571367 | D19: 0.3970683 | E19: 0.39159652 | F19: =F11/F8*100 -> 0.48423719 | G19: технического обслуживания и ремонта автомобилей
A20: дүң сооданын, буга автоунааларды жана мотоциклдерди сатуу кирбейт | B20: 39.761474 | C20: 41.411357 | D20: 46.440616 | E20: 50.201124 | F20: =F12/F8*100 -> 50.364764 | G20: оптовой торговли, кроме торговли автомобилями и мотоциклами
A21: мотор майын чекене сатуунун | B21: 10.314145 | C21: 11.462028 | D21: 9.5427065 | E21: 8.9082261 | F21: =F13/F8*100 -> 9.2025749 | G21: розничной торговли моторным топливом
A22: чекене сооданын, буга автоунааларды жана мотоциклдерди сатуу кирбейт | B22: 47.513803 | C22: 44.230555 | D22: 40.010954 | E22: 37.117364 | F22: =F14/F8*100 -> 36.114004 | G22: розничной торговли, кроме торговли автомобилями и мотоциклами

Sheet 1.2.  
A1: Мазмуну | G1: Содержание
A2: 1.2. Дүң жана чекене сооданын, автоунааларды жана мотоциклдерди оңдоонун жүгүртүүсү | E2: Оборот оптовой и розничной торговли, ремонта автомобилей и мотоциклов
A3: (мурунку жылга карата пайыз менен) | E3: (в процентах к предыдущему году)
B4: 2021 | C4: 2022 | D4: 2023 | E4: 2024 | F4: 2025
A6: Бардыгы | B6: 121.2 | C6: 113.9 | D6: 117.9 | E6: 123.4 | F6: 117.9 | G6: Всего
A7: анын ичинде: | G7: в том числе:
A8: автоунааларды жана мотоциклдерди, автоунаа тетиктерин жана шаймандарын сатуунун | B8: 111.6 | C8: 147.7 | D8: 164.9 | E8: 121.5 | F8: 143.9 | G8: торговли автомобилями и мотоциклами, узлами и принадлежностями
A9: автоунааларды техникалык жактан тейлөөнүн жана оңдоонун | B9: 106.1 | C9: 131.1 | D9: 132 | E9: 123.3 | F9: 151.4 | G9: технического обслуживания и ремонта автомобилей
A10: дүң сооданын, буга автоунааларды жана мотоциклдерди сатуу кирбейт | B10: 136.4 | C10: 119.3 | D10: 119.7 | E10: 134 | F10: 117.6 | G10: оптовой торговли, кроме торговли автомобилями и мотоциклами
A11: мотор майын чекене сатуунун | B11: 109.2 | C11: 115.2 | D11: 119.5 | E11: 109 | F11: 124.8 | G11: розничной торговли моторным топливом
A12: чекене сооданын, буга автоунааларды жана мотоциклдерди сатуу кирбейт | B12: 113.3 | C12: 107.6 | D12: 112.8 | E12: 114.7 | F12: 113.8 | G12: розничной торговли, кроме торговли автомобилями и мотоциклами

Sheet 1.3.
A1: Мазмуну | G1: Содержание
A2: 1.3. Мейманканалар жана ресторандардын жүгүртүүсү | E2: Оборот гостиниц и ресторанов
B4: 2021 | C4: 2022 | D4: 2023 | E4: 2024 | F4: 2025
B6: млн.сом - млн.сомов
A7: Бардыгы | B7: 21315.6 | C7: 29849.2 | D7: 42061.6 | E7: 59286.8 | F7: 79774 | G7: Всего
A8: анын ичинде: | G8: в том числе:
A9: мейманканалардын жана туристтик жашоо үчүн, ошондой эле кыска мөөнөткө жашоо үчүн башка жайлардын кызмат көрсөтүүлөрү | B9: 1812.5 | C9: 3968.6 | D9: 6053.2 | E9: 9684.1 | F9: 13866.4 | G9: гостиниц и услуг для туристического проживания, а также прочих мест для краткосрочного проживания
A10: ресторандардын, барлардын, даяр тамак-аш менен камсыздоо боюнча мобилдүү жана башка кызмат көрсөтүүлөрү | B10: 19503.1 | C10: 25880.6 | D10: 36008.4 | E10: 49602.7 | F10: 65907.6 | G10: ресторанов, баров, мобильных и прочих услуг по обеспечению пищей
A11: Жыйынтыкка карата пайыз менен - В процентах к итогу
A12: Бардыгы | B12: 100 | C12: 100 | D12: 100 | E12: 100 | F12: 100 | G12: Всего
A13: анын ичинде: | G13: в том числе:
A14: мейманканалардын жана туристтик жашоо үчүн, ошондой эле кыска мөөнөткө жашоо үчүн башка жайлардын кызмат көрсөтүүлөрү | B14: 8.503162 | C14: 13.295499 | D14: 14.391274 | E14: 16.334327 | F14: =F9/F7*100 -> 17.382104 | G14: гостиниц и услуг для туристического проживания, а также прочих мест для краткосрочного проживания
A15: ресторандардын, барлардын, даяр тамак-аш менен камсыздоо боюнча мобилдүү жана башка кызмат көрсөтүүлөрү | B15: 91.496838 | C15: 86.704501 | D15: 85.608726 | E15: 83.665673 | F15: =F10/F7*100 -> 82.617896 | G15: ресторанов, баров, мобильных и прочих услуг по обеспечению пищей
A16: Мурунку жылга карата пайыз менен - В процентах к предыдущему году
A17: Бардыгы | B17: 117 | C17: 120.5 | D17: 126 | E17: 137 | F17: 124.6 | G17: Всего
A18: анын ичинде: | G18: в том числе:
A19: мейманканалардын жана туристтик жашоо үчүн, ошондой эле кыска мөөнөткө жашоо үчүн башка жайлардын кызмат көрсөтүүлөрү | B19: 164 | C19: 184.5 | D19: 122.3 | E19: 155.4 | F19: 137.7 | G19: гостиниц и услуг для туристического проживания, а также прочих мест для краткосрочного проживания
A20: ресторандардын, барлардын, даяр тамак-аш менен камсыздоо боюнча мобилдүү жана башка кызмат көрсөтүүлөрү | B20: 113.3 | C20: 114.6 | D20: 126.6 | E20: 133.9 | F20: 122 | G20: ресторанов, баров, мобильных и прочих услуг по обеспечению пищей

Sheet 1.4.
A1: Мазмуну | G1: Содержание
A2: 1.4. Тамактануу ишканаларын кошкондогу, чекене соода жүгүртүү | E2: Оборот розничной торговли, включая предприятия питания
B4: 2021 | C4: 2022 | D4: 2023 | E4: 2024 | F4: 2025
B5: Млн. сом - Млн. сомов
A6: Бардыгы | B6: 471605 | C6: 608432.4 | D6: 771972.3 | E6: 927882.5 | F6: 1166147.7 | G6: Всего
A7: азык-түлүк товарлары | B7: 258439.5 | C7: 323077.6 | D7: 399881.7 | E7: 477419.3 | F7: 524605.2 | G7: продовольственные товары
A8: анын ичинде: | G8: в том числе:
A9: алкоголдук ичимдиктер | B9: 16521.7 | C9: 20996.3 | D9: 26987.6 | E9: 33221.1 | F9: 36504.5 | G9: алкогольные напитки
A10: тамак-аш азыктар | B10: 241917.8 | C10: 302081.3 | D10: 372894.1 | E10: 444198.2 | F10: 488100.7 | G10: продукты питания
A11: азык-түлүк эмес товарлар | B11: 213165.5 | C11: 285354.8 | D11: 372090.6 | E11: 450463.2 | F11: 641542.5 | G11: непродовольствен- ные товары
A12: Мурунку жылга карата пайыз менен - В процентах к предыдущему году
A13: Бардыгы | B13: 116.2 | C13: 112.4 | D13: 114.5 | E13: 115.9 | F13: 118.1 | G13: Всего
A14: азык-түлүк товарлары | B14: 111.7 | C14: 107.6 | D14: 112.7 | E14: 115.9 | F14: 100.7 | G14: продовольственные товары
A15: анын ичинде: | G15: в том числе:
A16: алкоголдук ичимдиктер | B16: 109.3 | C16: 106.8 | D16: 107.8 | E16: 112.5 | F16: 101.3 | G16: алкогольные напитки
A17: тамак-аш азыктар | B17: 118.3 | C17: 107.5 | D17: 116.3 | E17: 124 | F17: 100.9 | G17: продукты питания
A18: азык-түлүк эмес товарлар | B18: 122 | C18: 118.2 | D18: 116.6 | E18: 114 | F18: 134 | G18: непродовольствен- ные товары

Sheet 1.5., 1.6.
A1: Мазмуну | G1: Содержание
A2: 1.5. Тамактануу ишканаларын кошкондогу, чекене соода жүгүртүү, сатып өткөрүү каналдары боюнча | E2: Оборот розничной торговли, включая предприятия питания, по каналам реализации
B4: 2021 | C4: 2022 | D4: 2023 | E4: 2024 | F4: 2025
B5: Млн. сом - Млн. сомов
A6: Бардыгы | B6: 471605 | C6: 608432.4 | D6: 771972.3 | E6: 927882.5 | F6: 1166147.7 | G6: Всего
A7: анын ичинде: | G7: в том числе:
A8: сатуучу ишканалардын | B8: 293289.4 | C8: 384678.4 | D8: 499324.7 | E8: 645243 | F8: 783946.4 | G8: торгующих предприятий
A9: буюм-терим, аралаш жана азык-түлүк базарлардын | B9: 178315.6 | C9: 223754 | D9: 272647.6 | E9: 282639.5 | F9: 382201.3 | G9: вещевых, смешанных и продовольственных рынков
A10: Жыйынтыкка карата пайыз менен - В процентах к итогу
A11: Бардыгы | B11: 100 | C11: 100 | D11: 100 | E11: 100 | F11: 100 | G11: Всего
A12: анын ичинде: | G12: в том числе:
A13: сатуучу ишканалардын | B13: 62.2 | C13: 63.2 | D13: 64.681686 | E13: 69.539301 | F13: =F8/F6*100 -> 67.225309 | G13: торгующих предприятий
A14: буюм-терим, аралаш жана азык-түлүк базарлардын | B14: 37.8 | C14: 36.8 | D14: 35.318314 | E14: 30.460699 | F14: =F9/F6*100 -> 32.774691 | G14: вещевых, смешанных и продовольственных рынков
A15: Мурунку жылга карата пайыз менен - В процентах к предыдущему году
A16: Бардыгы | B16: 116.2 | C16: 112.4 | D16: 114.5 | E16: 115.9 | F16: 118.1 | G16: Всего
A17: анын ичинде: | G17: в том числе:
A18: сатуучу ишканалардын | B18: 118.1 | C18: 114 | D18: 117.2 | E18: 124.7 | F18: 114.4 | G18: торгующих предприятий
A19: буюм-терим, аралаш жана азык-түлүк базарлардын | B19: 113.2 | C19: 109.8 | D19: 109.9 | E19: 99.8 | F19: 122.2 | G19: вещевых, смешанных и продовольственных рынков
A22: 1.6. Тамактануу ишканаларын кошкондогу, чекене соода жүгүртүү | E22: Оборот розничной торговли, включая предприятия питания
B24: 2021 | C24: 2022 | D24: 2023 | E24: 2024 | F24: 2025
B25: Млн. сом - Млн. сомов
A26: Бардыгы | B26: 471605 | C26: 608432.4 | D26: 771972.3 | E26: 927882.5 | F26: 1166147.7 | G26: Всего
A27: анын ичинен: | G27: в том числе:
A28: чекене сооданын | B28: 452101.9 | C28: 582551.8 | D28: 735963.9 | E28: 878279.8 | F28: 1100240.1 | G28: розничной торговли
A29: тамактануу ишканаларынын | B29: 19503.1 | C29: 25880.6 | D29: 36008.4 | E29: 49602.7 | F29: 65907.6 | G29: предприятий питания
A30: жүгүртүүнун жалпы көлөмүнүн ичинен: | G30: из общего объема оборота:
A31: шаар жерлериндеги | B31: 376487.8 | C31: 429663.1 | D31: 554430.9 | E31: 666405.69 | F31: 837527.4 | G31: в городских поселениях
A32: айыл жерлериндеги | B32: 95117.2 | C32: 178769.3 | D32: 217541.4 | E32: 261476.81 | F32: 328620.3 | G32: в сельской местности

Sheet 1.7.
A2: Мазмуну | G2: Содержание
A3: 1.7. Тамактануу ишканаларын кошпогондогу, чекене соода жүгүртүү | E3: Оборот розничной торговли, исключая предприятия питания
A4: (млн.сом) | E4: (млн.сомов)
B5: 2021 | C5: 2022 | D5: 2023 | E5: 2024 | F5: 2025
B7: Млн. сом - Млн. сомов
A8: Бардыгы | B8: 452101.9 | C8: 582551.8 | D8: 735963.9 | E8: 878279.8 | F8: 1100240.1 | G8: Всего
A9: анын ичинен: | G9: в том числе:
A10: сатуучу ишканалардын | B10: 274977.1 | C10: 360480.1 | D10: 465127.2 | E10: 597535.4 | F10: 721330.4 | G10: торгующих предприятий
A11: буюм-терим, аралаш жана азык-түлүк базарлардын | B11: 177124.8 | C11: 222071.7 | D11: 270836.8 | E11: 280744.4 | F11: 378909.7 | G11: вещевых, смешанных и продовольственных рынков
A12: жүгүртүүнун жалпы көлөмүнүн ичинен: | G12: из общего объема оборота:
A13: шаар жерлериндеги | B13: 359492.7 | C13: 403782.5 | D13: 511045.66 | E13: 609868.3 | F13: 763995.21 | G13: в городских поселениях
A14: айыл жерлериндеги | B14: 92609.2 | C14: 178769.3 | D14: 224918.24 | E14: 268411.5 | F14: 336244.89 | G14: в сельской местности
A16: Жыйынтыкка карата пайыз менен - В процентах к итогу
A17: Бардыгы | B17: 100 | C17: 100 | D17: 100 | E17: 100 | F17: 100 | G17: Всего
A18: анын ичинен: | G18: в том числе:
A19: сатуучу ишканалардын | B19: 60.82193 | C19: 61.879493 | D19: 63.19973 | E19: 68.034742 | F19: =F10/F8*100 -> 65.561181 | G19: торгующих предприятий
A20: буюм-терим, аралаш жана азык-түлүк базарлардын | B20: 39.17807 | C20: 38.120507 | D20: 36.800283 | E20: 31.965258 | F20: =F11/F8*100 -> 34.438819 | G20: вещевых, смешанных и продовольственных рынков
A21: жүгүртүүнун жалпы көлөмүнүн ичинен: | G21: из общего объема оборота:
A22: шаар жерлериндеги | B22: 79.515857 | C22: 69.31272 | D22: 69.438958 | E22: 69.438953 | F22: 69.438953 | G22: в городских поселениях
A23: айыл жерлериндеги | B23: 20.484143 | C23: 30.68728 | D23: 30.561042 | E23: 30.561047 | F23: 30.561047 | G23: в сельской местности
A25: Мурунку жылга карата пайыз менен - В процентах к предыдущему году
A26: Бардыгы | B26: 116.2 | C26: 112.3 | D26: 114 | E26: 115.1 | F26: 117.9 | G26: Всего
A27: анын ичинен: | G27: в том числе:
A28: сатуучу ишканалардын | B28: 118.3 | C28: 113.9 | D28: 116.5 | E28: 124 | F28: 113.8 | G28: торгующих предприятий
A29: буюм-терим, аралаш жана азык-түлүк базарлардын | B29: 113.1 | C29: 109.7 | D29: 110 | E29: 100.1 | F29: 122 | G29: вещевых, смешанных и продовольственных рынков

Sheet 1.8.
A1: Мазмуну | G1: Содержание
A2: 1.8. Тамактануу ишканаларын кошкондогу, чекене соода жүгүртүүнүн товардык түзүмү | E2: Товарная структура оборота розничной торговли, включая предприятия питания
A3: (млн.сом) | E3: (млн.сомов)
B4: 2021 | C4: 2022 | D4: 2023 | E4: 2024 | F4: 2025
A6: Бардык товарлар | B6: 471605 | C6: 608432.4 | D6: 771972.3 | E6: 927882.5 | F6: 1166147.7 | G6: Все товары
A7: Азык-түлүк товарлары | B7: 258439.6 | C7: 323077.6 | D7: 399881.7 | E7: 477419.3 | F7: 524605.2 | G7: Продовольственные товары
A8: Эт жана эт азыктары | B8: 32049.2 | C8: 39147.2 | D8: 45453.5 | E8: 54267 | F8: 63180.5 | G8: Мясо и мясопродукты
A9: Балык жана балык азыктары | B9: 1110.1 | C9: 1490.7 | D9: 2045 | E9: 2441.6 | F9: 2782.9 | G9: Рыба и рыбопродукты
A10: Тоң май | B10: 3141.9 | C10: 3935.8 | D10: 4871.4 | E10: 5816 | F10: 6491 | G10: Масло животное
A11: Өсүмдүк майы | B11: 9890.6 | C11: 12389.7 | D11: 14335.1 | E11: 17114.7 | F11: 19806.3 | G11: Масло растительное
A12: Сүт жана сүт азыктары | B12: 10767.4 | C12: 15488 | D12: 19169.9 | E12: 22887 | F12: 25149 | G12: Молоко и молочные продукты
A13: Жумуртка жана жумуртка азыктары | B13: 2780.7 | C13: 3283.4 | D13: 4163.9 | E13: 4971.3 | F13: 4562.3 | G13: Яйца и яйцепродукты
A14: Кант | B14: 9381.5 | C14: 13951.9 | D14: 16268.7 | E14: 19423.2 | F14: 20015 | G14: Сахар
A15: Кондитердик азыктар | B15: 6499.8 | C15: 8042.1 | D15: 10153.9 | E15: 12122.8 | F15: 13320.9 | G15: Кондитерские изделия
A16: Ун, нан жана нан азыктары | B16: 63586.3 | C16: 82652.9 | D16: 95301.8 | E16: 113780.8 | F16: 120286.3 | G16: Мука, хлеб и хлебобулочные изделия
A17: Картошка | B17: 5565.9 | C17: 6972.3 | D17: 8029.8 | E17: 9586.7 | F17: 14899.1 | G17: Картофель
... A40: Курулуш материалдары | B40: 28884.1 | C40: 35340.7 | D40: 48082.8 | E40: 58210.3 | F40: 84470.7 | G40: Строительные материалы

Sheet 1.9.
A1: Мазмуну | G1: Содержание
A2: 1.9. Тамактануу ишканаларын кошкондогу, чекене соода жүгүртүүнүн товардык түзүмү | E2: Товарная структура оборота розничной торговли, включая предприятия питания
A3: (мурунку жылга карата пайыз менен) | E3: (в процентах к предыдущему году)
B4: 2021 | C4: 2022 | D4: 2023 | E4: 2024 | F4: 2025
A6: Бардык товарлар | B6: 116.2 | C6: 112.4 | D6: 114.5 | E6: 115.9 | F6: 118.1 | G6: Все товары
A7: Азык-түлүк товарлары | B7: 111.7 | C7: 107.6 | D7: 112.7 | E7: 115.9 | F7: 100.7 | G7: Продовольственные товары
A8: Эт жана эт азыктары | B8: 103.7 | C8: 110.6 | D8: 107 | E8: 114.8 | F8: 100.7 | G8: Мясо и мясопродукты
A9: Балык жана балык азыктары | B9: 119.5 | C9: 113.6 | D9: 116 | E9: 114.4 | F9: 101.1 | G9: Рыба и рыбопродукты
A10: Тоң май | B10: 102.7 | C10: 100 | D10: 112.4 | E10: 114.7 | F10: 100.5 | G10: Масло животное
A11: Өсүмдүк майы | B11: 101.7 | C11: 113.3 | D11: 128.9 | E11: 127.8 | F11: 101.4 | G11: Масло растительное
A12: Сүт жана сүт азыктары | B12: 111 | C12: 109.9 | D12: 112.1 | E12: 115.5 | F12: 104.4 | G12: Молоко и молочные продукты
A13: Жумуртка жана жумуртка азыктары | B13: 101.3 | C13: 115.9 | D13: 111.7 | E13: 113.9 | F13: 100.7 | G13: Яйца и яйцепродукты
A14: Кант | B14: 101.3 | C14: 107.5 | D14: 116.5 | E14: 128.7 | F14: 108.1 | G14: Сахар
A15: Кондитердик азыктар | B15: 108.5 | C15: 103.4 | D15: 109.5 | E15: 112.9 | F15: 103.8 | G15: Кондитерские изделия
A16: Ун, нан жана нан азыктары | B16: 114.5 | C16: 105.3 | D16: 107.7 | E16: 109.9 | F16: 102.9 | G16: Мука, хлеб и хлебобулочные изделия
A17: Картошка | B17: 105.6 | C17: 123.8 | D17: 109.4 | E17: 128.8 | F17: 100.4 | G17: Картофель
... A40: Курулуш материалдары | B40: 115.4 | C40: 107.9 | D40: 122.9 | E40: 112 | F40: 135.5 | G40: Строительные материалы

Sheet 1.10.
A1: Мазмуну | G1: Содержание
A2: 1.10. Алкоголдук ичимдиктердин жана пивонун ресурстары | F2: Ресурсы алкогольных напитков и пива
A3: (миң декалитр) | F3: (тыс.декалитров)
B4: 2021 | C4: 2022 | D4: 2023 | E4: 2024 | F4: 2025
A6: Арак жана ликер-арак ичимдиктери | G6: Водка и ликеро-водочные изделия
A7: Ички рынокто сатуу үчүн ресурстар | B7: 669.9 | C7: 717.4 | D7: 852.8 | E7: 1317.7 | F7: 1494.2 | G7: Ресурсы для продажи на внутреннем рынке
A8: Өндүрүш | B8: 558.7 | C8: 836.4 | D8: 1078.3 | E8: 1487.6 | F8: 1499.6 | G8: Производство
A9: Импорт | B9: 247.5 | C9: 251.9 | D9: 516.2 | E9: 589.5 | F9: 435.1 | G9: Импорт
A10: Экспорт | B10: 136.3 | C10: 370.9 | D10: 741.7 | E10: 143.4 | F10: 440.5 | G10: Экспорт
A11: Шарап | G11: Вино
A12: Ички рынокто сатуу үчүн ресурстар | B12: 372 | C12: 310 | D12: 205 | E12: 214 | F12: 506.2 | G12: Ресурсы для продажи на внутреннем рынке
A13: Өндүрүш | B13: 182.4 | C13: 133.1 | D13: 87.9 | E13: 81.3 | F13: 130.7 | G13: Производство
A14: Импорт | B14: 200 | C14: 180.4 | D14: 119.6 | E14: 134.4 | F14: 378 | G14: Импорт
A15: Экспорт | B15: 10.4 | C15: 3.7 | D15: 2.2 | E15: 1.7 | F15: 2.5 | G15: Экспорт
A16: Коньяк | G16: Коньяк
A17: Ички рынокто сатуу үчүн ресурстар | B17: 119.8 | C17: 147.3 | D17: 165.9 | E17: 138.7 | F17: 170.7 | G17: Ресурсы для продажи на внутреннем рынке
A18: Өндүрүш | B18: 142.8 | C18: 172.9 | D18: 169.9 | E18: 143.4 | F18: 170.5 | G18: Производство
A19: Импорт | B19: 4.6 | C19: 1.2 | D19: 7.9 | E19: 3.5 | F19: 0.3 | G19: Импорт
A20: Экспорт | B20: 27.6 | C20: 26.8 | D20: 11.9 | E20: 8.2 | F20: 0.1 | G20: Экспорт
A21: Шампан | G21: Шампанское
A22: Ички рынокто сатуу үчүн ресурстар | B22: 43.7 | C22: 57.2 | D22: 41.7 | E22: 20.4 | F22: 32.2 | G22: Ресурсы для продажи на внутреннем рынке
A23: Өндүрүш | B23: 37.8 | C23: 45.4 | D23: 40 | E23: 19.3 | F23: 29.3 | G23: Производство
A24: Импорт | B24: 8.8 | C24: 12 | D24: 1.8 | E24: 2.1 | F24: 3 | G24: Импорт
A25: Экспорт | B25: 2.9 | C25: 0.2 | D25: 0.1 | E25: 1 | F25: 0.1 | G25: Экспорт
A26: Пиво | G26: Пиво
A27: Ички рынокто сатуу үчүн ресурстар | B27: 3314.5 | C27: 3818.7 | D27: 5738.1 | E27: 6350.3 | F27: 5492.6 | G27: Ресурсы для продажи на внутреннем рынке
A28: Өндүрүш | B28: 2152.3 | C28: 2507.6 | D28: 5005.4 | E28: 5138.2 | F28: 5352.8 | G28: Производство
A29: Импорт | B29: 1169.1 | C29: 1331.1 | D29: 1073.7 | E29: 1517.5 | F29: 163.9 | G29: Импорт
A30: Экспорт | B30: 6.9 | C30: 20 | D30: 341 | E30: 305.4 | F30: 24.1 | G30: Экспорт
A32: ¹ Тамактануу ишканаларын кошкондо чекене соода жүгүртүүсү.
A33: ¹ Оборот розничной торговли, включая предприятия питания.

Sheet 1.11., 1.12
A1: Мазмуну | G1: Содержание
A2: 1.11. Калктын адам башына тамактануу ишканаларын кошкондогу чекене соода жүгүртүү т | E2: Оборот розничной торговли на душу населения, включая предприятия питания
B4: 2021 | C4: 2022 | D4: 2023 | E4: 2024 | F4: 2025
B5: Сом - Сомов
A6: Бардыгы | B6: 73266 | C6: 95623 | D6: 119181.2 | E6: 140596.8 | F6: 158809 | G6: Всего
A7: анын ичинде: | G7: в том числе:
A8: азык-түлүк товарлары | B8: 40150 | C8: 50776 | D8: 61736 | E8: 72341 | F8: 71442 | G8: продовольственные товары
A9: азык-түлүк эмес товарлар | B9: 33116 | C9: 44847 | D9: 57445 | E9: 68256 | F9: 87367 | G9: непродовольственные товары
A10: Мурунку жылга карата пайыз менен - В процентах к предыдущему году
A11: Бардыгы | B11: 115 | C11: 113.7 | D11: 112.5 | E11: 112.3 | F11: 110.4 | G11: Всего
A12: анын ичинде: | G12: в том числе:
A13: азык-түлүк товарлары | B13: 110.5 | C13: 108.9 | D13: 110.6 | E13: 113.8 | F13: 104.1 | G13: продовольственные товары
A14: азык-түлүк эмес товарлар | B14: 120.8 | C14: 119.6 | D14: 114.6 | E14: 110.8 | F14: 131.9 | G14: непродовольственные товары
A16: 1.12. Калктын адам башына эсепте- генде негизги тамак-аш азыктарын керектөө1 | E16: Потребление основных продуктов питания на душу населения1
B18: 2021 | C18: 2022 | D18: 2023 | E18: 2024 | F18: 2025
B19: Жылына килограмм - Килограммов в год
A20: Эт жана эт азыктары | B20: 44.7 | C20: 46.9 | D20: 46.4 | E20: 50.9 | F20: 53.6 | G20: Мясо и мясопродукты
A21: Сүт жана сүт азыктары | B21: 221.9 | C21: 220.3 | D21: 238.5 | E21: 230.5 | F21: 239.4 | G21: Молоко и молочные продукты
A22: Жумуртка, даана | B22: 103.7 | C22: 121.6 | D22: 132.5 | E22: 126 | F22: 139.1 | G22: Яйца, штук
A23: Балык жана балык азыктары | B23: 1.4 | C23: 3 | D23: 4.9 | E23: 3.7 | F23: 4.3 | G23: Рыба и рыбопродукты
A24: Кант | B24: 23.7 | C24: 29.3 | D24: 25 | E24: 21.6 | F24: 25.3 | G24: Сахар
A25: Өсүмдүк майы | B25: 13.6 | C25: 9.3 | D25: 10.6 | E25: 12.7 | F25: 13.5 | G25: Растительное масло
A26: Картошка | B26: 111.3 | C26: 105.7 | D26: 106.9 | E26: 101.7 | F26: 101.4 | G26: Картофель
A27: Жашылча жана бакча өсүмдүктөрү | B27: 173.9 | C27: 177.6 | D27: 189.6 | E27: 213.4 | F27: 191.7 | G27: Овощи и бахчевые культуры
A28: Буудай жана аны кайра иштетүү продуктылары (унга айландыргандагы ун) | B28: 69.6 | C28: 87.4 | D28: 83.3 | E28: 87.7 | F28: 91.2 | G28: Пшеница и продукты его переработки (в пересчете на муку)
A29: Мөмө-жемиш | B29: 32.5 | C29: 44.6 | D29: 69 | E29: 76 | F29: 78.8 | G29: Фрукты и ягоды
A31: 1 Айыл чарба продукциясы жана тамак-аш продуктуларынын айрым түрлөрүнүн эсептелген азык-түлүк теңдемдеринин (баланстарынын) маалыматтары боюнча.
A34: 1 По данным расчетных продовольственных балансов отдельных видов сельскохозяйственной продукции и продуктов питания.

Sheet 1.12, 1.13.
A1: Мазмуну | G1: Содержание
A2: уландысы | G2: продолжение
B3: 2021 | C3: 2022 | D3: 2023 | E3: 2024 | F3: 2025
A4: Мурунку жылга карата пайыз менен - В процентах к предыдущему году
A5: Эт жана эт азыктары | B5: 102.8 | C5: 104.9 | D5: 98.933902 | E5: 109.69828 | F5: 105.3 | G5: Мясо и мясопродукты
A6: Сүт жана сүт азыктары | B6: 101.5 | C6: 99.3 | D6: 108.26146 | E6: 96.645702 | F6: 103.8 | G6: Молоко и молочные продукты
A7: Жумуртка, даана | B7: 103 | C7: 117.3 | D7: 108.96382 | E7: 95.09434 | F7: 110.4 | G7: Яйца, штук
A8: Балык жана балык азыктары | B8: 140 | C8: 214.2 | D8: 163.33333 | E8: 75.510204 | F8: 116.2 | G8: Рыба и рыбопродукты
A9: Кант | B9: 147.2 | C9: 123.6 | D9: 70.422535 | E9: 87.6 | F9: 117.1 | G9: Сахар
A10: Өсүмдүк майы | B10: 100.7 | C10: 68.4 | D10: 68.831169 | E10: 119.81132 | F10: 106.3 | G10: Растительное масло
A11: Картошка | B11: 101.59925 | C11: 97.9 | D11: 101.13529 | E11: 95.135641 | F11: 99.7 | G11: Картофель
A12: Жашылча жана бакча өсүмдүктөрү | B12: 94.2 | C12: 102.1 | D12: 106.75676 | E12: 112.55274 | F12: 89.8 | G12: Овощи и бахчевые культуры
A13: Буудай жана аны кайра иштетүү продуктылары (унга айландыргандагы ун) | B13: 79.2 | C13: 125.6 | D13: 95.308924 | E13: 105.28211 | F13: 104 | G13: Пшеница и продукты его переработки (в пересчете на муку)
A14: Мөмө-жемиш | B14: 97.6 | C14: 137.2 | D14: 154.70852 | E14: 110.14493 | F14: 103.7 | G14: Фрукты и ягоды
A18: 1.13. Буюм-терим, аралаш жана азык-түлүк базарлардын саны | E18: Число вещевых, смешанных и продовольственных рынков
A19: (жылдын аягына карата) | E19: (на конец года)
B20: 2021 | C20: 2022 | D20: 2023 | E20: 2024 | F20: 2025
A22: Бардыгы | B22: 352 | C22: 337 | D22: 352 | E22: 332 | F22: 315 | G22: Всего
A23: анын ичинде: | G23: в том числе:
A24: азык-түлүк | B24: 92 | C24: 36 | D24: 38 | E24: 38 | F24: 35 | G24: продовольственные
A25: буюм-терим | B25: 81 | C25: 68 | D25: 80 | E25: 60 | F25: 63 | G25: вещевые
A26: аралаш | B26: 127 | C26: 189 | D26: 186 | E26: 187 | F26: 174 | G26: смешанные
A27: мал сатуу боюнча | B27: 42 | C27: 35 | D27: 38 | E27: 36 | F27: 33 | G27: по продаже скота
A28: автоунааларды жана автоунаалардын тетиктерин сатуу боюнча | B28: 10 | C28: 9 | D28: 10 | E28: 11 | F28: 10 | G28: по продаже автомобилей и автозапчастей

Sheet 1.14.
A1: Мазмуну | G1: Содержание
A2: 1.14. Тамак-аш азыктарынын айрым түрлөрүнүн орточо керектөө баалары | E2: Средние потребительские цены на отдельные виды продуктов питания
A3: (жылдын аягына карата, килограмм, литр сом менен) | E3: (на конец года, сомов за килограмм, литр)
B4: 2021 | C4: 2022 | D4: 2023 | E4: 2024 | F4: 2025
A6: Уй эти | B6: 483 | C6: 543.1988 | D6: 542.83079 | E6: 622.05332 | F6: 710.2 | G6: Говядина
A7: Чочко эти | B7: 396.6 | C7: 487.37322 | D7: 480.30825 | E7: 490.61164 | F7: 513.8 | G7: Свинина
A8: Канаттуулардын эти | B8: 319.2 | C8: 344.31902 | D8: 349.77014 | E8: 361.08864 | F8: 397.4 | G8: Мясо птицы
A9: Сууга бышырылган колбаса | B9: 421.1 | C9: 466.0351 | D9: 482.18739 | E9: 505.30413 | F9: 517.1 | G9: Колбаса вареная
A10: Сосискалар, сарделькалар | B10: 345.2 | C10: 387.6497 | D10: 409.16176 | E10: 440.35685 | F10: 452.9 | G10: Сосиски, сардельки
A11: Жарым жартылай ышталган колбасалар | B11: 434.7 | C11: 468.52748 | D11: 481.71127 | E11: 519.57079 | F11: 524 | G11: Колбаса полу копченая
A12: Бууга бышырылып консерваланган уйдун эти, 500 гр. | B12: 258.6 | C12: 307.05696 | D12: 330.10979 | E12: 341.59941 | F12: 378.2 | G12: Говядина тушеная консервированная, 500гр.
A13: Тирүү жана муздатылган балык | B13: 250.8 | C13: 332.54779 | D13: 363.68153 | E13: 378.52662 | F13: 476.9 | G13: Рыба живая и охлажденная
A14: Тоңдурулган балык (деликатестен башка) | B14: 225.5 | C14: 285.81011 | D14: 279.63815 | E14: 284.17006 | F14: 348.1 | G14: Рыба мороженая (без деликатесной)
A15: Май кошулган накта балык консервалары, 125 гр. | B15: 52.9 | C15: 67.126413 | D15: 73.587972 | E15: 77.910826 | F15: 85.2 | G15: Консервы рыбные натуральные с добавлением масла, 125 гр.
A16: Чалган май | B16: 386.4 | C16: 480.71861 | D16: 497.61713 | E16: 554.11116 | F16: 613 | G16: Масло сливочное
A17: Күнкарама майы | B17: 176.1 | C17: 179.5278 | D17: 151.99015 | E17: 158.35865 | F17: 187.4 | G17: Масло подсолнечное
... A19: Куюп сатылуучу накта сүт | B19: 50.1 | C19: 61.03496 | D19: 61.359375 | E19: 63.487507 | F19: 70 | G19: Молоко цельное разливное
A20: Каймак | B20: 250.4 | C20: 320.55144 | D20: 334.10973 | E20: 339.98527 | G20: Сметана
A21: Ачытылган сүт азыктары (кефир, айран) | B21: 56.6 | C21: 73.147042 | D21: 75.68151 | E21: 81.148551 | F21: 88.7 | G21: Кисломолочные продукты (кефир, айран)
A22: Майлуу быштак | B22: 379.2 | C22: 469.52931 | D22: 497.87323 | E22: 537.50197 | F22: 587.74997 | G22: Творог жирный
A23: Майлуулугу аз быштак | B23: 246.3 | C23: 303.96588 | D23: 330.63651 | E23: 343.52136 | F23: 371.80766 | G23: Творог нежирный
A24: Катуу сычуж сырлар | B24: 484.6 | C24: 569.94774 | D24: 607.71435 | E24: 637.50636 | F24: 668.94092 | G24: Сыры сычужные твердые
A25: Консерваланган жашыл буурчак, 420 гр. | B25: 83 | C25: 101.5104 | D25: 119.88841 | E25: 124.10993 | F25: 131.65999 | G25: Горошек зеленый консервированный, 420гр.
A26: Томат паста | B26: 135.5 | C26: 161.63511 | D26: 182.07312 | E26: 191.24305 | F26: 198.35998 | G26: Томатная паста
A27: Мөмө ширелери | B27: 85.4 | C27: 104.51599 | D27: 114.40212 | E27: 121.32069 | F27: 143.52922 | G27: Соки фруктовые
A28: Жумуртка, миң даана | B28: 104.1 | C28: 113.99758 | D28: 125.15649 | E28: 122.25021 | F28: 118.22527 | G28: Яйца, за десяток
A29: Кумшекер | B29: 70.8 | C29: 91.573276 | D29: 83.089314 | E29: 79.585252 | F29: 80.324713 | G29: Сахар-песок
A30: Печенье, 250 гр. | B30: 40.1 | C30: 49.889248 | D30: 53.983309 | E30: 57.060546 | F30: 59.709209 | G30: Печенье, 250 гр.
A31: Кара байха чай, 100гр. | B31: 83.1 | C31: 95.765992 | D31: 99.80678 | E31: 105.69857 | F31: 112.99833 | G31: Чай черный, байховый 100 гр.
A32: Эритилүүчү накта кофе, 100 гр. | B32: 216.3 | C32: 262.45226 | D32: 285.98607 | E32: 307.42797 | F32: 334.68487 | G32: Кофе натуральный растворимый, 100 гр.
... A41: Буурчак | B41: 55.5 | C41: 67.569469 | D41: 66.995893 | E41: 66.798165 | F41: 72.133634 | G41: Горох

Sheet 1.14., 1.15.
A1: Мазмуну | G1: Содержание
A2: уландысы | G2: продолжение
B3: 2021 | C3: 2022 | D3: 2023 | E3: 2024 | F3: 2025
A5: Макарон | B5: 109.1 | C5: 136.70548 | D5: 142.25208 | E5: 146.53976 | F5: 155.03 | G5: Макароны
A6: Картошка | B6: 40.1 | C6: 32.112707 | D6: 31.451059 | E6: 44.639205 | F6: 52.42 | G6: Картофель
A7: Жаңы үзүлгөн ак капуста | B7: 44.4 | C7: 32.048059 | D7: 41.824751 | E7: 36.763196 | F7: 38.95 | G7: Капуста свежая белокочанная
A8: Баш пияз | B8: 25.4 | C8: 34.100562 | D8: 31.467252 | E8: 33.114137 | F8: 40.01 | G8: Лук репчатый
A9: Кызылча | B9: 43.6 | C9: 45.4519 | D9: 48.541421 | E9: 51.123389 | F9: 57.42 | G9: Свекла
A10: Сабиз | B10: 36.9 | C10: 34.979016 | D10: 40.134308 | E10: 40.852089 | F10: 51.26 | G10: Морковь
A11: Алма | B11: 66.5 | C11: 58.788356 | D11: 84.403607 | E11: 68.811263 | F11: 86.37 | G11: Яблоки
A12: Мандарин, апельсин | B12: 157.1 | C12: 203.04797 | D12: 236.56775 | E12: 224.19487 | F12: 235.29 | G12: Мандарины, апельсины
A13: Арак, 0,5 л | B13: 220.8 | C13: 290.6642 | D13: 329.48495 | E13: 372.68362 | F13: 414.39 | G13: Водка, 0,5 л
A14: Мекенибизде чыгарылган коньяк, 0,5 л | B14: 478.5 | C14: 518.23904 | D14: 550.88907 | E14: 597.58152 | F14: 609.73 | G14: Коньяк отечественный, 0,5 л
A15: Шампан, 0,7 л | B15: 244 | C15: 290.32998 | D15: 303.45222 | E15: 332.14322 | F15: 363.46 | G15: Шампанское, 0,7 л
A16: Бөтөлкөдөгү пиво, 0,5 л | B16: 62.3 | C16: 79.289645 | D16: 86.204227 | E16: 96.446484 | F16: 102.24 | G16: Пиво в бутылках, 0,5 л
... A18: Коомдук тамактануу ишканаларында түштөнүү (адам башына) | B18: 358.2 | C18: 386.44961 | D18: 428.61003 | E18: 454.04664 | F18: 486.42444 | G18: Обед на предприятиях общественного питания (на человека)
A22: 1.15. Тамак-аш азыктарынын жана азык-түлүк эмес товарлардын керектөө бааларынын индекстери¹ | E22: Индексы потребительских цен на продукты питания и непродовольственные товары¹
A23: (декабрь мурунку жылдын декабрына карата, пайыз менен) | E23: (декабрь к декабрю предыдущего года, в процентах)
B24: 2021 | C24: 2022 | D24: 2023 | E24: 2024 | F24: 2025
A26: Бардык товарлар | B26: 111.2 | C26: 114.69769 | D26: 107.2749 | E26: 106.33304 | F26: 109.4 | G26: Все товары
A27: Тамак-аш азыктары | B27: 112.3 | C27: 116.9 | D27: 105.1 | E27: 106.35718 | F27: 109.5 | G27: Продукты питания
A28: азык-түлүк товарлары | B28: 113 | C28: 115.63145 | D28: 104.5 | E28: 105.67579 | F28: 109.8 | G28: продовольственные товары
A29: алкоголдук ичимдиктер | B29: 108.1 | C29: 128.986 | D29: 110.25632 | E29: 111.73363 | F29: 107.2 | G29: алкогольные напитки
A30: Азык-түлүк эмес товарлар (тамекини кошкондо) | B30: 112.5 | C30: 115.16303 | D30: 111.11694 | E30: 104.83063 | F30: 106.5 | G30: Непродовольственные товары (включая табачные изделия)
A34: 1 Бул жерде жана мындан ары соода классификациясы боюнча.
A35: 1 Здесь и далее - в соответствии с торговой классификацией.

Sheet 1.16. 1.17
A1: Мазмуну | G1: Содержание
A2: 1.16. Тамак-аш азыктарнын айрым топ- торунун керектөө бааларынын индекстери | F2: Индексы цен на отдельные группы продуктов питания
A3: (декабрь мурунку жылдын декабрына карата, пайыз менен) | F3: (декабрь к декабрю предыдущего года, в процентах)
B4: 2021 | C4: 2022 | D4: 2023 | E4: 2024 | F4: 2025
A6: Эт жана канаттулардын эти | B6: 112.1 | C6: 113.34441 | D6: 101.23358 | E6: 111.91595 | F6: 114.11429 | G6: Мясо и птица
A7: Колбаса азыктары жана ышталганы | B7: 114.2 | C7: 109.55337 | D7: 104.39749 | E7: 107.10245 | F7: 102.77346 | G7: Колбасные изделия и копчености
A8: Балык азыктары | B8: 111 | C8: 134.48194 | D8: 108.61545 | E8: 105.11202 | F8: 122.955 | G8: Рыбопродукты
A9: Тоѕ май | B9: 116.1 | C9: 122.3427 | D9: 103.14379 | E9: 109.99455 | F9: 108.89109 | G9: Масло животное
A10: Өсүмдүк майы | B10: 123.2 | C10: 102.51481 | D10: 87.310577 | E10: 103.27524 | F10: 118.43248 | G10: Масло растительное
A11: Сүт жана сүт азыктары | B11: 119.2 | C11: 123.53899 | D11: 104.19932 | E11: 103.78454 | F11: 109.16188 | G11: Молоко и молочные продукты
A12: Сыр | B12: 110.8 | C12: 122.57281 | D12: 104.87081 | E12: 103.97438 | F12: 104.60715 | G12: Сыр
A13: Жумуртка | B13: 112.3 | C13: 109.4493 | D13: 109.37876 | E13: 98.040275 | F13: 96.432114 | G13: Яйца
A14: Кант | B14: 131 | C14: 130.52215 | D14: 90.606795 | E14: 95.819607 | F14: 100.32798 | G14: Сахар
A15: Кондитердик азыктар | B15: 110.3 | C15: 125.66765 | D15: 107.74055 | E15: 106.09425 | F15: 105.62855 | G15: Кондитерские изделия
A16: Нан жана нан азыктары | B16: 115.2 | C16: 117.36272 | D16: 105.17209 | E16: 101.8594 | F16: 105.29997 | G16: Хлеб и хлебобулочные продукты
A17: Акшак жана буурчак | B17: 105.3 | C17: 116.72432 | D17: 124.40857 | E17: 103.15163 | F17: 99.411322 | G17: Крупа и бобовые
... A19: Алкоголдук ичимдиктер | B19: 108.1 | C19: 128.986 | D19: 110.25632 | E19: 111.73363 | F19: 107.23648 | G19: Алкогольные напитки
A21: 1.17. Азык-түлүк эмес товарлардын айрым топторунун керектөө бааларынын индекстери | F21: Индексы цен на отдельные группы непродовольствен- ных товаров
A22: (декабрь мурунку жылдын декабрына карата, пайыз менен) | F22: (декабрь к декабрю предыдущего года, в процентах)
B23: 2021 | C23: 2022 | D23: 2023 | E23: 2024 | F23: 2025
A25: Сырткы трикотаж кийимдер | B25: 101.1 | C25: 103.5 | D25: 113.39198 | E25: 103.34151 | F25: 103.36248 | G25: Верхний трикотаж
A26: Ички трикотаж кийимдер | B26: 105 | C26: 106 | D26: 117.01096 | E26: 107.44422 | F26: 102.44357 | G26: Бельевой трикотаж
A27: Байпак- тар | B27: 102.6 | C27: 106.3 | D27: 113.61125 | E27: 105.63266 | F27: 102.70695 | G27: Чулочно-носочные изделия
A28: Булгаарыдан, текстилден жасалган жана аралаш бут кийим | B28: 103.6 | C28: 107.3 | D28: 114.59202 | E28: 105.19786 | F28: 103.12859 | G28: Кожаная, текстильная и комбинированная обувь
A29: Жуугуч тазалагыч каражаттар | B29: 103 | C29: 113.3 | D29: 107.11354 | E29: 97.555981 | F29: 103.64 | G29: Моющие средства
A30: Парфюмериялык- косметикалык товарлар | B30: 101.8 | C30: 104.4 | D30: 114.64135 | E30: 103.21654 | F30: 103.2699 | G30: Парфюмерно-косметические товары
A31: Галантерея | B31: 115.7 | C31: 108.8 | D31: 106.99719 | E31: 95.916375 | F31: 110.84829 | G31: Галантерея
A32: Тамеки | B32: 110 | C32: 118.4 | D32: 113.58141 | E32: 110.7893 | F32: 109.76757 | G32: Табачные изделия
A33: Эмерек | B33: 106.2 | C33: 108.8 | D33: 107.18177 | E33: 104.90954 | F33: 104.84619 | G33: Мебель
A34: Саатар | B34: 106.9 | C34: 111.8 | D34: 107.57059 | E34: 109.99612 | F34: 114.50441 | G34: Часы
A35: Электр товарлары | B35: 103.7 | C35: 111.4 | D35: 111.54852 | E35: 101.56926 | F35: 103.96718 | G35: Электротовары
A36: Телерадио товарлар | B36: 103.3 | C36: 104.6 | D36: 105.18915 | E36: 101.80811 | F36: 103.73348 | G36: Теле радиотовары
... A38: Зергер буюмдары | B38: 122.9 | C38: 113.7 | D38: 110.52683 | E38: 118.74852 | F38: 134.8 | G38: Ювелирные изделия

Sheet 2.1.
A1: Мазмуну | G1: Содержание
A2: 2. Керектөө рыногу аймактар боюнча
A3: Потребительский рынок по территории
A5: 2.1. Экономикалык ишмердиктин түрлөрү боюнча соода жүгүртүү | E5: Оборот торговли по видам экономической деятельности
A6: (млн. сом) | E6: (млн. сомов)
B7: 2021 | C7: 2022 | D7: 2023 | E7: 2024 | F7: 2025
A9: Дүң жана чекене соода, автоунааларды жана мотоциклдерди оңдоо
A10: Оптовая и розничная торговля, ремонт автомобилей и мотоциклов
A12: Кыргыз Республикасы | B12: 754902.1 | C12: 1000897.9 | D12: 1384371.4 | E12: 1778182.3 | F12: 2238489.8 | G12: Кыргызская Республика
A13: Баткен облусу | B13: 16188.3 | C13: 20018.1 | D13: 23814.5 | E13: 25354.7 | F13: 31848.5 | G13: Баткенская область
A14: Жалал-Абад облусу | B14: 71697.8 | C14: 91276.7 | D14: 114685.4 | E14: 134098 | F14: 195575.8 | G14: Джалал-Абадская область
A15: Ысык-Көл облусу | B15: 25025.7 | C15: 33443.6 | D15: 39267.3 | E15: 47156.9 | F15: 51268.4 | G15: Иссык-Кульская область
A16: Нарын облусу | B16: 10140.4 | C16: 12639.6 | D16: 15831.5 | E16: 18931.8 | F16: 21337 | G16: Нарынская область
A17: Ош облусу | B17: 48279.8 | C17: 61984.7 | D17: 76071 | E17: 90039.7 | F17: 102740.5 | G17: Ошская область
A18: Талас облусу | B18: 19280.5 | C18: 24386.6 | D18: 30564.7 | E18: 34592.5 | F18: 40919.8 | G18: Таласская область
A19: Чүй облусу | B19: 99735.5 | C19: 129072.6 | D19: 160388.9 | E19: 265308.5 | F19: 280195 | G19: Чуйская область
A20: Бишкек ш. | B20: 404161.3 | C20: 554431.2 | D20: 830611.2 | E20: 1055822 | F20: 1380431 | G20: г.Бишкек
A21: Ош ш. | B21: 60392.8 | C21: 73644.8 | D21: 93136.9 | E21: 106878.2 | F21: 134173.8 | G21: г.Ош
A23: Автоунааларды жана мотоциклдерди, автоунаа бөлүктөрүн, тетиктерин жана шаймандарын сатуу
A24: Торговля автомобилями и мотоциклами, авто деталями, узлами и принадлежностями
A26: Кыргыз Республикасы | B26: 15557.5 | C26: 25126 | D26: 49957.1 | E26: 60132.6 | F26: 85833.1 | G26: Кыргызская Республика
A27: Баткен облусу | B27: 41.4 | C27: 45.2 | D27: 42.1 | E27: 45.6 | F27: 49.9 | G27: Баткенская область
A28: Жалал-Абад облусу | B28: 504.4 | C28: 625.7 | D28: 774.9 | E28: 951.9 | F28: 2068.9 | G28: Джалал-Абадская область
A29: Ысык-Көл облусу | B29: 225.1 | C29: 270.8 | D29: 311.6 | E29: 423.8 | F29: 459.8 | G29: Иссык-Кульская область
A30: Нарын облусу | B30: 11.5 | C30: 12.8 | D30: 24.9 | E30: 32.2 | F30: 50.5 | G30: Нарынская область
A31: Ош облусу | B31: 249 | C31: 266.2 | D31: 291.8 | E31: 309 | F31: 427.1 | G31: Ошская область
A32: Талас облусу | B32: 107.4 | C32: 99.4 | D32: 103.9 | E32: 109 | F32: 110.9 | G32: Таласская область
A33: Чүй облусу | B33: 1041.5 | C33: 1656.6 | D33: 2426.7 | E33: 4116.4 | F33: 10483.7 | G33: Чуйская область
A34: Бишкек ш. | B34: 12385.4 | C34: 21070.3 | D34: 44233.1 | E34: 52025.3 | F34: 66173.7 | G34: г.Бишкек
A35: Ош ш. | B35: 991.8 | C35: 1079 | D35: 1748.1 | E35: 2119.4 | F35: 6008.6 | G35: г.Ош
A37: Автоунааларды техникалык жактан тейлөө жана оңдоо
A38: Техническое обслуживание и ремонт автомобилей
A40: Кыргыз Республикасы | B40: 2640 | C40: 3860.6 | D40: 5496.9 | E40: 6963.3 | F40: 10839.6 | G40: Кыргызская Республика
A41: Баткен облусу | B41: 112.2 | C41: 153.6 | D41: 194 | E41: 212.9 | F41: 236.9 | G41: Баткенская область
A42: Жалал-Абад облусу | B42: 331.7 | C42: 422.7 | D42: 514.4 | E42: 664.8 | F42: 1077.1 | G42: Джалал-Абадская область
A43: Ысык-Көл облусу | B43: 22.8 | C43: 27.5 | D43: 38.7 | E43: 43.2 | F43: 67.5 | G43: Иссык-Кульская область
A44: Нарын облусу | B44: 11.3 | C44: 13 | D44: 22.8 | E44: 36.6 | F44: 43.3 | G44: Нарынская область
A45: Ош облусу | B45: 143.2 | C45: 184.3 | D45: 188.3 | E45: 208.7 | F45: 279.9 | G45: Ошская область
A46: Талас облусу | B46: 52.9 | C46: 61.4 | D46: 66.7 | E46: 73.9 | F46: 87.2 | G46: Таласская область
A47: Чүй облусу | B47: 809.4 | C47: 890.9 | D47: 1174 | E47: 1504.1 | F47: 3557.3 | G47: Чуйская область
...

Sheet 2.1. (2)
A1: Мазмуну | G1: Содержание
A2: уландысы | G2: продолжение
B3: 2021 | C3: 2022 | D3: 2023 | E3: 2024 | F3: 2025
B5: Мотор майын чекене сатуу
B6: Розничная торговля моторным топливом
A8: Кыргыз Республикасы | B8: 77861.7 | C8: 114723.2 | D8: 132106.5 | E8: 158404.5 | F8: 205998.7 | G8: Кыргызская Республика
A9: Баткен облусу | B9: 6360.6 | C9: 7863.2 | D9: 9550.3 | E9: 9478.8 | F9: 11651.1 | G9: Баткенская область
A10: Жалал-Абад облусу | B10: 8536.1 | C10: 14829.7 | D10: 22309.9 | E10: 25277.2 | F10: 47244.2 | G10: Джалал-Абадская область
A11: Ысык-Көл облусу | B11: 5124.7 | C11: 7540.5 | D11: 8689.8 | E11: 11414.9 | F11: 14208.1 | G11: Иссык-Кульская область
A12: Нарын облусу | B12: 2242.8 | C12: 3191 | D12: 3823.4 | E12: 4883.3 | F12: 5422.6 | G12: Нарынская область
A13: Ош облусу | B13: 5707.9 | C13: 8144.7 | D13: 10356.8 | E13: 9632.2 | F13: 16015.6 | G13: Ошская область
A14: Талас облусу | B14: 2705.7 | C14: 3056.6 | D14: 3590.1 | E14: 3759.8 | F14: 3546.2 | G14: Таласская область
A15: Чүй облусу | B15: 19470.4 | C15: 31803.7 | D15: 34834.1 | E15: 42897.6 | F15: 54380.2 | G15: Чуйская область
A16: Бишкек ш. | B16: 23611 | C16: 32186.6 | D16: 31719 | E16: 43119.4 | F16: 40887.8 | G16: г.Бишкек
A17: Ош ш. | B17: 4102.5 | C17: 6107.2 | D17: 7233.1 | E17: 7941.3 | F17: 12642.9 | G17: г.Ош
A19: Дүң соода буга автоунааларды жана мотоциклдерди сатуу кирбейт
A20: Оптовая торговля, кроме торговли автомобилями и мотоциклами
A22: Кыргыз Республикасы | B22: 300160.2 | C22: 414485.4 | D22: 642910.6 | E22: 892667.5 | F22: 1127410.1 | G22: Кыргызская Республика
A23: Баткен облусу | B23: 656.1 | C23: 1037.9 | D23: 957.6 | E23: 1305.8 | F23: 3729.3 | G23: Баткенская область
A24: Жалал-Абад облусу | B24: 6684.6 | C24: 7537.8 | D24: 8690 | E24: 14405.2 | F24: 28880 | G24: Джалал-Абадская область
A25: Ысык-Көл облусу | B25: 3522 | C25: 6346.4 | D25: 6916 | E25: 8622.7 | F25: 6293.5 | G25: Иссык-Кульская область
A26: Нарын облусу | B26: 357.6 | C26: 322.8 | D26: 786 | E26: 1372 | F26: 1907 | G26: Нарынская область
A27: Ош облусу | B27: 6224.1 | C27: 10245.8 | D27: 12323.4 | E27: 13244.7 | F27: 11678.9 | G27: Ошская область
A28: Талас облусу | B28: 3505.7 | C28: 3748.6 | D28: 4262.2 | E28: 4506.9 | F28: 6719.3 | G28: Таласская область
A29: Чүй облусу | B29: 32421.8 | C29: 37888.7 | D29: 53783.7 | E29: 134237.4 | F29: 118332.2 | G29: Чуйская область
A30: Бишкек ш. | B30: 229815 | C30: 327117.8 | D30: 528284.4 | E30: 680867.2 | F30: 907059.4 | G30: г.Бишкек
A31: Ош ш. | B31: 16973.3 | C31: 20239.6 | D31: 26907.3 | E31: 34105.6 | F31: 42810.5 | G31: г.Ош
A33: Чекене соода, буга автоунааларды жана мотоциклдерди сатуу кирбейт
A34: Розничная торговля, кроме торговли автомобилями и мотоциклами
A36: Кыргыз Республикасы | B36: 358682.7 | C36: 442702.6 | D36: 553900.3 | E36: 660014.4 | F36: 808408.3 | G36: Кыргызская Республика
A37: Баткен облусу | B37: 9018 | C37: 10918.1 | D37: 13070.5 | E37: 14311.5 | F37: 16181.3 | G37: Баткенская область
A38: Жалал-Абад облусу | B38: 55641.1 | C38: 67860.7 | D38: 82396.1 | E38: 92798.8 | F38: 116305.6 | G38: Джалал-Абадская область
A39: Ысык-Көл облусу | B39: 16131.1 | C39: 19258.4 | D39: 23311.3 | E39: 26652.4 | F39: 30239.5 | G39: Иссык-Кульская область
A40: Нарын облусу | B40: 7517.2 | C40: 9100 | D40: 11174.5 | E40: 12607.8 | F40: 13913.5 | G40: Нарынская область
A41: Ош облусу | B41: 35955.6 | C41: 43143.7 | D41: 52910.7 | E41: 66645.1 | F41: 74338.9 | G41: Ошская область
A42: Талас облусу | B42: 12908.7 | C42: 17420.6 | D42: 22541.7 | E42: 26143 | F42: 30456.1 | G42: Таласская область
A43: Чүй облусу | B43: 45992.3 | C43: 56832.6 | D43: 68170.5 | E43: 82553 | F43: 93441.7 | G43: Чуйская область
A44: Бишкек ш. | B44: 137531.1 | C44: 172318.1 | D44: 223571.5 | E44: 276121.5 | F44: 361925.9 | G44: г.Бишкек
A45: Ош ш. | B45: 37987.6 | C45: 45850.4 | D45: 56753.5 | E45: 62181.3 | F45: 71605.8 | G45: г.Ош

Sheet 2.2.
A1: Мазмуну | G1: Содержание
A2: 2.2. Экономикалык ишмердиктин түрлөрү боюнча соода жүгүртүүнүн физикалык көлөмүнүн индекстери | E2: Индексы физического объема оборота торговли по видам экономической деятельности
A3: (мурунку жылга карата пайыз менен) | D3: (в процентах к предыдущему году)
B4: 2021 | C4: 2022 | D4: 2023 | E4: 2024 | F4: 2025
A6: Дүң жана чекене соода, автоунааларды жана мотоциклдерди оңдоо
A7: Оптовая розничная торговля, ремонт автомобилей и мотоциклов
A9: Кыргыз Республикасы | B9: 121.2 | C9: 113.9 | D9: 117.9 | E9: 123.4 | F9: 117.9 | G9: Кыргызская Республика
A10: Баткен облусу | B10: 90.9 | C10: 103.6 | D10: 112.7 | E10: 101.4 | F10: 118.2 | G10: Баткенская область
A11: Жалал-Абад облусу | B11: 110.6 | C11: 108 | D11: 115.9 | E11: 111.6 | F11: 136.1 | G11: Джалал-Абадская область
A12: Ысык-Көл облусу | B12: 113.9 | C12: 115.2 | D12: 110.7 | E12: 112.5 | F12: 101.4 | G12: Иссык-Кульская область
A13: Нарын облусу | B13: 105.9 | C13: 103.1 | D13: 111.6 | E13: 113 | F13: 106 | G13: Нарынская область
A14: Ош облусу | B14: 111.6 | C14: 114.4 | D14: 116 | E14: 112.5 | F14: 107 | G14: Ошская область
A15: Талас облусу | B15: 106.3 | C15: 109.9 | D15: 115.9 | E15: 109.3 | F15: 111.9 | G15: Таласская область
A16: Чүй облусу | B16: 107 | C16: 111 | D16: 117.1 | E16: 161.9 | F16: 99.6 | G16: Чуйская область
A17: Бишкек ш. | B17: 133.8 | C17: 117.6 | D17: 120.3 | E17: 122.3 | F17: 122.4 | G17: г.Бишкек
A18: Ош ш. | B18: 113.5 | C18: 105.6 | D18: 110.2 | E18: 107.3 | F18: 115.4 | G18: г.Ош
A20: Автоунааларды жана мотоциклдерди, автоунаа бөлүктөрүн, тетиктерин жана шаймандарын сатуу
A21: Торговля автомобилями и мотоциклами, автодеталями, узлами и принадлежностями
A23: Кыргыз Республикасы | B23: 111.6 | C23: 147.7 | D23: 164.9 | E23: 121.5 | F23: 143.9 | G23: Кыргызская Республика
A24: Баткен облусу | B24: 94.8 | C24: 101.2 | D24: 90.7 | E24: 106.7 | F24: 105.3 | G24: Баткенская область
A25: Жалал-Абад облусу | B25: 102.1 | C25: 112.2 | D25: 104.3 | E25: 114.6 | F25: 213.1 | G25: Джалал-Абадская область
A26: Ысык-Көл облусу | B26: 104.2 | C26: 105.2 | D26: 112 | E26: 120.5 | F26: 102.3 | G26: Иссык-Кульская область
A27: Нарын облусу | B27: 360.1 | C27: 93.1 | D27: 141.2 | E27: 128.6 | F27: 169.5 | G27: Нарынская область
A28: Ош облусу | B28: 136.1 | C28: 101.8 | D28: 104.1 | E28: 103.7 | F28: 135.8 | G28: Ошская область
A29: Талас облусу | B29: 122.9 | C29: 91 | D29: 102 | E29: 103.1 | F29: 100.8 | G29: Таласская область
A30: Чүй облусу | B30: 88.1 | C30: 134 | D30: 140.6 | E30: 166.3 | F30: 246.8 | G30: Чуйская область
A31: Бишкек ш. | B31: 117.7 | C31: 156.4 | D31: 173.7 | E31: 120 | F31: 129.1 | G31: г.Бишкек
A32: Ош ш. | B32: 85 | C32: 100.2 | D32: 102.8 | E32: 107.2 | F32: 287.5 | G32: г.Ош
A34: Автоунааларды техникалык жактан тейлөө жана оңдоо
A35: Техническое обслуживание и ремонт автомобилей
A37: Кыргыз Республикасы | B37: 106.1 | C37: 131.1 | D37: 132 | E37: 123.3 | F37: 151.4 | G37: Кыргызская Республика
A38: Баткен облусу | B38: 106.3 | C38: 104 | D38: 102.6 | E38: 107 | F38: 105.9 | G38: Баткенская область
A39: Жалал-Абад облусу | B39: 105.6 | C39: 99.7 | D39: 103.9 | E39: 114.2 | F39: 177.3 | G39: Джалал-Абадская область
A40: Ысык-Көл облусу | B40: 123.8 | C40: 115.4 | D40: 121.7 | E40: 106.5 | F40: 144.7 | G40: Иссык-Кульская область
A41: Нарын облусу | B41: 103.1 | C41: 93.6 | D41: 95.7 | E41: 114.2 | F41: 107.1 | G41: Нарынская область
A42: Ош облусу | B42: 108.6 | C42: 104.2 | D42: 103 | E42: 104.8 | F42: 131.8 | G42: Ошская область
A43: Талас облусу | B43: 116.9 | C43: 100 | D43: 106.8 | E43: 107.8 | F43: 104.5 | G43: Таласская область
A44: Чүй облусу | B44: 115.8 | C44: 100.4 | D44: 116.4 | E44: 122.9 | F44: 235.8 | G44: Чуйская область
A45: Бишкек ш. | B45: 100.1 | C45: 194.5 | D45: 160.1 | E45: 131.6 | F45: 118.9 | G45: г.Бишкек
A46: Ош ш. | B46: 98.5 | C46: 109.2 | D46: 102 | E46: 104.4 | F46: 135.5 | G46: г.Ош

Sheet 2.2. (2)
A1: Мазмуну | G1: Содержание
A2: уландысы | G2: продолжение
B3: 2021 | C3: 2022 | D3: 2023 | E3: 2024 | F3: 2025
B5: Мотор майын чекене сатуу
B6: Розничная торговля моторным топливом
A8: Кыргыз Республикасы | B8: 109.2 | C8: 115.2 | D8: 119.5 | E8: 109 | F8: 124.8 | G8: Кыргызская Республика
A9: Баткен облусу | B9: 72 | C9: 97.4 | D9: 124.9 | E9: 92.7 | F9: 117.6 | G9: Баткенская область
A10: Жалал-Абад облусу | B10: 107.6 | C10: 132.6 | D10: 163.3 | E10: 103.8 | F10: 179.4 | G10: Джалал-Абадская область
A11: Ысык-Көл облусу | B11: 125.4 | C11: 115.4 | D11: 116.1 | E11: 112.7 | F11: 120 | G11: Иссык-Кульская область
A12: Нарын облусу | B12: 129.6 | C12: 111 | D12: 118.7 | E12: 114.8 | F12: 106.7 | G12: Нарынская область
A13: Ош облусу | B13: 114.3 | C13: 109.3 | D13: 135.2 | E13: 86.1 | F13: 161.4 | G13: Ошская область
A14: Талас облусу | B14: 130.4 | C14: 86.9 | D14: 125.1 | E14: 96.5 | F14: 90.6 | G14: Таласская область
A15: Чүй облусу | B15: 98.1 | C15: 128.4 | D15: 111 | E15: 111.1 | F15: 121.2 | G15: Чуйская область
A16: Бишкек ш. | B16: 129.7 | C16: 108 | D16: 101.7 | E16: 122.6 | F16: 91.4 | G16: г.Бишкек
A17: Ош ш. | B17: 112.8 | C17: 113.4 | D17: 124.8 | E17: 102 | F17: 149.8 | G17: г.Ош
A19: Дүң соода буга автоунааларды жана мотоциклдерди сатуу кирбейт
A20: Оптовая торговля, кроме торговли автомобилями и мотоциклами
A22: Кыргыз Республикасы | B22: 136.4 | C22: 119.3 | D22: 119.7 | E22: 134 | F22: 117.6 | G22: Кыргызская Республика
A23: Баткен облусу | B23: 134.7 | C23: 137.8 | D23: 82.4 | E23: 131.2 | F23: 265.9 | G23: Баткенская область
A24: Жалал-Абад облусу | B24: 122.2 | C24: 97.5 | D24: 101.8 | E24: 161.5 | F24: 185.5 | G24: Джалал-Абадская область
A25: Ысык-Көл облусу | B25: 163.4 | C25: 159.5 | D25: 100.7 | E25: 118.5 | F25: 67.1 | G25: Иссык-Кульская область
A26: Нарын облусу | B26: 88 | C26: 76.1 | D26: 209.3 | E26: 167.8 | F26: 129.8 | G26: Нарынская область
A27: Ош облусу | B27: 88.8 | C27: 149.9 | D27: 111.5 | E27: 102.4 | F27: 82.1 | G27: Ошская область
A28: Талас облусу | B28: 97.5 | C28: 94.4 | D28: 103 | E28: 100.4 | F28: 140.8 | G28: Таласская область
A29: Чүй облусу | B29: 122 | C29: 103.1 | D29: 130.9 | E29: 248 | F29: 82.6 | G29: Чуйская область
A30: Бишкек ш. | B30: 145 | C30: 122.3 | D30: 120 | E30: 123.9 | F30: 124 | G30: г.Бишкек
A31: Ош ш. | B31: 106.9 | C31: 104.3 | D31: 114.5 | E31: 118.7 | F31: 114.8 | G31: г.Ош
A33: Чекене соода, буга автоунааларды жана мотоциклдерди сатуу кирбейт
A34: Розничная торговля, кроме торговли автомобилями и мотоциклами
A36: Кыргыз Республикасы | B36: 113.3 | C36: 107.6 | D36: 112.8 | E36: 114.7 | F36: 113.8 | G36: Кыргызская Республика
A37: Баткен облусу | B37: 104.5 | C37: 105.5 | D37: 107 | E37: 105.4 | F37: 105.3 | G37: Баткенская область
A38: Жалал-Абад облусу | B38: 109.8 | C38: 105.4 | D38: 107.3 | E38: 108.4 | F38: 115.9 | G38: Джалал-Абадская область
A39: Ысык-Көл облусу | B39: 104.6 | C39: 105.7 | D39: 111.8 | E39: 108.7 | F39: 104.4 | G39: Иссык-Кульская область
A40: Нарын облусу | B40: 102.2 | C40: 102 | D40: 105.6 | E40: 108.4 | F40: 103 | G40: Нарынская область
A41: Ош облусу | B41: 116.3 | C41: 109.2 | D41: 113.6 | E41: 120 | F41: 103.9 | G41: Ошская область
A42: Талас облусу | B42: 105.4 | C42: 119.1 | D42: 117.2 | E42: 113.1 | F42: 110 | G42: Таласская область
A43: Чүй облусу | B43: 101.6 | C43: 109 | D43: 110.6 | E43: 120.4 | F43: 106.1 | G43: Чуйская область
A44: Бишкек ш. | B44: 120.6 | C44: 107.6 | D44: 117.6 | E44: 118.7 | F44: 122 | G44: г.Бишкек
A45: Ош ш. | B45: 118.2 | C45: 105.5 | D45: 106.6 | E45: 102.6 | F45: 105.3 | G45: г.Ош

Sheet 2.3.
A1: Мазмуну | G1: Содержание
A2: 2.3. Мейманканалар менен ресторан- дардын аймактар боюнча жүгүртүүсү | F2: Оборот гостиниц и ресторанов по территории
A3: (млн. сом) | F3: (млн. сомов)
B4: 2021 | C4: 2022 | D4: 2023 | E4: 2024 | F4: 2025
B6: Бардыгы - Всего
A8: Кыргыз Республикасы | B8: 21315.6 | C8: 29849.2 | D8: 42061.6 | E8: 59286.8 | F8: 79774 | G8: Кыргызская Республика
A9: Баткен облусу | B9: 1064.3 | C9: 1240.2 | D9: 1499.9 | E9: 1736.3 | F9: 1900.7 | G9: Баткенская область
A10: Жалал-Абад облусу | B10: 2715.6 | C10: 3366.6 | D10: 4197.9 | E10: 4748.9 | F10: 6765 | G10: Джалал-Абадская область
A11: Ысык-Көл облусу | B11: 796.1 | C11: 1219 | D11: 1400.3 | E11: 2520.3 | F11: 3941.2 | G11: Иссык-Кульская область
A12: Нарын облусу | B12: 74.2 | C12: 88 | D12: 112.8 | E12: 257.1 | F12: 371.2 | G12: Нарынская область
A13: Ош облусу | B13: 1196.5 | C13: 1435.7 | D13: 1699.3 | E13: 2087.3 | F13: 2854.7 | G13: Ошская область
A14: Талас облусу | B14: 263.9 | C14: 448.3 | D14: 526.3 | E14: 610.6 | F14: 730.4 | G14: Таласская область
A15: Чүй облусу | B15: 2676 | C15: 4129.4 | D15: 5607.8 | E15: 3442.2 | F15: 3912.3 | G15: Чуйская область
A16: Бишкек ш. | B16: 10242.8 | C16: 15119.5 | D16: 23743.9 | E16: 40428.3 | F16: 54779.2 | G16: г.Бишкек
A17: Ош ш. | B17: 2286.2 | C17: 2802.5 | D17: 3273.4 | E17: 3455.8 | F17: 4519.3 | G17: г.Ош
A19: Мейманканалардын жана туристтик жашоо үчүн, ошондой эле кыска мөөнөткө жашоо үчүн башка жайлардын кызмат көрсөтүүсү
A20: Гостиниц и услуг для туристского проживания, а также прочих мест для краткосрочного проживания
A22: Кыргыз Республикасы | B22: 1812.5 | C22: 3968.6 | D22: 6053.2 | E22: 9684.1 | F22: 13866.4 | G22: Кыргызская Республика
A23: Баткен облусу | B23: 8 | C23: 9.9 | D23: 18 | E23: 25.4 | F23: 20.6 | G23: Баткенская область
A24: Жалал-Абад облусу | B24: 56.9 | C24: 64.2 | D24: 90.2 | E24: 134.4 | F24: 256.8 | G24: Джалал-Абадская область
A25: Ысык-Көл облусу | B25: 525.7 | C25: 822.1 | D25: 893 | E25: 1705.4 | F25: 3013.8 | G25: Иссык-Кульская область
A26: Нарын облусу | B26: 7.9 | C26: 8.7 | D26: 12.5 | E26: 79.8 | F26: 237.6 | G26: Нарынская область
A27: Ош облусу | B27: 13 | C27: 14.7 | D27: 65.6 | E27: 64.4 | F27: 74 | G27: Ошская область
A28: Талас облусу | B28: 18.5 | C28: 19.1 | D28: 19.2 | E28: 17.8 | F28: 13.9 | G28: Таласская область
A29: Чүй облусу | B29: 26.8 | C29: 56.1 | D29: 61.4 | E29: 205.3 | F29: 199.6 | G29: Чуйская область
A30: Бишкек ш. | B30: 1070.6 | C30: 2872.1 | D30: 4724.6 | E30: 7137.8 | F30: 9441.1 | G30: г.Бишкек
A31: Ош ш. | B31: 85.1 | C31: 101.7 | D31: 168.7 | E31: 313.8 | F31: 609 | G31: г.Ош
A33: Ресторандардын, барлардын, даяр тамак-аш менен камсыздоо боюнча мобилдүү жана башка кызмат көрсөтүүлөр
A34: Ресторанов, баров, мобильных и прочих услуг по обеспечению пищей
A36: Кыргыз Республикасы | B36: 19503.1 | C36: 25880.6 | D36: 36008.4 | E36: 49602.7 | F36: 65907.6 | G36: Кыргызская Республика
A37: Баткен облусу | B37: 1056.4 | C37: 1230.3 | D37: 1481.9 | E37: 1710.9 | F37: 1880.1 | G37: Баткенская область
A38: Жалал-Абад облусу | B38: 2658.7 | C38: 3302.4 | D38: 4107.7 | E38: 4614.5 | F38: 6508.2 | G38: Джалал-Абадская область
A39: Ысык-Көл облусу | B39: 270.3 | C39: 396.9 | D39: 507.3 | E39: 814.8 | F39: 927.4 | G39: Иссык-Кульская область
A40: Нарын облусу | B40: 66.3 | C40: 79.3 | D40: 100.3 | E40: 177.3 | F40: 133.7 | G40: Нарынская область
A41: Ош облусу | B41: 1183.5 | C41: 1420.9 | D41: 1633.6 | E41: 2023 | F41: 2780.7 | G41: Ошская область
A42: Талас облусу | B42: 245.4 | C42: 429.3 | D42: 507.1 | E42: 592.9 | F42: 716.5 | G42: Таласская область
A43: Чүй облусу | B43: 2649.3 | C43: 4073.3 | D43: 5546.4 | E43: 3236.9 | F43: 3712.6 | G43: Чуйская область
A44: Бишкек ш. | B44: 9172.1 | C44: 12247.4 | D44: 19019.3 | E44: 33290.4 | F44: 45338.1 | G44: г.Бишкек
A45: Ош ш. | B45: 2201.1 | C45: 2700.8 | D45: 3104.8 | E45: 3142 | F45: 3910.3 | G45: г.Ош

Sheet 2.4.
A1: Мазмуну | G1: Содержание
A2: 2.4. Мейманканалар менен ресторандардын жүгүртүүсүнүн физикалык көлөмүнүн индекстери | F2: Индексы физического объема оборота гостиниц и ресторанов
A3: (мурунку жылга карата пайыз менен) | D3: (в процентах к предыдущему году)
B4: 2021 | C4: 2022 | D4: 2023 | E4: 2024 | F4: 2025
B6: Бардыгы - Всего
A8: Кыргыз Республикасы | B8: 117 | C8: 120.5 | D8: 126 | E8: 137 | F8: 124.6 | G8: Кыргызская Республика
A9: Баткен облусу | B9: 102.2 | C9: 101.4 | D9: 108.6 | E9: 111.9 | F9: 102 | G9: Баткенская область
A10: Жалал-Абад облусу | B10: 107.1 | C10: 107.5 | D10: 108.6 | E10: 111.2 | F10: 130.3 | G10: Джалал-Абадская область
A11: Ысык-Көл облусу | B11: 249.7 | C11: 149.6 | D11: 111.3 | E11: 176.7 | F11: 154.8 | G11: Иссык-Кульская область
A12: Нарын облусу | B12: 107.5 | C12: 100.4 | D12: 113.2 | E12: 220.2 | F12: 138.1 | G12: Нарынская область
A13: Ош облусу | B13: 107.7 | C13: 109 | D13: 110.2 | E13: 117.9 | F13: 125.2 | G13: Ошская область
A14: Талас облусу | B14: 135.1 | C14: 150.2 | D14: 107 | E14: 111.5 | F14: 112.3 | G14: Таласская область
A15: Чүй облусу | B15: 219.2 | C15: 135 | D15: 124.7 | E15: 60.4 | F15: 105 | G15: Чуйская область
A16: Бишкек ш. | B16: 106.9 | C16: 123.7 | D16: 139.1 | E16: 165.3 | F16: 125.6 | G16: г.Бишкек
A17: Ош ш. | B17: 104.7 | C17: 106.8 | D17: 103.9 | E17: 101.7 | F17: 115.9 | G17: г.Ош
A19: Мейманканалардын жана туристтик жашоо үчүн, ошондой эле кыска мөөнөткө жашоо үчүн башка жайлардын кызмат көрсөтүүсү
A20: Гостиниц и услуг для туристического проживания, а также прочих мест для краткосрочного проживания
A22: Кыргыз Республикасы | B22: 164 | C22: 184.5 | D22: 122.3 | E22: 155.4 | F22: 137.7 | G22: Кыргызская Республика
A23: Баткен облусу | B23: 122.1 | C23: 116.9 | D23: 121.8 | E23: 116.2 | F23: 70.5 | G23: Баткенская область
