Workbook
Name Button_1: "Pokreal_CHC_List"
Name Button_2: "Pokreal_CHC_List"
Name КРыз: #REF!

Sheet Титул
A3: Национальный статистический комитет
A4: Кыргызской Республики
A14: ФИНАНСЫ ПРЕДПРИЯТИЙ
A15: КЫРГЫЗСКОЙ РЕСПУБЛИКИ
A16: 2021-2025
A23: Годовая публикация
A41: БИШКЕК - 2026

Sheet Редсовет
A2: Редакционно-издательский совет:
A3: Председатель | B3: - | C3: Б. Кудайбергенов
A4: Члены: | B4: - | C4: Н. Керималиева
B5: - | C5: Б. Шокенов
B6: - | C6: З. Жумалиев
B7: - | C7: Н. Ишенов
B8: - | C8: Ч. Турдубаева
B9: - | C9: Э. Исенкулова
B10: - | C10: А. Мамоева

Sheet Контакты
A1: Публикация «Финансы предприятий Кыргызской Республики 2021-2025» содержит анализ финансовых показателей предприятий реального и финансового секторов экономики за 2021-2025гг. В приложениях приведены статистические таблицы с годовой динамикой по видам экономической деятельности, краткие методологические пояснения к ним и график публикаций Нацстаткома на 2027г.
A3: Публикация подготовлена специалистами управления статистики финансов и цен Национального статистического комитета Кыргызской Республики.
A5: Выпускается ежегодно в печатной и электронной версии.
A7: Последний день обновления данных настоящей публикации: 20 августа 2026 года.
A9: В публикации приняты условные обозначения:
A11: - явление отсутствует;
A12: … данных не имеется;
A13: 0,0 значение показателя меньше единицы измерения.
A15: Незначительные расхождения итога от суммы слагаемых объясняются округлением данных.
A17: Электронная версия публикации доступна для пользователей на официальном сайте Нацстаткома по адресу: www.stat.gov.kg/ru/statistics/finansy/, а также c использованием прилагаемого QR – кода.
A21: Национальный статистический комитет Кыргызской Республики г. Бишкек, ул. Фрунзе 374, интернет: www.stat.gov.kg e-mail: nsc_mail@stat.kg Тел.: (+996312) 626073

Sheet Другие публикации
A1: Другие основные публикации Национального статистического комитета
A2: «Кыргызстан в цифрах»
A3: Представлены основные показатели, характеризующие социально-экономическое положение страны в 2025г. в сравнении с предыдущими годами на основе оперативных данных. Содержит информацию о населении, его занятости и уровне жизни, а также о состоянии отдельных отраслей реального сектора экономики.
A4: «Статистический ежегодник Кыргызской Республики 2021-2025»
A5: Содержит подробную информацию, основанную на уточненных данных, как в целом по республике, так и по ее регионам. Представлены данные о населении, его занятости и уровне жизни. Помещена информация о системе национальных счетов, хозяйствующих субъектах республики, малом и среднем предпринимательстве, инвестициях. Освещено положение в отдельных отраслях реального сектора экономики. Внешнеэкономическая деятельность представлена данными об объемах внешней торговли, экспорта и импорта.
A6: «Туризм в Кыргызстане 2021-2025»
A7: Представлены данные о развитии туризма в Кыргызской Республике, включая информацию о посетителях, средствах размещения туристов, объеме услуг и тарифах на эти услуги и др.
A8: «Малое и среднее предпринимательство в Кыргызской Республике 2021-2025»
A9: Представлены статистические данные по основным экономическим показателям деятельности малых и средних предприятий, крестьянских (фермерских) хозяйств и индивидуальных предпринимателей.
A10: «Деятельность предприятий с иностранными инвестициями в Кыргызской Республике 2021-2025»
A11: Представлен краткий анализ и статистические данные по основным экономическим показателям деятельности предприятий с иностранными инвестициями в 2025г. в сравнении с предыдущими годами.
A12: «Национальные счета Кыргызской Республики 2021-2025»
... A37: Содержит информацию, характеризующую состояние природных ресурсов и окружающей среды, показатели экологического воздействия на нее, а также мероприятия по ее защите.

Sheet Содержание
A1: СОДЕРЖАНИЕ
A3: № таблицы | B3: Наименование таблицы
A4: I | B4: ПРЕДПРИЯТИЯ ЭКОНОМИКИ
A5: I.А.1. | B5: Финансовые показатели предприятий экономики
A6: I.Б.1. | B6: Количество отчитавшихся предприятий экономики по видам деятельности
A7: I.Б.2. | B7: Количество рентабельных предприятий экономики по видам деятельности
A8: I.Б.3. | B8: Количество нерентабельных предприятий экономики по видам деятельности
A9: I.Б.4. | B9: Количество предприятий экономики по территории
A10: I.Б.5. | B10: Количество рентабельных предприятий экономики по территории
A11: I.Б.6. | B11: Количество нерентабельных предприятий экономики по территории
A12: I.Б.7. | B12: Активы, обязательства и капитал предприятий реального сектора
A13: I.Б.8. | B13: Активы, обязательства и капитал предприятий финансового сектора
A14: I.Б.9. | B14: Активы, обязательства и капитал Национального банка
... A237: IV.3. | B237: Количество общественных организаций по территории

Sheet IA1
A1: Вернуться в СОДЕРЖАНИЕ
A2: Таблица I.A.1: Финансовые показатели предприятий экономики
A3: (млн. сомов)
B4: 2014 | C4: 2015 | D4: 2016 | E4: 2017 | F4: 2018 | G4: 2019 | H4: 2020 | I4: 2021 | J4: 2022 | K4: 2023 | L4: 2024 | M4: 2025
A6: Выручка (валовой доход) от реализации продукции (работ, услуг) | B6: 323550 | C6: 346688.5 | D6: 384871.8 | E6: 440405.3 | F6: 460655.2 | G6: 507493.8 | H6: 547653.1 | I6: 696476.4 | J6: 882756.4 | K6: 1067806.7 | L6: 1410310.7 | M6: 2283919.9
A7: Неоперационные доходы и расходы (-) | B7: -25229.3 | C7: -55034.2 | D7: 10479.7 | E7: -23880.9 | F7: -15237.8 | G7: -8642.6 | H7: -60289.8 | I7: -18332.8 | J7: 8736.1 | K7: -38586.4 | L7: -5416.4 | M7: -31870.6
A8: Сальдированный финансовый результат (прибыль минус убыток) | B8: 15329.8 | C8: -15840.3 | D8: 53228.6 | E8: 33616.6 | F8: 34665.8 | G8: 56461.9 | H8: 24752.5 | I8: 114505.3 | J8: 193190.6 | K8: 182703 | L8: 301542.9 | M8: 430541.4
A9: Прибыль | B9: 50663 | C9: 51672.7 | D9: 67425.8 | E9: 65877.3 | F9: 61542.5 | G9: 77971.7 | H9: 97287.9 | I9: 145982.4 | J9: 234314.6 | K9: 255904.2 | L9: 362870.2 | M9: 519089.1
A10: Убытки | B10: 35333.1 | C10: 67513 | D10: 14197.2 | E10: 32260.7 | F10: 26876.7 | G10: 21509.7 | H10: 72535.4 | I10: 31477.1 | J10: 41124 | K10: 73201.2 | L10: 61327.2 | M10: 88547.8
A11: Расходы на производство и реализацию продукции (работ, услуг) | B11: 282977.5 | C11: 307474.3 | D11: 342119.7 | E11: 382906.6 | F11: 410753.3 | G11: 442250.2 | H11: 462140.5 | I11: 563631.2 | J11: 698255.3 | K11: 846436.2 | L11: 1103264.9 | M11: 1821407.6
A12: Финансовые активы | B12: 89137.8 | C12: 119586.1 | D12: 135363.7 | E12: 124450.5 | F12: 128903.3 | G12: 156124.3 | H12: 228167.1 | I12: 228162.7 | J12: 317280.7 | K12: 384714.3 | L12: 486711.3 | M12: 801441.4
A13: Денежные средства | B13: 32799.7 | C13: 32985.3 | D13: 62206.3 | E13: 55146.3 | F13: 53627.2 | G13: 49621.6 | H13: 62328.9 | I13: 102885.1 | J13: 140903.2 | K13: 164671 | L13: 242830.5 | M13: 344708.3
A14: Касса | B14: 6085.2 | C14: 6362.2 | D14: 15722.1 | E14: 15654.9 | F14: 16543.2 | G14: 16522.7 | H14: 18838 | I14: 24094.6 | J14: 32873.9 | K14: 44617.1 | L14: 60197.5 | M14: 76592.3
A15: Расчетный счет в банках | B15: 12333.6 | C15: 10340.5 | D15: 18462 | E15: 17378 | F15: 20965.5 | G15: 20057.4 | H15: 23913 | I15: 44598.9 | J15: 51464.1 | K15: 64384.4 | L15: 114243.2 | M15: 167150.5
A16: Валютный счет | B16: 14079.3 | C16: 15702.2 | D16: 27907.4 | E16: 21888.9 | F16: 15628.9 | G16: 12951.2 | H16: 19392.4 | I16: 33791.5 | J16: 56360.6 | K16: 55370.1 | L16: 67981.4 | M16: 99545.8
A17: Кредиты и займы | B17: 245577.8 | C17: 343104 | D17: 352537.9 | E17: 340241.4 | F17: 386235.6 | G17: 403548.9 | H17: 481166.8 | I17: 531498.9 | J17: 572555.3 | K17: 620544.7 | L17: 744219.5 | M17: 1098192.6
... A25: Кредиторская задолженность | B25: 134171 | C25: 162168.7 | D25: 186282.8 | E25: 201326.9 | F25: 211567.5 | G25: 246009.4 | H25: 265101.3 | I25: 311589 | J25: 399042.9 | K25: 536394.1 | L25: 790529.9 | M25: 1422508.4
A28: Справочно:
A29: Количество отчитавшихся предприятий | B29: 16022 | C29: 16649 | D29: 17114 | E29: 17861 | F29: 19431 | G29: 21547 | H29: 22358 | I29: 22317 | J29: 24391 | K29: 29766 | L29: 33412 | M29: 30723
A30: из них: убыточных | B30: 4337 | C30: 4813 | D30: 4320 | E30: 4205 | F30: 4381 | G30: 4684 | H30: 4814 | I30: 4258 | J30: 4277 | K30: 4844 | L30: 5694 | M30: 6258
A31: Рентабельность1 (прибыль от реализации в
A32: в процентах к расходам на производство), % | B32: 14.3 | C32: 12.8 | D32: 12.5 | E32: 15 | F32: 12.1 | G32: 14.8 | H32: 18.5 | I32: 23.6 | J32: 26.4 | K32: 26.2 | L32: 27.8 | M32: 25.4
A33: Рентабельность1 (сальдированный финансовый
A34: результат в процентах к среднегодовой
A35: стоимости основных средств), % | B35: 5.7 | C35: -4.9 | D35: 14.6 | E35: 8.4 | F35: 7.7 | G35: 11.9 | H35: 4.9 | I35: 21.2 | J35: 32.9 | K35: 27.9 | L35: 38.4 | M35: 46.4
A36: Рентабельность1 продаж (сальдированный финан-
A37: совый результат к выручке от реализации), % | B37: 4.7 | C37: -4.6 | D37: 13.8 | E37: 7.6 | F37: 7.5 | G37: 11.1 | H37: 4.5 | I37: 16.4 | J37: 21.9 | K37: 17.1 | L37: 21.4 | M37: 18.9
A38: Темп роста валового дохода (в процентах
A39: к предыдущему году) | B39: 106.3 | C39: 107.2 | D39: 111 | E39: 114.4 | F39: 104.6 | G39: 110.2 | H39: 107.9 | I39: 127.2 | J39: 126.7 | K39: 121 | L39: 132.1 | M39: 161.9
A40: Коэффициент динамики валового дохода | B40: 0.9 | C40: 1 | D40: 1 | E40: 1 | F40: 0.9 | G40: 1.1 | H40: 1 | I40: 1.2 | J40: 1 | K40: 1 | L40: 1.1 | M40: 1.2
A41: Коэффициент ликвидности текущей задолжен-
A42: ности (отношение дебиторской задолженности
A43: к кредиторской) | B43: 0.78 | C43: 0.71 | D43: 0.7 | E43: 0.61 | F43: 0.55 | G43: 0.64 | H43: 0.66 | I43: 0.72 | J43: 0.77 | K43: 0.75 | L43: 0.86 | M43: 1.06
A46: 1 Знак минус (-) означает убыточность.

Sheet IБ1
A1: Вернуться в СОДЕРЖАНИЕ
A2: Таблица I.Б.1: Количество отчитавшихся предприятий экономики по видам деятельности
A3: (единиц)
B4: 2014 | C4: 2015 | D4: 2016 | E4: 2017 | F4: 2018 | G4: 2019 | H4: 2020 | I4: 2021 | J4: 2022 | K4: 2023 | L4: 2024 | M4: 2025
A6: Всего | B6: 16022 | C6: 16649 | D6: 17114 | E6: 17861 | F6: 19431 | G6: 21547 | H6: 22358 | I6: 22317 | J6: 24391 | K6: 29766 | L6: 33412 | M6: 30723
A7: в том числе: | B7: 16022
A8: Сельское хозяйство, лесное хозяйство и рыболовство | B8: 547 | C8: 533 | D8: 542 | E8: 527 | F8: 585 | G8: 635 | H8: 611 | I8: 650 | J8: 752 | K8: 847 | L8: 944 | M8: 974
A9: Добыча полезных ископаемых | B9: 295 | C9: 389 | D9: 282 | E9: 258 | F9: 282 | G9: 372 | H9: 412 | I9: 425 | J9: 373 | K9: 437 | L9: 533 | M9: 612
A10: Обрабатывающие производства | B10: 1851 | C10: 1871 | D10: 1856 | E10: 1913 | F10: 1996 | G10: 2116 | H10: 2131 | I10: 2042 | J10: 2149 | K10: 2484 | L10: 2761 | M10: 2661
A11: Производство пищевых продуктов, включая напитки | B11: 424 | C11: 435 | D11: 442 | E11: 453 | F11: 475 | G11: 503 | H11: 498 | I11: 489 | J11: 501 | K11: 554 | L11: 574 | M11: 537
A12: Производство табачных изделий | B12: 7 | C12: 7 | D12: 7 | E12: 5 | F12: 6 | G12: 11 | H12: 10 | I12: 7 | J12: 8 | K12: 8 | L12: 8 | M12: 6
A13: Текстильное производство; производство одежды и обуви, кожи и прочих кожаных изделий | B13: 193 | C13: 205 | D13: 201 | E13: 209 | F13: 217 | G13: 224 | H13: 235 | I13: 237 | J13: 282 | K13: 399 | L13: 524 | M13: 499
A14: Производство деревянных и бумажных изделий; полиграфическая деятельность | B14: 217 | C14: 219 | D14: 207 | E14: 223 | F14: 229 | G14: 229 | H14: 229 | I14: 194 | J14: 193 | K14: 201 | L14: 202 | M14: 190
A15: Производство кокса и очищенных нефтепродуктов | B15: 17 | C15: 16 | D15: 13 | E15: 12 | F15: 14 | G15: 16 | H15: 15 | I15: 18 | J15: 18 | K15: 21 | L15: 24 | M15: 24
A16: Производство химической продукции | B16: 50 | C16: 49 | D16: 50 | E16: 56 | F16: 59 | G16: 67 | H16: 67 | I16: 68 | J16: 83 | K16: 106 | L16: 110 | M16: 110
A17: Производство фармацевтической продукции | B17: 38 | C17: 34 | D17: 37 | E17: 39 | F17: 47 | G17: 45 | H17: 47 | I17: 43 | J17: 42 | K17: 43 | L17: 41 | M17: 40
A18: Производство резиновых и пластмассовых изделий | B18: 173 | C18: 168 | D18: 164 | E18: 155 | F18: 154 | G18: 161 | H18: 162 | I18: 142 | J18: 141 | K18: 150 | L18: 162 | M18: 146
A19: Производство неметаллических минеральных продуктов | B19: 291 | C19: 303 | D19: 299 | E19: 306 | F19: 327 | G19: 351 | H19: 357 | I19: 343 | J19: 357 | K19: 397 | L19: 432 | M19: 469
... A25: Прочие производства, ремонт и установка машин и оборудования | B25: 164 | C25: 167 | D25: 165 | E25: 176 | F25: 183 | G25: 202 | H25: 185 | I25: 181 | J25: 199 | K25: 229 | L25: 250 | M25: 239
A26: Обеспечение (снабжение) электроэнергией, газом, паром и кондиционированным воздухом | B26: 74 | C26: 72 | D26: 72 | E26: 83 | F26: 91 | G26: 97 | H26: 117 | I26: 128 | J26: 164 | K26: =197+8 -> 205 | L26: 235 | M26: 216
A27: Производство (выработка) электроэнергии, ее передача и распределение | B27: 38 | C27: 35 | D27: 36 | E27: 49 | F27: 58 | G27: 65 | H27: 84 | I27: 96 | J27: 132 | K27: 170 | L27: 198 | M27: 180
A28: Производство газа; распределение газообразного топлива через системы газоснабжения | B28: 11 | C28: 10 | D28: 10 | E28: 9 | F28: 9 | G28: 9 | H28: 9 | I28: 9 | J28: 9 | K28: =1+8 -> 9 | L28: 9 | M28: 9
A29: Обеспечение (снабжение) паром и кондиционированным воздухом | B29: 25 | C29: 27 | D29: 26 | E29: 25 | F29: 24 | G29: 23 | H29: 24 | I29: 23 | J29: 23 | K29: 26 | L29: 28 | M29: 27
A30: Водоснабжение, очистка, обработка отходов и получение вторичного сырья | B30: 306 | C30: 261 | D30: 269 | E30: 279 | F30: 506 | G30: 540 | H30: 539 | I30: 569 | J30: 614 | K30: 611 | L30: 604 | M30: 492
A31: Строительство | B31: 1633 | C31: 1702 | D31: 1793 | E31: 1941 | F31: 2162 | G31: 2452 | H31: 2624 | I31: 2607 | J31: 2651 | K31: 3189 | L31: 3390 | M31: 3286
A32: Оптовая и розничная торговля; ремонт автомобилей и мотоциклов | B32: 3907 | C32: 4035 | D32: 4310 | E32: 4539 | F32: 4886 | G32: 5666 | H32: 6065 | I32: 6131 | J32: 7170 | K32: 9535 | L32: 11370 | M32: 9985
A33: Транспортная деятельность и хранение грузов | B33: 876 | C33: 918 | D33: 900 | E33: 942 | F33: 1018 | G33: 1074 | H33: 1118 | I33: 1132 | J33: 1249 | K33: 1519 | L33: 1629 | M33: 1501
A34: Деятельность гостиниц и ресторанов | B34: 283 | C34: 292 | D34: 296 | E34: 321 | F34: 332 | G34: 392 | H34: 397 | I34: 384 | J34: 390 | K34: 528 | L34: 598 | M34: 570
A35: Информация | B35: 501 | C35: 508 | D35: 527 | E35: 546 | F35: 623 | G35: 720 | H35: 771 | I35: 756 | J35: 894 | K35: 1174 | L35: 1333 | M35: 1254
A36: Cвязь | B36: 158 | C36: 163 | D36: 158 | E36: 159 | F36: 159 | G36: 159 | H36: 168 | I36: 153 | J36: 147 | K36: 157 | L36: 146 | M36: 127
A37: Финансовое посредничество и страхование | B37: 946 | C37: 1087 | D37: 1059 | E37: 1064 | F37: 1159 | G37: 1175 | H37: 1151 | I37: 1117 | J37: 1272 | K37: 1543 | L37: 1796 | M37: 1650
A38: Банки1 | B38: 33 | C38: 35 | D38: 33 | E38: 31 | F38: 31 | G38: 30 | H38: 29 | I38: 29 | J38: 29 | K38: 28 | L38: 26 | M38: 26
A39: Страховые компании | B39: 21 | C39: 22 | D39: 24 | E39: 23 | F39: 22 | G39: 20 | H39: 15 | I39: 14 | J39: 15 | K39: 16 | L39: 16 | M39: 19
A40: Инвестиционные фонды | B40: 6 | C40: 6 | D40: 6 | E40: 6 | F40: 6 | G40: 6 | H40: 3 | I40: 2 | J40: 2 | K40: 2 | L40: 2 | M40: 2
... A50: Прочая обслуживающая деятельность | B50: 146 | C50: 140 | D50: 141 | E50: 141 | F50: 154 | G50: 171 | H50: 177 | I50: 186 | J50: 180 | K50: 187 | L50: 191 | M50: 168
A53: 1 Здесь и далее в таблицах I.Б.2 и I.Б.3 включая банки, находящиеся в стадии ликвидации.

Sheet IБ2
A1: Вернуться в СОДЕРЖАНИЕ
A2: Таблица I.Б.2: Количество рентабельных предприятий экономики
A3: по видам деятельности
A4: (единиц)
B5: 2014 | C5: 2015 | D5: 2016 | E5: 2017 | F5: 2018 | G5: 2019 | H5: 2020 | I5: 2021 | J5: 2022 | K5: 2023 | L5: 2024 | M5: 2025
A7: Всего | B7: 6205 | C7: 6060 | D7: 6512 | E7: 6802 | F7: 7132 | G7: 7566 | H7: 6898 | I7: 7943 | J7: 8591 | K7: 10575 | L7: 12010 | M7: 13215
A8: в том числе:
A9: Сельское хозяйство, лесное хозяйство и рыболовство | B9: 250 | C9: 233 | D9: 207 | E9: 214 | F9: 209 | G9: 223 | H9: 214 | I9: 212 | J9: 254 | K9: 283 | L9: 360 | M9: 419
A10: Добыча полезных ископаемых | B10: 90 | C10: 93 | D10: 85 | E10: 90 | F10: 90 | G10: 95 | H10: 106 | I10: 114 | J10: 109 | K10: 144 | L10: 181 | M10: 208
A11: Обрабатывающие производства | B11: 751 | C11: 687 | D11: 694 | E11: 710 | F11: 702 | G11: 716 | H11: 639 | I11: 707 | J11: 799 | K11: 903 | L11: 1024 | M11: 1158
A12: Производство пищевых продуктов, включая напитки | B12: 168 | C12: 157 | D12: 166 | E12: 162 | F12: 169 | G12: 171 | H12: 146 | I12: 162 | J12: 184 | K12: 196 | L12: 214 | M12: 236
A13: Производство табачных изделий | B13: 2 | C13: 4 | D13: 1 | E13: 1 | F13: 1 | G13: 1 | H13: 3 | I13: 1 | J13: 2 | K13: 2 | L13: 1 | M13: 2
A14: Текстильное производство; производство одежды и обуви, кожи и прочих кожаных изделий | B14: 73 | C14: 61 | D14: 76 | E14: 69 | F14: 62 | G14: 72 | H14: 66 | I14: 68 | J14: 100 | K14: 125 | L14: 163 | M14: 216
A15: Производство деревянных и бумажных изделий; полиграфическая деятельность | B15: 84 | C15: 85 | D15: 75 | E15: 82 | F15: 83 | G15: 79 | H15: 71 | I15: 78 | J15: 83 | K15: 81 | L15: 92 | M15: 88
A16: Производство кокса и очищенных нефтепродуктов | B16: 3 | C16: 2 | D16: 4 | E16: - | F16: 4 | G16: 3 | H16: 1 | I16: 3 | J16: 5 | K16: 5 | L16: 8 | M16: 10
A17: Производство химической продукции | B17: 22 | C17: 25 | D17: 21 | E17: 18 | F17: 18 | G17: 19 | H17: 16 | I17: 23 | J17: 23 | K17: 28 | L17: 38 | M17: 41
A18: Производство фармацевтической продукции | B18: 10 | C18: 8 | D18: 9 | E18: 12 | F18: 13 | G18: 12 | H18: 14 | I18: 13 | J18: 13 | K18: 12 | L18: 11 | M18: 12
A19: Производство резиновых и пластмассовых изделий | B19: 73 | C19: 62 | D19: 67 | E19: 61 | F19: 51 | G19: 50 | H19: 41 | I19: 54 | J19: 57 | K19: 67 | L19: 69 | M19: 71
A20: Производство неметаллических минеральных продуктов | B20: 136 | C20: 126 | D20: 116 | E20: 123 | F20: 134 | G20: 138 | H20: 127 | I20: 141 | J20: 163 | K20: 177 | L20: 200 | M20: 231
A21: Производство основных металлов и готовых металлических изделий, кроме машин и оборудования | B21: 69 | C21: 56 | D21: 57 | E21: 70 | F21: 61 | G21: 67 | H21: 67 | I21: 70 | J21: 73 | K21: 91 | L21: 103 | M21: 112
A22: Производство компьютеров, электронного и оптического оборудования | B22: 6 | C22: 10 | D22: 7 | E22: 8 | F22: 7 | G22: 6 | H22: 5 | I22: 8 | J22: 9 | K22: 7 | L22: 6 | M22: 7
A23: Производство электрического оборудования | B23: 16 | C23: 9 | D23: 11 | E23: 12 | F23: 14 | G23: 10 | H23: 10 | I23: 8 | J23: 9 | K23: 12 | L23: 11 | M23: 15
A24: Производство машин и оборудования | B24: 14 | C24: 12 | D24: 15 | E24: 18 | F24: 15 | G24: 15 | H24: 12 | I24: 12 | J24: 14 | K24: 15 | L24: 12 | M24: 14
A25: Производство транспортных средств | B25: 3 | C25: 2 | D25: 1 | E25: 1 | F25: 1 | G25: 2 | H25: 3 | I25: 3 | J25: 2 | K25: 3 | L25: 5 | M25: 5
A26: Прочие производства, ремонт и установка машин и оборудования | B26: 72 | C26: 68 | D26: 68 | E26: 73 | F26: 69 | G26: 71 | H26: 57 | I26: 63 | J26: 62 | K26: 82 | L26: 91 | M26: 98
A27: Обеспечение (снабжение) электроэнергией, газом, паром и кондиционированным воздухом | B27: 27 | C27: 15 | D27: 27 | E27: 28 | F27: 27 | G27: 26 | H27: 24 | I27: 27 | J27: 33 | K27: 28 | L27: 33 | M27: 54
A28: Производство (выработка) электроэнергии, ее передача и распределение | B28: 18 | C28: 7 | D28: 12 | E28: 18 | F28: 19 | G28: 19 | H28: 16 | I28: 21 | J28: 24 | K28: 20 | L28: 25 | M28: 41
A29: Производство газа; распределение газообразного топлива через системы газоснабжения | B29: - | C29: - | D29: - | E29: - | F29: - | G29: - | H29: - | I29: 1 | J29: 1 | K29: 1 | L29: 1 | M29: 1
A30: Обеспечение (снабжение) паром и кондиционированным воздухом | B30: 9 | C30: 8 | D30: 15 | E30: 10 | F30: 8 | G30: 7 | H30: 8 | I30: 5 | J30: 8 | K30: 7 | L30: 7 | M30: 12
A31: Водоснабжение, очистка, обработка отходов и получение вторичного сырья | B31: 63 | C31: 71 | D31: 59 | E31: 58 | F31: 114 | G31: 94 | H31: 89 | I31: 85 | J31: 106 | K31: 117 | L31: 119 | M31: 104
A32: Строительство | B32: 604 | C32: 614 | D32: 686 | E32: 765 | F32: 816 | G32: 870 | H32: 784 | I32: 877 | J32: 801 | K32: 1049 | L32: 1172 | M32: 1410
A33: Оптовая и розничная торговля; ремонт автомобилей и мотоциклов | B33: 1406 | C33: 1351 | D33: 1546 | E33: 1637 | F33: 1727 | G33: 1917 | H33: 1852 | I33: 2210 | J33: 2487 | K33: 3211 | L33: 3852 | M33: 4000
A34: Транспортная деятельность и хранение грузов | B34: 339 | C34: 296 | D34: 318 | E34: 350 | F34: 348 | G34: 356 | H34: 330 | I34: 392 | J34: 434 | K34: 518 | L34: 547 | M34: 615
A35: Деятельность гостиниц и ресторанов | B35: 103 | C35: 102 | D35: 85 | E35: 91 | F35: 98 | G35: 97 | H35: 62 | I35: 124 | J35: 142 | K35: 202 | L35: 268 | M35: 308
A36: Информация | B36: 184 | C36: 184 | D36: 184 | E36: 200 | F36: 208 | G36: 238 | H36: 218 | I36: 252 | J36: 299 | K36: 397 | L36: 459 | M36: 549
A37: Cвязь | B37: 57 | C37: 55 | D37: 66 | E37: 57 | F37: 59 | G37: 53 | H37: 56 | I37: 58 | J37: 68 | K37: 62 | L37: 63 | M37: 53
A38: Финансовое посредничество и страхование | B38: 536 | C38: 576 | D38: 616 | E38: 636 | F38: 679 | G38: 666 | H38: 608 | I38: 645 | J38: 684 | K38: 822 | L38: 847 | M38: 858
A39: Банки1 | B39: 26 | C39: 20 | D39: 20 | E39: 22 | F39: 23 | G39: 20 | H39: 25 | I39: 22 | J39: 26 | K39: 25 | L39: 24 | M39: 22
A40: Страховые компании | B40: 14 | C40: 13 | D40: 12 | E40: 14 | F40: 12 | G40: 13 | H40: 14 | I40: 13 | J40: 13 | K40: 13 | L40: 14 | M40: 15
A41: Инвестиционные фонды | B41: 5 | C41: 5 | D41: 5 | E41: 5 | F41: 5 | G41: 5 | H41: 2 | I41: 2 | J41: 1 | K41: 1 | L41: 1 | M41: 1
...

Sheet IБ3
A1: Вернуться в СОДЕРЖАНИЕ
A2: Таблица I.Б.3: Количество нерентабельных предприятий экономики
A3: по видам деятельности
A4: (единиц)
B5: 2014 | C5: 2015 | D5: 2016 | E5: 2017 | F5: 2018 | G5: 2019 | H5: 2020 | I5: 2021 | J5: 2022 | K5: 2023 | L5: 2024 | M5: 2025
A7: Всего | B7: 4337 | C7: 4813 | D7: 4320 | E7: 4205 | F7: 4381 | G7: 4684 | H7: 4814 | I7: 4258 | J7: 4277 | K7: 4844 | L7: 5694 | M7: 6258
A8: в том числе:
A9: Сельское хозяйство, лесное хозяйство и рыболовство | B9: 124 | C9: 126 | D9: 123 | E9: 100 | F9: 126 | G9: 121 | H9: 96 | I9: 113 | J9: 107 | K9: 142 | L9: 139 | M9: 194
A10: Добыча полезных ископаемых | B10: 76 | C10: 112 | D10: 78 | E10: 63 | F10: 68 | G10: 80 | H10: 78 | I10: 75 | J10: 76 | K10: 75 | L10: 78 | M10: 104
A11: Обрабатывающие производства | B11: 530 | C11: 621 | D11: 547 | E11: 519 | F11: 523 | G11: 547 | H11: 542 | I11: 465 | J11: 385 | K11: 431 | L11: 437 | M11: 508
A12: Производство пищевых продуктов, включая напитки | B12: 126 | C12: 132 | D12: 115 | E12: 115 | F12: 110 | G12: 121 | H12: 122 | I12: 94 | J12: 80 | K12: 92 | L12: 87 | M12: 84
A13: Производство табачных изделий | B13: 2 | C13: - | D13: 3 | E13: 2 | F13: 3 | G13: 5 | H13: 3 | I13: 6 | J13: 4 | K13: 3 | L13: 3 | M13: 1
A14: Текстильное производство; производство одежды и обуви, кожи и прочих кожаных изделий | B14: 49 | C14: 64 | D14: 40 | E14: 46 | F14: 43 | G14: 42 | H14: 46 | I14: 40 | J14: 40 | K14: 65 | L14: 89 | M14: 101
A15: Производство деревянных и бумажных изделий; полиграфическая деятельность | B15: 66 | C15: 69 | D15: 68 | E15: 63 | F15: 66 | G15: 61 | H15: 63 | I15: 46 | J15: 40 | K15: 37 | L15: 23 | M15: 40
A16: Производство кокса и очищенных нефтепродуктов | B16: 10 | C16: 11 | D16: 5 | E16: 9 | F16: 7 | G16: 9 | H16: 9 | I16: 10 | J16: 6 | K16: 8 | L16: 7 | M16: 4
A17: Производство химической продукции | B17: 16 | C17: 17 | D17: 20 | E17: 25 | F17: 25 | G17: 28 | H17: 23 | I17: 18 | J17: 18 | K17: 27 | L17: 19 | M17: 28
A18: Производство фармацевтической продукции | B18: 14 | C18: 15 | D18: 12 | E18: 10 | F18: 13 | G18: 18 | H18: 11 | I18: 6 | J18: 6 | K18: 7 | L18: 6 | M18: 10
A19: Производство резиновых и пластмассовых изделий | B19: 51 | C19: 55 | D19: 42 | E19: 37 | F19: 36 | G19: 41 | H19: 42 | I19: 34 | J19: 27 | K19: 24 | L19: 29 | M19: 23
A20: Производство неметаллических минеральных продуктов | B20: 73 | C20: 95 | D20: 97 | E20: 86 | F20: 88 | G20: 87 | H20: 90 | I20: 82 | J20: 55 | K20: 64 | L20: 57 | M20: 75
A21: Производство основных металлов и готовых металлических изделий, кроме машин и оборудования | B21: 46 | C21: 70 | D21: 68 | E21: 54 | F21: 59 | G21: 57 | H21: 65 | I21: 54 | J21: 48 | K21: 46 | L21: 43 | M21: 55
A22: Производство компьютеров, электронного и оптического оборудования | B22: 10 | C22: 7 | D22: 8 | E22: 10 | F22: 9 | G22: 8 | H22: 10 | I22: 8 | J22: 6 | K22: 9 | L22: 9 | M22: 10
A23: Производство электрического оборудования | B23: 11 | C23: 13 | D23: 9 | E23: 6 | F23: 6 | G23: 9 | H23: 8 | I23: 14 | J23: 10 | K23: 8 | L23: 8 | M23: 10
A24: Производство машин и оборудования | B24: 12 | C24: 13 | D24: 13 | E24: 10 | F24: 12 | G24: 15 | H24: 10 | I24: 10 | J24: 8 | K24: 6 | L24: 10 | M24: 12
A25: Производство транспортных средств | B25: 2 | C25: 3 | D25: 2 | E25: 2 | F25: 1 | G25: 2 | H25: 4 | I25: 1 | J25: 3 | K25: 3 | L25: 4 | M25: 7
... A28: Производство (выработка) электроэнергии, ее передача и распределение | B28: 10 | C28: 17 | D28: 13 | E28: 10 | F28: 18 | G28: 21 | H28: 25 | I28: 20 | J28: 23 | K28: 46 | L28: 46 | M28: 54
A29: Производство газа; распределение газообразного топлива через системы газоснабжения | B29: 1 | C29: 1 | D29: 1 | E29: 1 | F29: 1 | G29: 1 | H29: 1 | I29: - | J29: - | K29: - | L29: - | M29: -
A30: Обеспечение (снабжение) паром и кондиционированным воздухом | B30: 15 | C30: 17 | D30: 9 | E30: 14 | F30: 14 | G30: 14 | H30: 14 | I30: 17 | J30: 14 | K30: 16 | L30: 15 | M30: 11
A31: Водоснабжение, очистка, обработка отходов и получение вторичного сырья | B31: 95 | C31: 77 | D31: 73 | E31: 80 | F31: 90 | G31: 101 | H31: 99 | I31: 122 | J31: 119 | K31: 120 | L31: 113 | M31: 90
A32: Строительство | B32: 455 | C32: 433 | D32: 400 | E32: 423 | F32: 471 | G32: 482 | H32: 524 | I32: 487 | J32: 508 | K32: 503 | L32: 584 | M32: 659
A33: Оптовая и розничная торговля; ремонт автомобилей и мотоциклов | B33: 1062 | C33: 1222 | D33: 1124 | E33: 1117 | F33: 1122 | G33: 1283 | H33: 1282 | I33: 1125 | J33: 1263 | K33: 1542 | L33: 1953 | M33: 2108
A34: Транспортная деятельность и хранение грузов | B34: 240 | C34: 296 | D34: 254 | E34: 228 | F34: 245 | G34: 240 | H34: 250 | I34: 236 | J34: 236 | K34: 272 | L34: 264 | M34: 287
A35: Деятельность гостиниц и ресторанов | B35: 87 | C35: 98 | D35: 108 | E35: 120 | F35: 114 | G35: 138 | H35: 154 | I35: 99 | J35: 84 | K35: 97 | L35: 96 | M35: 122
A36: Информация | B36: 119 | C36: 125 | D36: 129 | E36: 126 | F36: 143 | G36: 154 | H36: 175 | I36: 149 | J36: 178 | K36: 228 | L36: 281 | M36: 308
A37: Cвязь | B37: 53 | C37: 52 | D37: 46 | E37: 48 | F37: 40 | G37: 49 | H37: 47 | I37: 47 | J37: 32 | K37: 40 | L37: 34 | M37: 36
A38: Финансовое посредничество и страхование | B38: 170 | C38: 218 | D38: 204 | E38: 198 | F38: 183 | G38: 189 | H38: 200 | I38: 168 | J38: 177 | K38: 217 | L38: 338 | M38: 393
A39: Банки1 | B39: 7 | C39: 13 | D39: 13 | E39: 9 | F39: 8 | G39: 10 | H39: 4 | I39: 7 | J39: 2 | K39: 2 | L39: 1 | M39: 3
A40: Страховые компании | B40: 2 | C40: 5 | D40: 8 | E40: 4 | F40: 7 | G40: 4 | H40: 1 | I40: 1 | J40: 2 | K40: 2 | L40: 2 | M40: 2
A41: Инвестиционные фонды | B41: 1 | C41: 1 | D41: 1 | E41: 1 | F41: - | G41: 1 | H41: - | I41: - | J41: 1 | K41: 1 | L41: 1 | M41: 1
A42: Небанковские финансово-кредитные учреждения | B42: 127 | C42: 128 | D42: 119 | E42: 114 | F42: 107 | G42: 95 | H42: 119 | I42: 92 | J42: 87 | K42: 84 | L42: 96 | M42: 80
A43: Биржи | B43: - | C43: 2 | D43: 1 | E43: - | F43: 2 | G43: 1 | H43: 1 | I43: 1 | J43: 1 | K43: 2 | L43: 1 | M43: 0
...

Sheet IБ4-6
A1: Вернуться в СОДЕРЖАНИЕ
A2: Таблица I.Б.4: Количество отчитавшихся предприятий экономики по территории
A3: (единиц)
B4: 2014 | C4: 2015 | D4: 2016 | E4: 2017 | F4: 2018 | G4: 2019 | H4: 2020 | I4: 2021 | J4: 2022 | K4: 2023 | L4: 2024 | M4: 2025
A6: Кыргызская Республика | B6: 16022 | C6: 16649 | D6: 17114 | E6: 17861 | F6: 19431 | G6: 21547 | H6: 22358 | I6: 22317 | J6: 24391 | K6: 29766 | L6: 33412 | M6: 30723
A7: Баткенская область | B7: 230 | C7: 239 | D7: 253 | E7: 270 | F7: 308 | G7: 336 | H7: 348 | I7: 399 | J7: 522 | K7: 571 | L7: 531 | M7: 553
A8: Джалал-Абадская область | B8: 647 | C8: 663 | D8: 665 | E8: 670 | F8: 690 | G8: 687 | H8: 701 | I8: 736 | J8: 785 | K8: 973 | L8: 1077 | M8: 1119
A9: Иссык-Кульская область | B9: 580 | C9: 560 | D9: 562 | E9: 574 | F9: 711 | G9: 734 | H9: 723 | I9: 736 | J9: 720 | K9: 800 | L9: 821 | M9: 738
A10: Нарынская область | B10: 395 | C10: 322 | D10: 315 | E10: 317 | F10: 393 | G10: 404 | H10: 411 | I10: 417 | J10: 420 | K10: 426 | L10: 499 | M10: 531
A11: Ошская область | B11: 531 | C11: 559 | D11: 592 | E11: 649 | F11: 694 | G11: 756 | H11: 774 | I11: 810 | J11: 893 | K11: 967 | L11: 960 | M11: 1019
A12: Таласская область | B12: 312 | C12: 299 | D12: 294 | E12: 296 | F12: 350 | G12: 395 | H12: 409 | I12: 413 | J12: 409 | K12: 449 | L12: 455 | M12: 484
A13: Чуйская область | B13: 1586 | C13: 1610 | D13: 1698 | E13: 1846 | F13: 2147 | G13: 2364 | H13: 2361 | I13: 2678 | J13: 2894 | K13: 3409 | L13: 2719 | M13: 2856
A14: г. Бишкек | B14: 10760 | C14: 11413 | D14: 11759 | E14: 12141 | F14: 13033 | G14: 14725 | H14: 15425 | I14: 14909 | J14: 16512 | K14: 20838 | L14: 24642 | M14: 21446
A15: г. Ош | B15: 922 | C15: 926 | D15: 920 | E15: 1044 | F15: 1051 | G15: 1094 | H15: 1155 | I15: 1167 | J15: 1184 | K15: 1282 | L15: 1659 | M15: 1933
A16: Предприятия (объединения) без областного деления1 | B16: 59 | C16: 58 | D16: 56 | E16: 54 | F16: 54 | G16: 52 | H16: 51 | I16: 52 | J16: 52 | K16: 51 | L16: 49 | M16: 44
A20: Таблица I.Б.5: Количество рентабельных предприятий экономики по территории
A21: (единиц)
B22: 2014 | C22: 2015 | D22: 2016 | E22: 2017 | F22: 2018 | G22: 2019 | H22: 2020 | I22: 2021 | J22: 2022 | K22: 2023 | L22: 2024 | M22: 2025
A24: Кыргызская Республика | B24: 6205 | C24: 6060 | D24: 6512 | E24: 6802 | F24: 7132 | G24: 7566 | H24: 6898 | I24: 7943 | J24: 8591 | K24: 10575 | L24: 12010 | M24: 13215
A25: Баткенская область | B25: 138 | C25: 133 | D25: 143 | E25: 157 | F25: 152 | G25: 169 | H25: 175 | I25: 189 | J25: 203 | K25: 216 | L25: 261 | M25: 278
A26: Джалал-Абадская область | B26: 369 | C26: 374 | D26: 392 | E26: 398 | F26: 434 | G26: 428 | H26: 418 | I26: 453 | J26: 493 | K26: 668 | L26: 741 | M26: 773
A27: Иссык-Кульская область | B27: 263 | C27: 250 | D27: 233 | E27: 269 | F27: 293 | G27: 290 | H27: 245 | I27: 271 | J27: 291 | K27: 323 | L27: 319 | M27: 333
A28: Нарынская область | B28: 126 | C28: 105 | D28: 103 | E28: 102 | F28: 111 | G28: 120 | H28: 99 | I28: 103 | J28: 103 | K28: 122 | L28: 184 | M28: 242
A29: Ошская область | B29: 280 | C29: 289 | D29: 300 | E29: 340 | F29: 379 | G29: 401 | H29: 374 | I29: 379 | J29: 396 | K29: 423 | L29: 403 | M29: 431
A30: Таласская область | B30: 195 | C30: 188 | D30: 205 | E30: 187 | F30: 207 | G30: 219 | H30: 216 | I30: 223 | J30: 228 | K30: 265 | L30: 264 | M30: 293
A31: Чуйская область | B31: 707 | C31: 681 | D31: 726 | E31: 755 | F31: 809 | G31: 844 | H31: 775 | I31: 878 | J31: 975 | K31: 1120 | L31: 996 | M31: 1066
A32: г. Бишкек | B32: 3590 | C32: 3529 | D32: 3860 | E32: 3951 | F32: 4063 | G32: 4374 | H32: 3962 | I32: 4736 | J32: 5267 | K32: 6645 | L32: 7814 | M32: 8638
A33: г. Ош | B33: 501 | C33: 483 | D33: 519 | E33: 609 | F33: 650 | G33: 690 | H33: 601 | I33: 678 | J33: 598 | K33: 756 | L33: 992 | M33: 1131
A34: Предприятия (объединения) без областного деления1 | B34: 36 | C34: 28 | D34: 31 | E34: 34 | F34: 34 | G34: 31 | H34: 33 | I34: 33 | J34: 37 | K34: 37 | L34: 36 | M34: 30
A38: Таблица I.Б.6: Количество нерентабельных предприятий экономики по территории
A39: (единиц)
B40: 2014 | C40: 2015 | D40: 2016 | E40: 2017 | F40: 2018 | G40: 2019 | H40: 2020 | I40: 2021 | J40: 2022 | K40: 2023 | L40: 2024 | M40: 2025
A42: Кыргызская Республика | B42: 4337 | C42: 4813 | D42: 4320 | E42: 4205 | F42: 4381 | G42: 4684 | H42: 4814 | I42: 4258 | J42: 4277 | K42: 4844 | L42: 5694 | M42: 6258
A43: Баткенская область | B43: 45 | C43: 68 | D43: 56 | E43: 54 | F43: 58 | G43: 66 | H43: 63 | I43: 63 | J43: 61 | K43: 72 | L43: 55 | M43: 83
A44: Джалал-Абадская область | B44: 106 | C44: 120 | D44: 98 | E44: 110 | F44: 100 | G44: 106 | H44: 116 | I44: 109 | J44: 116 | K44: 118 | L44: 118 | M44: 100
A45: Иссык-Кульская область | B45: 160 | C45: 162 | D45: 171 | E45: 149 | F45: 164 | G45: 196 | H45: 212 | I45: 176 | J45: 134 | K45: 141 | L45: 164 | M45: 139
A46: Нарынская область | B46: 99 | C46: 74 | D46: 61 | E46: 58 | F46: 64 | G46: 54 | H46: 65 | I46: 59 | J46: 50 | K46: 53 | L46: 60 | M46: 71
A47: Ошская область | B47: 57 | C47: 64 | D47: 55 | E47: 49 | F47: 60 | G47: 59 | H47: 63 | I47: 72 | J47: 72 | K47: 82 | L47: 67 | M47: 79
A48: Таласская область | B48: 52 | C48: 59 | D48: 37 | E48: 28 | F48: 45 | G48: 62 | H48: 53 | I48: 44 | J48: 49 | K48: 53 | L48: 59 | M48: 63
A49: Чуйская область | B49: 473 | C49: 532 | D49: 505 | E49: 498 | F49: 559 | G49: 585 | H49: 575 | I49: 582 | J49: 536 | K49: 579 | L49: 468 | M49: 457
...

Sheet IБ7-9
A1: Вернуться в СОДЕРЖАНИЕ
A2: Таблица I.Б.7: Активы, обязательства и капитал предприятий
A3: реального сектора экономики
A4: (на конец года, млн.сомов)
B5: 2014 | C5: 2015 | D5: 2016 | E5: 2017 | F5: 2018 | G5: 2019 | H5: 2020 | I5: 2021 | J5: 2022 | K5: 2023 | L5: 2024 | M5: 2025
A7: Активы | B7: 619964 | C7: 741063.7 | D7: 806618.7 | E7: 866411.3 | F7: 918752 | G7: 1044352.6 | H7: 1187719.1 | I7: 1333305.9 | J7: 1620045.5 | K7: 2120522.1 | L7: 2665724.1 | M7: 4169566.2
A8: Оборотные активы | B8: 285911.6 | C8: 338566.1 | D8: 357308.3 | E8: 360002.3 | F8: 384461.5 | G8: 460909.2 | H8: 511808.6 | I8: 618044.9 | J8: 805642.6 | K8: 1175681.9 | L8: 1598023.8 | M8: 2789027.6
A9: Внеоборотные активы | B9: 334052.4 | C9: 402497.6 | D9: 449310.4 | E9: 506409 | F9: 534290.5 | G9: 583443.4 | H9: 675910.5 | I9: 715261 | J9: 814402.9 | K9: 944840.2 | L9: 1067700.3 | M9: 1380538.6
A11: Обязательства | B11: 414761.8 | C11: 527891 | D11: 565987.1 | E11: 593065.2 | F11: 636106.4 | G11: 703475.5 | H11: 781467.6 | I11: 908683.7 | J11: 1064510.4 | K11: 1421198.1 | L11: 1664685.4 | M11: 2752076.6
A12: Краткосрочные обязательства | B12: 208937.1 | C12: 237461.5 | D12: 257739.3 | E12: 273152.7 | F12: 302543.2 | G12: 332873.8 | H12: 363754.4 | I12: 433644 | J12: 560591.7 | K12: 864426.9 | L12: 1086849.4 | M12: 2088680.3
A13: Долгосрочные обязательства | B13: 205824.7 | C13: 290429.5 | D13: 308247.8 | E13: 319912.5 | F13: 333563.2 | G13: 370601.7 | H13: 417713.2 | I13: 475039.7 | J13: 503918.7 | K13: 556771.2 | L13: 577836 | M13: 663396.3
A15: Собственный капитал | B15: 205202.2 | C15: 213172.6 | D15: 240631.6 | E15: 273346.1 | F15: 282645.6 | G15: 340877.1 | H15: 406251.5 | I15: 424622.2 | J15: 555535.1 | K15: 699324 | L15: 1001038.7 | M15: 1417489.6
A16: Уставный капитал | B16: 53956.5 | C16: 71063.7 | D16: =16770.5+67459.6 -> 84230.1 | E16: =76422.1+16425.7 -> 92847.8 | F16: =78558.1+16027.3 -> 94585.4 | G16: 102069.3 | H16: 106331.3 | I16: 115783.2 | J16: 130733.2 | K16: =161208.6+28990.5 -> 190199.1 | L16: =33064.5+261676.4 -> 294740.9 | M16: 523528.4
A18: Итого обязательства и собственный капитал | B18: 619964 | C18: 741063.7 | D18: =D11+D15 -> 806618.7 | E18: 866411.3 | F18: 918752 | G18: 1044352.6 | H18: 1187719.1 | I18: 1333305.9 | J18: 1620045.5 | K18: 2120522.1 | L18: 2665724.1 | M18: 4169566.2
A21: Справочно:
A22: Количество предприятий | B22: 15222 | C22: 15925 | D22: =16422+9 -> 16431 | E22: =17180+8 -> 17188 | F22: =18735+8 -> 18743 | G22: 20880 | H22: 21708 | I22: 21689 | J22: 23748 | K22: 29096 | L22: =32771+8 -> 32779 | M22: =30133+8 -> 30141
A26: Таблица I.Б.8: Активы, обязательства и капитал предприятий
A27: финансового сектора экономики
A28: (на конец года, млн.сомов)
B29: 2014 | C29: 2015 | D29: 2016 | E29: 2017 | F29: 2018 | G29: 2019 | H29: 2020 | I29: 2021 | J29: 2022 | K29: 2023 | L29: 2024 | M29: 2025
A31: Активы | B31: 167517.1 | C31: 201143.1 | D31: 194522.1 | E31: 215796 | F31: 246095.6 | G31: 279982.3 | H31: 323863.6 | I31: 398530.4 | J31: 526776.2 | K31: 670557.4 | L31: 891494 | M31: 1299415.3
A32: Оборотные активы | B32: 151236.3 | C32: 181374.8 | D32: 174454.2 | E32: 192936.8 | F32: 219452.5 | G32: 250137.7 | H32: 290050.5 | I32: 358886.4 | J32: 482833 | K32: 607890.4 | L32: 808060.6 | M32: 1179940.3
A33: Внеоборотные активы | B33: 16280.8 | C33: 19768.3 | D33: 20067.9 | E33: 22859.1 | F33: 26643.1 | G33: 29844.6 | H33: 33813.1 | I33: 39644 | J33: 43943.2 | K33: 62667 | L33: 83433.4 | M33: 119475
A35: Обязательства | B35: 133284.4 | C35: 161037.7 | D35: 151951.9 | E35: 168069.3 | F35: 192333.1 | G35: 216798.3 | H35: 253110.5 | I35: 322173.6 | J35: 421259.5 | K35: 534331.2 | L35: 720121.9 | M35: 1024368.6
A36: Краткосрочные обязательства | B36: 73148.2 | C36: 93730.8 | D36: 99062.9 | E36: 114615 | F36: 127763.5 | G36: 144099.7 | H36: 172485.3 | I36: 229901.4 | J36: 322975 | K36: 402647.2 | L36: 549939 | M36: 811916.8
A37: Долгосрочные обязательства | B37: 60136.3 | C37: 67306.9 | D37: 52889 | E37: 53454.3 | F37: 64569.6 | G37: 72698.6 | H37: 80625.1 | I37: 92272.2 | J37: 98284.5 | K37: 131684 | L37: 170182.9 | M37: 212451.8
A39: Собственный капитал | B39: 34232.7 | C39: 40105.4 | D39: 42570.2 | E39: 47726.7 | F39: 53762.5 | G39: 63184 | H39: 70753.1 | I39: 76356.8 | J39: 105516.7 | K39: 136226.2 | L39: 171372.1 | M39: 275046.7
A40: Уставный капитал | B40: 18317.1 | C40: 22937 | D40: 25215.5 | E40: 28615.9 | F40: 30313.9 | G40: 36641.4 | H40: 39144.9 | I40: 45026.2 | J40: 52187.6 | K40: 71387.2 | L40: 91185.7 | M40: 183647.2
A42: Итого обязательства и собственный капитал | B42: =B35+B39 -> 167517.1 | C42: =C35+C39 -> 201143.1 | D42: 194522.1 | E42: 215796 | F42: 246095.6 | G42: 279982.3 | H42: 323863.6 | I42: 398530.4 | J42: 526776.2 | K42: 670557.4 | L42: 891494 | M42: 1299415.3
A45: Справочно:
A46: Количество предприятий | B46: 791 | C46: 713 | D46: 675 | E46: 667 | F46: 682 | G46: 661 | H46: 644 | I46: 622 | J46: 637 | K46: 665 | L46: 628 | M46: 578
A49: Таблица I.Б.9: Активы, обязательства и капитал Национального банка1
A50: (на конец года, млн.сомов)
B51: 2014 | C51: 2015 | D51: 2016 | E51: 2017 | F51: 2018 | G51: 2019 | H51: 2020 | I51: 2021 | J51: 2022 | K51: 2023 | L51: 2024 | M51: 2025
A53: Активы | B53: 122658 | C53: 145032.6 | D53: 147714.7 | E53: 161109.5 | F53: 164415.9 | G53: 190756.1 | H53: 274851 | I53: 314713.1 | J53: 396421.2 | K53: 446062.7 | L53: 550136.7 | M53: 890315.6
A54: Обязательства | B54: 97567.7 | C54: 107104.4 | D54: 123536.6 | E54: 135494.6 | F54: 141202.6 | G54: 161549.3 | H54: 203303.8 | I54: 251144.7 | J54: 339374 | K54: 373639.5 | L54: 425224.2 | M54: 593152.3
A55: Капитал и резервы | B55: 25090.3 | C55: 37928.1 | D55: 24178.1 | E55: 25614.9 | F55: 23213.3 | G55: 29206.8 | H55: 71547.2 | I55: 63568.3 | J55: 57047.2 | K55: 72423.2 | L55: 124912.5 | M55: 297163.3
A56: Уставный капитал | B56: 1000 | C56: 1000 | D56: 1000 | E56: 2000 | F56: 2000 | G56: 2000 | H56: 2000 | I56: 2000 | J56: 4000 | K56: 4000 | L56: 4000 | M56: 4000
A57: Итого обязательства и собственный капитал | B57: 122658 | C57: 145032.6 | D57: 147714.7 | E57: 161109.5 | F57: 164415.9 | G57: 190756.1 | H57: 274851 | I57: 314713.1 | J57: 396421.2 | K57: 446062.7 | L57: 550136.7 | M57: 890315.6
A60: 1Приведены данные бухгалтерского баланса на конец года, не содержащие изменений аудированной финансовой отчетности.

Sheet IБ10
A1: Вернуться в СОДЕРЖАНИЕ
A2: Таблица I.Б.10: Активы предприятий реального сектора экономики
A3: по видам деятельности
A4: (на конец года, млн.сомов)
B5: 2014 | C5: 2015 | D5: 2016 | E5: 2017 | F5: 2018 | G5: 2019 | H5: 2020 | I5: 2021 | J5: 2022 | K5: 2023 | L5: 2024 | M5: 2025
A7: Всего | B7: 619964 | C7: 741063.7 | D7: 806618.7 | E7: 866411.3 | F7: 918752 | G7: 1044352.6 | H7: 1187719.1 | I7: 1333305.9 | J7: 1620045.5 | K7: 2120522.1 | L7: 2665724.1 | M7: 4169566.2
A8: в том числе: | B8: =B9+B10+B11+B27+B31+B32+B33+B34+B35+B36+B37+B38+B39+B40+B41+B42+B43+B44+B45 -> 619963.9 | C8: =C9+C10+C11+C27+C31+C32+C33+C34+C35+C36+C37+C38+C39+C40+C41+C42+C43+C44+C45 -> 741063.8 | D8: =D9+D10+D11+D27+D31+D32+D33+D34+D35+D36+D37+D38+D39+D40+D41+D42+D43+D44+D45 -> 806618.8 | E8: =E9+E10+E11+E27+E31+E32+E33+E34+E35+E36+E37+E38+E39+E40+E41+E42+E43+E44+E45 -> 866411.3 | F8: =F9+F10+F11+F27+F31+F32+F33+F34+F35+F36+F37+F38+F39+F40+F41+F42+F43+F44+F45 -> 918752
A9: Сельское хозяйство, лесное хозяйство и рыболовство | B9: 5138.6 | C9: 6180.7 | D9: 6702.5 | E9: 8131.9 | F9: 8128.9 | G9: 8098.1 | H9: 8589.6 | I9: 12257.5 | J9: 13481.3 | K9: 15480.1 | L9: 21904.4 | M9: 26228.8
A10: Добыча полезных ископаемых | B10: 38622.2 | C10: 45357.2 | D10: 73060.8 | E10: 84262.8 | F10: 84901.3 | G10: 91120.3 | H10: 102144.7 | I10: 129831.3 | J10: 153064.3 | K10: 182644.6 | L10: 186723.5 | M10: 212543.3
A11: Обрабатывающие производства | B11: 188989.3 | C11: 226849.6 | D11: 230118.8 | E11: 233449.9 | F11: 237537.4 | G11: 296564.5 | H11: 366543.5 | I11: 386227.8 | J11: 457768.4 | K11: 511849 | L11: 605397.9 | M11: 740921.2
A12: Производство пищевых продуктов, включая напитки | B12: 26918 | C12: 26625.3 | D12: 29708.7 | E12: 34901.8 | F12: 36416.1 | G12: 38739.1 | H12: 42102.6 | I12: 46844.3 | J12: 58841.3 | K12: 65676.5 | L12: 81181.6 | M12: 84613.3
A13: Производство табачных изделий | B13: 1468.3 | C13: 1271.5 | D13: 981.1 | E13: 916.9 | F13: 916.8 | G13: 910.3 | H13: 1063.3 | I13: 1001 | J13: 1111.4 | K13: 1044.8 | L13: 971.1 | M13: 982.4
A14: Текстильное производство; производство одежды и обуви, кожи и прочих кожаных изделий | B14: 6217.8 | C14: 6138.3 | D14: 3522.1 | E14: 3744.4 | F14: 4366.2 | G14: 5476.9 | H14: 6318.8 | I14: 8317.4 | J14: 10860.8 | K14: 15130.7 | L14: 15006.7 | M14: 18683.8
A15: Производство деревянных и бумажных изделий; полиграфическая деятельность | B15: 2109.3 | C15: 2196.2 | D15: 2368.5 | E15: 2298.3 | F15: 2155.7 | G15: 2062.3 | H15: 2691.7 | I15: 2836.8 | J15: 3488 | K15: 5249.4 | L15: 6655.3 | M15: 10722.3
A16: Производство кокса и очищенных нефтепродуктов | B16: 21357.1 | C16: 24311.3 | D16: 23890.1 | E16: 26361.7 | F16: 23482.4 | G16: 21725.8 | H16: 22112.5 | I16: 21465.7 | J16: 20647.5 | K16: 20345.1 | L16: 27823.6 | M16: 31762.7
A17: Производство химической продукции | B17: 1820.2 | C17: 2021 | D17: 1498.5 | E17: 1803.8 | F17: 2279.5 | G17: 2383.6 | H17: 2749.2 | I17: 2583.3 | J17: 2618.9 | K17: 2382.5 | L17: 2616.5 | M17: 3107.6
A18: Производство фармацевтической продукции | B18: 532.3 | C18: 582.6 | D18: 656.5 | E18: 545.8 | F18: 528.1 | G18: 1474.4 | H18: 1710.7 | I18: 2076.7 | J18: 2267.5 | K18: 2453.7 | L18: 2012.2 | M18: 3224.1
A19: Производство резиновых и пластмассовых изделий | B19: 2745.8 | C19: 3319.2 | D19: 3465.7 | E19: 4135.6 | F19: 4578.5 | G19: 4607.7 | H19: 6281.5 | I19: 6895.9 | J19: 7583.8 | K19: 10425.1 | L19: 12413.1 | M19: 17025.9
A20: Производство неметаллических минеральных продуктов | B20: 19252 | C20: 22573.4 | D20: 26195 | E20: 27050 | F20: 31143.8 | G20: 32791 | H20: 32842.4 | I20: 36722.2 | J20: 38611 | K20: 43149 | L20: 48248.2 | M20: 76460.9
... A45: Прочая обслуживающая деятельность | B45: 1093.6 | C45: 330.2 | D45: 409.7 | E45: 475.1 | F45: 524.7 | G45: 511.2 | H45: 490.9 | I45: 586.1 | J45: 800.6 | K45: 645.1 | L45: 986.6 | M45: 1536.1

Sheet IБ11
A1: Вернуться в СОДЕРЖАНИЕ
A2: Таблица I.Б.11: Обязательства предприятий реального сектора экономики
A3: по видам деятельности
A4: (на конец года, млн.сомов)
B5: 2014 | C5: 2015 | D5: 2016 | E5: 2017 | F5: 2018 | G5: 2019 | H5: 2020 | I5: 2021 | J5: 2022 | K5: 2023 | L5: 2024 | M5: 2025
A7: Всего | B7: 414761.8 | C7: 527891.1 | D7: 565987.1 | E7: 593065.2 | F7: 636106.4 | G7: 703475.5 | H7: 781467.6 | I7: 908683.7 | J7: 1064510.4 | K7: 1421198.1 | L7: 1664685.4 | M7: 2752076.6
A8: в том числе: | B8: =B9+B10+B11+B27+B31+B32+B33+B34+B35+B36+B37+B38+B39+B40+B41+B42+B43+B44+B45 -> 414761.8 | C8: =C9+C10+C11+C27+C31+C32+C33+C34+C35+C36+C37+C38+C39+C40+C41+C42+C43+C44+C45 -> 527891.2 | D8: =D9+D10+D11+D27+D31+D32+D33+D34+D35+D36+D37+D38+D39+D40+D41+D42+D43+D44+D45 -> 565987.2 | E8: =E9+E10+E11+E27+E31+E32+E33+E34+E35+E36+E37+E38+E39+E40+E41+E42+E43+E44+E45 -> 593065.1 | F8: =F9+F10+F11+F27+F31+F32+F33+F34+F35+F36+F37+F38+F39+F40+F41+F42+F43+F44+F45 -> 636106.5
A9: Сельское хозяйство, лесное хозяйство и рыболовство | B9: 2333 | C9: 3066.1 | D9: 3020 | E9: 3019.7 | F9: 2761.9 | G9: 2711.7 | H9: 2787.4 | I9: 4411.9 | J9: 4734.8 | K9: 6305.7 | L9: 9063.9 | M9: 11556.8
A10: Добыча полезных ископаемых | B10: 41851.4 | C10: 43508.1 | D10: 69063.6 | E10: 70451.2 | F10: 69001.5 | G10: 69463.8 | H10: 80371.5 | I10: 103067.8 | J10: 115733.1 | K10: 125516 | L10: 128274.8 | M10: 129653.2
A11: Обрабатывающие производства | B11: 76807.3 | C11: 98116.5 | D11: 98483.5 | E11: 109149 | F11: 110328.1 | G11: 137259.4 | H11: 151473.7 | I11: 188570.8 | J11: 192698.4 | K11: 211817.5 | L11: 256328.5 | M11: 311203.4
A12: Производство пищевых продуктов, включая напитки | B12: 16926.3 | C12: 18072.4 | D12: 18113.4 | E12: 21314 | F12: 21393.5 | G12: 22871.5 | H12: 24553.5 | I12: 23840.9 | J12: 26498.8 | K12: 29545.4 | L12: 35573.6 | M12: 35139.4
A13: Производство табачных изделий | B13: 508.8 | C13: 46.4 | D13: 30.9 | E13: 32.9 | F13: 59.9 | G13: 79.7 | H13: 117.9 | I13: 107.3 | J13: 109.5 | K13: 195.6 | L13: 277.2 | M13: 276.9
A14: Текстильное производство; производство одежды и обуви, кожи и прочих кожаных изделий | B14: 5029.1 | C14: 5488 | D14: 3402.9 | E14: 3763.7 | F14: 3230 | G14: 3998.2 | H14: 5144.9 | I14: 6509.9 | J14: 8335.3 | K14: 8771.3 | L14: 9533.6 | M14: 10697
A15: Производство деревянных и бумажных изделий; полиграфическая деятельность | B15: 1379 | C15: 1541.1 | D15: 1806.6 | E15: 1905.7 | F15: 1957.8 | G15: 1803.5 | H15: 2052 | I15: 2255.8 | J15: 2420.7 | K15: 3376.1 | L15: 3386.3 | M15: 3357
A16: Производство кокса и очищенных нефтепродуктов | B16: 24935.5 | C16: 34773.2 | D16: 35051.9 | E16: 39265.1 | F16: 39514.3 | G16: 42255.2 | H16: 53732.4 | I16: 56705.4 | J16: 59506.9 | K16: 64820.9 | L16: 72758.6 | M16: 79855.6
A17: Производство химической продукции | B17: 854.5 | C17: 1204.6 | D17: 1010.9 | E17: 1225 | F17: 1215 | G17: 1827.4 | H17: 2429.4 | I17: 2951.6 | J17: 3069.7 | K17: 1764.9 | L17: 1556.9 | M17: 1837.6
A18: Производство фармацевтической продукции | B18: 179 | C18: 222.3 | D18: 280.8 | E18: 315.7 | F18: 263.2 | G18: 691.5 | H18: 878 | I18: 1317.7 | J18: 1326.6 | K18: 1422.1 | L18: 1266.5 | M18: 2780.9
A19: Производство резиновых и пластмассовых изделий | B19: 1486.2 | C19: 1958.3 | D19: 1812.7 | E19: 2123 | F19: 2358.7 | G19: 2349.8 | H19: 2934.3 | I19: 3238.8 | J19: 3507.3 | K19: 5620.5 | L19: 6365.1 | M19: 10293
A20: Производство неметаллических минеральных продуктов | B20: 9527.2 | C20: 13482.7 | D20: 16171.3 | E20: 17012.9 | F20: 19455 | G20: 20752.7 | H20: 20996.6 | I20: 22525 | J20: 21971.4 | K20: 23223.8 | L20: 23514.9 | M20: 35420.9
... A45: Прочая обслуживающая деятельность | B45: 243.9 | C45: 240.3 | D45: 262.8 | E45: 262.3 | F45: 232.9 | G45: 228.9 | H45: 236.9 | I45: 243.1 | J45: 1071.1 | K45: 296.6 | L45: 423.1 | M45: 673.6

Sheet IБ12
A1: Вернуться в СОДЕРЖАНИЕ
A2: Таблица I.Б.12: Капитал предприятий реального сектора экономики
A3: по видам деятельности
A4: (на конец года, млн.сомов)
B5: 2014 | C5: 2015 | D5: 2016 | E5: 2017 | F5: 2018 | G5: 2019 | H5: 2020 | I5: 2021 | J5: 2022 | K5: 2023 | L5: 2024 | M5: 2025
A7: Всего | B7: 205202.2 | C7: 213172.6 | D7: 240631.6 | E7: 273346.1 | F7: 282645.6 | G7: 340877.1 | H7: 406251.5 | I7: 424622.2 | J7: 555535.1 | K7: 699324 | L7: 1001038.7 | M7: 1417489.6
A8: в том числе: | B8: =B9+B10+B11+B27+B31+B32+B33+B34+B35+B36+B37+B38+B39+B40+B41+B42+B43+B44+B45 -> 205202.1 | C8: =C9+C10+C11+C27+C31+C32+C33+C34+C35+C36+C37+C38+C39+C40+C41+C42+C43+C44+C45 -> 213172.7 | D8: =D9+D10+D11+D27+D31+D32+D33+D34+D35+D36+D37+D38+D39+D40+D41+D42+D43+D44+D45 -> 240631.6
A9: Сельское хозяйство, лесное хозяйство и рыболовство | B9: 2805.5 | C9: 3114.6 | D9: 3682.5 | E9: 5112.2 | F9: 5367 | G9: 5386.4 | H9: 5802.1 | I9: 7845.6 | J9: 8746.6 | K9: 9174.5 | L9: 12840.5 | M9: 14672
A10: Добыча полезных ископаемых | B10: -3229.2 | C10: 1849.1 | D10: 3997.2 | E10: 13811.6 | F10: 15899.8 | G10: 21656.5 | H10: 21773.2 | I10: 26763.5 | J10: 37331.2 | K10: 57128.6 | L10: 58448.7 | M10: 82890
A11: Обрабатывающие производства | B11: 112182 | C11: 128733.1 | D11: 131635.2 | E11: 124300.9 | F11: 127209.3 | G11: 159305 | H11: 215069.8 | I11: 197657 | J11: 265070 | K11: 300031.5 | L11: 349069.4 | M11: 429717.8
A12: Производство пищевых продуктов, включая напитки | B12: 9991.7 | C12: 8553 | D12: 11595.3 | E12: 13587.8 | F12: 15022.6 | G12: 15867.7 | H12: 17549.1 | I12: 23003.4 | J12: 32342.5 | K12: 36131.1 | L12: 45608 | M12: 49473.9
A13: Производство табачных изделий | B13: 959.5 | C13: 1225.1 | D13: 950.1 | E13: 884 | F13: 856.8 | G13: 830.7 | H13: 945.4 | I13: 893.7 | J13: 1001.9 | K13: 849.3 | L13: 693.9 | M13: 705.5
A14: Текстильное производство; производство одежды и обуви, кожи и прочих кожаных изделий | B14: 1188.7 | C14: 650.3 | D14: 119.2 | E14: -19.3 | F14: 1136.2 | G14: 1478.7 | H14: 1173.9 | I14: 1807.5 | J14: 2525.5 | K14: 6359.4 | L14: 5473.1 | M14: 7986.7
A15: Производство деревянных и бумажных изделий; полиграфическая деятельность | B15: 730.4 | C15: 655.1 | D15: 561.9 | E15: 392.6 | F15: 197.8 | G15: 258.7 | H15: 639.7 | I15: 581.1 | J15: 1067.3 | K15: 1873.3 | L15: 3269 | M15: 7365.2
A16: Производство кокса и очищенных нефтепродуктов | B16: -3578.3 | C16: -10461.8 | D16: -11161.8 | E16: -12903.4 | F16: -16032 | G16: -20529.4 | H16: -31619.9 | I16: -35239.7 | J16: -38859.4 | K16: -44475.8 | L16: -44935 | M16: -48092.9
A17: Производство химической продукции | B17: 965.6 | C17: 816.4 | D17: 487.7 | E17: 578.7 | F17: 1064.4 | G17: 556.2 | H17: 319.8 | I17: -368.4 | J17: -450.8 | K17: 617.6 | L17: 1059.6 | M17: 1270
A18: Производство фармацевтической продукции | B18: 353.3 | C18: 360.3 | D18: 375.7 | E18: 230.1 | F18: 264.8 | G18: 782.9 | H18: 832.8 | I18: 759 | J18: 940.9 | K18: 1031.6 | L18: 745.7 | M18: 443.2
A19: Производство резиновых и пластмассовых изделий | B19: 1259.5 | C19: 1360.8 | D19: 1653.1 | E19: 2012.5 | F19: 2219.8 | G19: 2257.9 | H19: 3347.2 | I19: 3657.1 | J19: 4076.5 | K19: 4804.6 | L19: 6048 | M19: 6732.9
A20: Производство неметаллических минеральных продуктов | B20: 9724.9 | C20: 9090.7 | D20: 10023.8 | E20: 10037.1 | F20: 11688.8 | G20: 12038.3 | H20: 11845.8 | I20: 14197.2 | J20: 16639.5 | K20: 19925.2 | L20: 24733.2 | M20: 41040
... A45: Прочая обслуживающая деятельность | B45: 849.7 | C45: 89.9 | D45: 146.9 | E45: 212.8 | F45: 291.9 | G45: 282.2625 | H45: 254 | I45: 342.9 | J45: -270.5 | K45: 348.5 | L45: 563.4 | M45: 862.5

Sheet IВ1
A1: Вернуться в СОДЕРЖАНИЕ
A2: Таблица I.В.1: Сальдированный финансовый результат предприятий экономики
A3: (млн. сомов)
B4: 2014 | C4: 2015 | D4: 2016 | E4: 2017 | F4: 2018 | G4: 2019 | H4: 2020 | I4: 2021 | J4: 2022 | K4: 2023 | L4: 2024 | M4: 2025
A6: Всего | B6: 15329.8 | C6: -15840.3 | D6: 53228.6 | E6: 33616.6 | F6: 34665.8 | G6: 56461.9 | H6: 24752.5 | I6: 114505.3 | J6: 193190.6 | K6: 182703 | L6: 301542.9 | M6: 430541.4
A7: в том числе:
A8: Сельское хозяйство, лесное хозяйство и рыболовство | B8: 191.7 | C8: -195.2 | D8: 359.3 | E8: 526.8 | F8: 211.6 | G8: 253.5 | H8: 408.9 | I8: 806.8 | J8: 1017.2 | K8: 1300.5 | L8: 650.6 | M8: 714
A9: Добыча полезных ископаемых | B9: -1864.1 | C9: -8200.3 | D9: 2462.9 | E9: 2728.4 | F9: 3027.1 | G9: 3902.1 | H9: -5815.8 | I9: 5958.2 | J9: 2975.6 | K9: 3789.4 | L9: 8432.5 | M9: 21843
A10: Обрабатывающие производства | B10: 6905.1 | C10: 572.9 | D10: 19660.1 | E10: 17694.9 | F10: 14983.8 | G10: 20607.1 | H10: 28456.3 | I10: 46125.2 | J10: 104117 | K10: 68272 | L10: 95369.8 | M10: 147935.9
A11: Производство пищевых продуктов, включая напитки | B11: 1327.7 | C11: -330.3 | D11: 1612.5 | E11: 1635.9 | F11: 2477.5 | G11: 1962.7 | H11: 2159.1 | I11: 5475.7 | J11: 6857.9 | K11: 10160.3 | L11: 12111.8 | M11: 11571.5
A12: Производство табачных изделий | B12: -100.3 | C12: 260.2 | D12: -126.8 | E12: -47.5 | F12: -18.1 | G12: -29.7 | H12: 132.1 | I12: -9.4 | J12: 105.6 | K12: 29.2 | L12: -27.5 | M12: 0.7
A13: Текстильное производство; производство одежды и обуви, кожи и прочих кожаных изделий | B13: -64.4 | C13: -110.6 | D13: 117.7 | E13: 215.6 | F13: 68.9 | G13: 109.3 | H13: -84.4 | I13: -66.8 | J13: 237.4 | K13: 848.3 | L13: 562.8 | M13: 1846.8
A14: Производство деревянных и бумажных изделий; полиграфическая деятельность | B14: 102.7 | C14: -26.8 | D14: 27.5 | E14: -50.7 | F14: -13 | G14: 60.2 | H14: 12.2 | I14: 165.8 | J14: 333.5 | K14: 564.9 | L14: 1435.6 | M14: 1248.9
A15: Производство кокса и очищенных нефтепродуктов | B15: -4149.2 | C15: -7322 | D15: 934.8 | E15: -2031.9 | F15: -3300.1 | G15: -5007.1 | H15: -11920.6 | I15: -4754 | J15: -3886.3 | K15: -5372.8 | L15: -1014.9 | M15: -2512.9
A16: Производство химической продукции | B16: 75.4 | C16: -324.5 | D16: -146 | E16: 174.6 | F16: -144.3 | G16: -230.2 | H16: -257.1 | I16: -236 | J16: -104.8 | K16: 143.3 | L16: 274.4 | M16: 365.5
A17: Производство фармацевтической продукции | B17: 1.4 | C17: 17 | D17: 17.3 | E17: 20.7 | F17: 20 | G17: 11.7 | H17: 191.4 | I17: 110.7 | J17: 135 | K17: 92.8 | L17: 183.7 | M17: 149
A18: Производство резиновых и пластмассовых изделий | B18: 262.2 | C18: 78.9 | D18: 200.8 | E18: 445.9 | F18: 339.9 | G18: 140 | H18: 190.8 | I18: 418.8 | J18: 455.1 | K18: 619.9 | L18: 604.7 | M18: 1452.8
A19: Производство неметаллических минеральных продуктов | B19: 1475 | C19: 440.4 | D19: 752.3 | E19: 1274.8 | F19: 2190.6 | G19: 1957.9 | H19: 1209.4 | I19: 6296.7 | J19: 7160.1 | K19: 7483 | L19: 9758.6 | M19: 12755.7
... A36: Cвязь | B36: 7401.1 | C36: 7560 | D36: 5188.7 | E36: 4966 | F36: 4183.1 | G36: 4072.6 | H36: 2222.4 | I36: 6558.4 | J36: 7752 | K36: 10036.8 | L36: 10963.3 | M36: 11597
A37: Финансовое посредничество и страхование | B37: =B38+B39+B40+B41+B42 -> 9918.6 | C37: =C38+C39+C40+C41+C42 -> 10304.2 | D37: =D38+D39+D40+D41+D42 -> 6378.9 | E37: =E38+E39+E40+E41+E42 -> 6479.9 | F37: =F38+F39+F40+F41+F42 -> 7837.6 | G37: 8889.2 | H37: 14398.6 | I37: 21120.2 | J37: 40129.8 | K37: 45937.6 | L37: 90487.4 | M37: 111059.8
A38: Банки | B38: 8882.7 | C38: 9119 | D38: 4935.7 | E38: 4679.5 | F38: 5389.9 | G38: 5794.7 | H38: 11057.5 | I38: 16995.9 | J38: 34715.2 | K38: 38741.5 | L38: 79196.3 | M38: 96344.6
A39: Страховые компании | B39: 192.5 | C39: 351.1 | D39: 66.2 | E39: 131.7 | F39: 177.6 | G39: 195.4 | H39: 274.8 | I39: 256.6 | J39: 378.3 | K39: 418.8 | L39: 1253.4 | M39: 2090.9
A40: Инвестиционные фонды | B40: 3.2 | C40: 4.3 | D40: 5.3 | E40: 4.3 | F40: 5.5 | G40: 5.9 | H40: 6.9 | I40: 4.1 | J40: 4.1 | K40: 5.6 | L40: 6 | M40: 5.4
A41: Небанковские финансово-кредитные учреждения | B41: 870.9 | C41: 828.5 | D41: 1308.9 | E41: 1558.5 | F41: 2065.8 | G41: 2749.6 | H41: 2796.6 | I41: 3246.6 | J41: 3749 | K41: 4561.7 | L41: 5001.5 | M41: 6714.5
A42: Прочие виды финансовой деятельности | B42: -30.7 | C42: 1.3 | D42: 62.8 | E42: 105.9 | F42: 198.8 | G42: 143.6 | H42: 262.8 | I42: 617 | J42: 1283.2 | K42: 2210 | L42: 5030.2 | M42: 5904.4
A43: Операции с недвижимым имуществом | B43: 839 | C43: -725.4 | D43: 1342.6 | E43: 1658.7 | F43: 1410.2 | G43: 2335.3 | H43: -793.9 | I43: 2869.3 | J43: 3619.4 | K43: 6173.7 | L43: 6472.6 | M43: 9273
A44: Профессиональная, научная и техническая деятельность | B44: -7207.1 | C44: -9656.9 | D44: 1230.2 | E44: -4990.8 | F44: -5185.2 | G44: -331.2 | H44: -7547.6 | I44: 2905.5 | J44: 2545.5 | K44: 1899 | L44: 9553.5 | M44: 7444.1
A45: Административная и вспомогательная деятельность | B45: 247.1 | C45: 152.7 | D45: 412.3 | E45: 530.5 | F45: 539.2 | G45: 655.3 | H45: 215.6 | I45: 1014.1 | J45: 1568.7 | K45: 1839.5 | L45: 3004.7 | M45: 3012.6
A46: Образование | B46: 0.2 | C46: 18.9 | D46: 22.4 | E46: 17.3 | F46: 23.6 | G46: 41.8 | H46: 29.8 | I46: 180.3 | J46: 294 | K46: 285.7 | L46: 864.4 | M46: 1633.6
A47: Здравоохранение и социальное обслуживание населения | B47: 17.5 | C47: -14 | D47: 96.8 | E47: 74.8 | F47: 143.2 | G47: 252.2 | H47: -26.6 | I47: 815.9 | J47: 626.5 | K47: 1444 | L47: 2495.6 | M47: 3658
A48: Искусство, развлечения и отдых | B48: 102.6 | C48: -25.5 | D48: 44.8 | E48: -23.3 | F48: 32.9 | G48: -29.7 | H48: -219.6 | I48: -23.2 | J48: 38.5 | K48: 585.6 | L48: 493 | M48: 917.5
A49: Прочая обслуживающая деятельность | B49: 36.5 | C49: 16.2 | D49: 61.9 | E49: 92.1 | F49: 76.1 | G49: 38.7 | H49: 22.3 | I49: 80 | J49: 109.6 | K49: 303.2 | L49: 658.2 | M49: 1337.4

Sheet IВ2
A1: Вернуться в СОДЕРЖАНИЕ
A2: Таблица I.В.2: Прибыль рентабельных предприятий экономики
A3: (млн. сомов)
B4: 2014 | C4: 2015 | D4: 2016 | E4: 2017 | F4: 2018 | G4: 2019 | H4: 2020 | I4: 2021 | J4: 2022 | K4: 2023 | L4: 2024 | M4: 2025
A6: Всего | B6: 50663 | C6: 51672.7 | D6: 67425.8 | E6: 65877.3 | F6: 61542.5 | G6: 77971.6 | H6: 97287.9 | I6: 145982.4 | J6: 234314.6 | K6: 255904.2 | L6: 362870.2 | M6: 519089.1
A7: в том числе:
A8: Сельское хозяйство, лесное хозяйство и рыболовство | B8: 430.9 | C8: 290.6 | D8: 502 | E8: 708.8 | F8: 422.3 | G8: 406.2 | H8: 599.4 | I8: 1021.3 | J8: 1184.8 | K8: 1634.6 | L8: 1394 | M8: 1476.6
A9: Добыча полезных ископаемых | B9: 860.3 | C9: 750.2 | D9: 4358 | E9: 4319.1 | F9: 4551.5 | G9: 5162.8 | H9: 5232.8 | I9: 10328 | J9: 7226.3 | K9: 10369.7 | L9: 11598.4 | M9: 26021
A10: Обрабатывающие производства | B10: 13601.9 | C10: 14339.8 | D10: 21545.4 | E10: 21476.9 | F10: 20228.9 | G10: 27794.1 | H10: 44360.7 | I10: 53371 | J10: 110082.4 | K10: 76021.9 | L10: 99985.6 | M10: 158132.1
A11: Производство пищевых продуктов, включая напитки | B11: 2115.5 | C11: 1469.2 | D11: 1991 | E11: 2165.8 | F11: 3087.8 | G11: 2646.4 | H11: 3160.7 | I11: 5960.4 | J11: 7271 | K11: 10572.6 | L11: 13124.2 | M11: 14818.4
A12: Производство табачных изделий | B12: 22.4 | C12: 260.2 | D12: 0.1 | E12: 1.6 | F12: 0.3 | G12: 1.8 | H12: 133.4 | I12: 1.8 | J12: 110.2 | K12: 31.7 | L12: 0.1 | M12: 2.7
A13: Текстильное производство; производство одежды и обуви, кожи и прочих кожаных изделий | B13: 180.7 | C13: 100.1 | D13: 228.3 | E13: 248.8 | F13: 110.7 | G13: 213.6 | H13: 176.8 | I13: 309.4 | J13: 452.1 | K13: 1060.5 | L13: 1053.7 | M13: 2244.3
A14: Производство деревянных и бумажных изделий; полиграфическая деятельность | B14: 161.6 | C14: 104.5 | D14: 127.6 | E14: 101.8 | F14: 106.1 | G14: 157.3 | H14: 192.9 | I14: 291.9 | J14: 385.8 | K14: 634.6 | L14: 1513.9 | M14: 1574.6
A15: Производство кокса и очищенных нефтепродуктов | B15: 156 | C15: 96.1 | D15: 990.1 | E15: - | F15: 55.7 | G15: 42.4 | H15: 0.1 | I15: 207.4 | J15: 376.2 | K15: 715.8 | L15: 838.6 | M15: 1361.2
A16: Производство химической продукции | B16: 198.7 | C16: 132.2 | D16: 93.5 | E16: 267.8 | F16: 42.1 | G16: 28.6 | H16: 76.5 | I16: 65.4 | J16: 73.8 | K16: 261.7 | L16: 313.7 | M16: 562.7
A17: Производство фармацевтической продукции | B17: 24.8 | C17: 31.7 | D17: 27 | E17: 33.6 | F17: 31.6 | G17: 72.9 | H17: 230.1 | I17: 116.6 | J17: 153.2 | K17: 131.9 | L17: 220.1 | M17: 163.8
A18: Производство резиновых и пластмассовых изделий | B18: 321.1 | C18: 300.5 | D18: 270.3 | E18: 558.5 | F18: 382.7 | G18: 193.9 | H18: 265 | I18: 491.4 | J18: 505.6 | K18: 663.8 | L18: 708.1 | M18: 1546.8
A19: Производство неметаллических минеральных продуктов | B19: 2119.7 | C19: 1729.6 | D19: 1244.5 | E19: 1500.8 | F19: 2588.9 | G19: 2322.8 | H19: 2539.2 | I19: 6770.9 | J19: 7241.5 | K19: 7736.5 | L19: 10110.1 | M19: 13552
A20: Производство основных металлов и готовых металлических изделий, кроме машин и оборудования | B20: 7770.5 | C20: 9753.9 | D20: 16187.1 | E20: 15913.2 | F20: 13371 | G20: 21620.5 | H20: 37006.4 | I20: 38286.2 | J20: 92096.6 | K20: 52739 | L20: 69991.6 | M20: 119632.9
A21: Производство компьютеров, электронного и оптического оборудования | B21: 31.1 | C21: 20.4 | D21: 18.1 | E21: 19.7 | F21: 2 | G21: 7.1 | H21: 25.2 | I21: 13.9 | J21: 31.6 | K21: 74.7 | L21: 67.8 | M21: 42.1
A22: Производство электрического оборудования | B22: 231.9 | C22: 200.7 | D22: 149 | E22: 150.1 | F22: 141.4 | G22: 105.4 | H22: 252.4 | I22: 164.4 | J22: 346.3 | K22: 490.3 | L22: 723 | M22: 616.8
