Workbook
Name Button_1: "Pokreal_CHC_List"
Name Button_2: "Pokreal_CHC_List"
Name KP: #REF!
Name KP: #REF!
Name г.Ош: #REF!
Name ГР: #REF!
Name демогр7: #REF!
Name ЕГР: #REF!
Name ЕГРСЕ1: #REF!
Name ЕГРСЕ2: #REF!
Name й12312: #REF!
Name КРыз: #REF!
Name КРыз: #REF!
Name т123: #REF!
Name тр: #REF!
Name тур: #REF!

Sheet свод
A1: 1. Административно-территориальное деление
A2: Ошской области
A3: (на конец года, единиц)
C4: 2020 | D4: 2021 | E4: 2022 | F4: 2023 | G4: 2024
A5: Число районов | C5: 7 | D5: 7 | E5: 7 | F5: 7 | G5: 7
A6: Число городов | C6: 3 | D6: 3 | E6: 3 | F6: 3 | G6: 3
A7: Число айыльных аймаков | C7: 88 | D7: 88 | E7: 88 | F7: 88 | G7: 58
A8: Число сельских населенных пунктов | C8: 526 | D8: 526 | E8: 530 | F8: 536 | G8: 504
A11: 1.2 Основные социально-экономические характеристики
A12: Ошской области
B13: Ед. изм. | C13: 2020 | D13: 2021 | E13: 2022 | F13: 2023 | G13: 2024
A15: Объем производства промышленной
A16: продукции (по видам экономической деятельности) без стоимости давальческого сырья | B16: млн.сомов | C16: 9457.8 | D16: 13516.8 | E16: 14596.6 | F16: 17317.6 | G16: 18474.2
A17: Производство основных видов
A18: промышленной продукции
A19: (по основным производимым видам):
A20: Уголь каменный и лигнит | B20: тыс.тонн (т) | C20: 535.1 | D20: 875.2 | E20: 977 | F20: 1001.6 | G20: 783.7
A21: Мясо и пищевые субпродукты | B21: т | C21: 4706.1 | D21: 5061.6 | E21: 4476.2 | F21: 4945.7 | G21: 5963.8
A22: Масло растительное | B22: т | C22: 508.7 | D22: 402.4 | E22: 366.4 | F22: 404.1 | G22: 530
A23: Табак промышленно изготовленный | B23: т | C23: - | D23: 107 | E23: 96.6 | F23: 33 | G23: 71.5
A24: Волокно хлопковое, кардо и гребнечесаное | B24: т | C24: 8368.9 | D24: 8258.9 | E24: 9730.3 | F24: 9058.4 | G24: 7739.3
A25: Мука из зерновых культур | B25: тыс. т | C25: 25 | D25: 17.8 | E25: 20.5 | F25: 22.3 | G25: 21.4
A26: Производство основных видов
A27: сельскохозяйственной продукции:
A28: Зерно (в весе после доработки) | B28: т | C28: 308769.6 | D28: 306939.8 | E28: 327810 | F28: 333370.3 | G28: 357785.2
A29: Картофель | B29: т | C29: 204947.3 | D29: 207365.6 | E29: 206648 | F29: 211356.5 | G29: 219944.3
A30: Овощи | B30: т | C30: 173538.5 | D30: 179111.8 | E30: 186387 | F30: 198183.7 | G30: 189107.4
A31: Мясо (в живой массе) | B31: т | C31: 86155.5 | D31: 87256.6 | E31: 88448.2 | F31: 90043 | G31: 90144.3
A32: Мясо (в убойной массе) | B32: т | C32: 46853 | D32: 47342 | E32: 50070.8 | F32: 48781.9 | G32: 49456.4
A33: Молоко сырое | B33: т | C33: 328068 | D33: 335023.5 | E33: 340341.6 | F33: 339592.9 | G33: 76470.5
A34: Шерсть (в физическом весе) | B34: т | C34: 2307 | D34: 2276.6 | E34: 2263.6 | F34: 2363.1 | G34: 2262.5
A35: Яйца | B35: тыс.шт | C35: 61683.1 | D35: 64196.9 | E35: 65462.3 | F35: 66670.8 | G35: 76470.5
A36: Инвестиции в основной капитал
A37: (капитальные вложения) | B37: млн.сомов | C37: 5088.1 | D37: 5481.1 | E37: 11810 | F37: 12863.7 | G37: 23593.5
A38: Перевозки грузов автомобильным
A39: транспортом | B39: тыс. т | C39: 2424.2 | D39: 2580.4 | E39: 2680.1 | F39: 2756.8 | G39: 2930.7
A40: Оптовая и розничная торговля; автомобилей и мотоциклов | B40: млн.сомов | C40: 37473.1 | D40: 48279.8 | E40: 61984.7 | F40: 76071 | G40: 90039.6
A41: Деятельность гостиниц и ресторанов | B41: млн.сомов | C41: 961.9 | D41: 1196.5 | E41: 1435.6 | F41: 1699.2 | G41: 2087.4
A42: Оборот розничной торговли, включая
A43: оборот предприятий питания | B43: млн.сомов | C43: 32093.4 | D43: 43095.9 | E43: 52975.5 | F43: 65192.9 | G43: 78609.2
...

Sheet ЕГРСЕ (3)
A1: 2. ПРЕДПРИЯТИЯ И ОРГАНИЗАЦИИ
A2: 2.1 Количество действующих юридических лиц, филиалов и представительств1
A4: (на 1 января)
B5: 2020 | C5: 2021 | D5: 2022 | E5: 2023 | F5: 2024
A6: Всего | B6: 3707 | C6: 3925 | D6: 3987 | E6: 4084 | F6: 4209
A7: Сельское хозяйство, лесное хозяйство и рыболовство. | B7: 258 | C7: 274 | D7: 304 | E7: 305 | F7: 328
A8: Добыча полезных ископаемых | B8: 47 | C8: 66 | D8: 65 | E8: 90 | F8: 92
A9: Обрабатывающие производства (Обрабатывающие промышленность) | B9: 95 | C9: 113 | D9: 105 | E9: 97 | F9: 105
A10: Обеспечение (снабжение) электроэнергией, газом, паром и кондициронированным воздухом. | B10: 5 | C10: 5 | D10: 5 | E10: 16 | F10: 13
A11: Водоснабжение, очистка, обработка отходов и получение вторичного сырья. | B11: 82 | C11: 94 | D11: 96 | E11: 68 | F11: 87
A12: Строительство | B12: 92 | C12: 136 | D12: 133 | E12: 160 | F12: 173
A13: Оптовая и розничная торговля, ремонт автомобилейи мотоциклов. | B13: 107 | C13: 145 | D13: 144 | E13: 206 | F13: 213
A14: Транспортная деятельность и хранение грузов. | B14: 65 | C14: 86 | D14: 84 | E14: 85 | F14: 91
A15: Деятельность гостиниц и ресторанов. | B15: 4 | C15: 4 | D15: 4 | E15: 5 | F15: 5
A16: Информация и связь | B16: 22 | C16: 22 | D16: 23 | E16: 28 | F16: 17
A17: Финансовое посредничество и страхование | B17: 131 | C17: 146 | D17: 151 | E17: 150 | F17: 111
... A25: Прочая обслуживающая деятельность. | B25: 1245 | C25: 1218 | D25: 1223 | E25: 839 | F25: 835
A26: Деятельность экстерриториальных организаций | B26: - | C26: - | D26: - | E26: -
A30: 2.2 Количество действующих юридических лиц, филиалов и представительств1 по территории
A31: (на 1 января)
B32: 2020 | C32: 2021 | D32: 2022 | E32: 2023
A33: Ошская область | B33: 3707 | C33: 3925 | D33: 3987 | E33: 4084 | F33: 4209
A34: Алайский район | B34: 333 | C34: 345 | D34: 347 | E34: 324 | F34: 344
A35: Араванский район | B35: 503 | C35: 493 | D35: 483 | E35: 392 | F35: 391
A36: Кара-Сууский район | B36: 1144 | C36: 1301 | D36: 1323 | E36: 1267 | F36: 1320
A37: Ноокатский район | B37: 684 | C37: 694 | D37: 731 | E37: 834 | F37: 869
A38: Кара-Кулжинский район | B38: 304 | C38: 306 | D38: 304 | E38: 290 | F38: 294
A39: Узгенский район | B39: 604 | C39: 659 | D39: 672 | E39: 791 | F39: 807
A40: Чон-Алайский район | B40: 135 | C40: 127 | D40: 127 | E40: 186 | F40: 184
A43: 2.3 Количество действующих юридических лиц, филиалов и представительств1 по формам собственности
A44: (на 1 января)
B45: 2020 | C45: 2021 | D45: 2022 | E45: 2023 | F45: 2024
A46: Всего | B46: 3707 | C46: 3925 | D46: 3987 | E46: 4084 | F46: 4209
A47: Государственная собственность | B47: 1201 | C47: 1232 | D47: 1252 | E47: 1635 | F47: 1658
A48: Муниципальная (коммунальная) собственность | B48: 250 | C48: 253 | D48: 261 | E48: 294 | F48: 374
A49: Частная собственность | B49: 2256 | C49: 2440 | D49: 2474 | E49: 2155 | F49: 2177
A50: Иные формы собственности | B50: 1 | C50: 1 | D50: 0 | E50: 0 | F50: 0
A53: 2.4 Количество юридических лиц, филиалов и представительств1 по признакам активности
A54: (на 1 января)
B55: 2020 | C55: 2021 | D55: 2022 | E55: 2023 | F55: 2024
...

Sheet ВРП И СНС
A1: 3. ВАЛОВЫЙ РЕГИОНАЛЬНЫЙ ПРОДУКТ (ВРП)
A2: 3.1. Валовой региональный продукт (ВРП)
A3: (миллион сомов)
B4: 2020 | C4: 2021 | D4: 2022 | E4: 2023 | F4: 2024
A5: Валовой региональный продукт | B5: 50996.5 | C5: 60550.7 | D5: 77621.9 | E5: 96701 | F5: 106559.6
A6: Валовой региональный стоимость | B6: 15529.8 | C6: 19625.8 | D6: 23151.6 | E6: 25221.9 | F6: 24966.8
A7: Сельское хозяйство, лесное хозяйство и рыбоводство | B7: 539.5 | C7: 1519.8 | D7: 1034 | E7: 1315 | F7: 2618.2
A8: Добыча полезных ископаемых | B8: 4096.7 | C8: 5139.8 | D8: 6850 | E8: 8155.9 | F8: 8799.1
A9: Обрабатывающие производства | B9: 461.6 | C9: 105.5 | D9: 256.3 | E9: 535.2 | F9: 1164.1
A10: Обеспечение (снабжение) электроэнергией, паром и кондицированным воздухом | B10: 63.9 | C10: 67.1 | D10: 80.2 | E10: 111 | F10: 143
A11: Водоснабжение, очистка, обработка отходов и получение вторичного сырья | B11: 2308.5 | C11: 1210.5 | D11: 4037.8 | E11: 7050.7 | F11: 7824.1
A12: Строительство | B12: 8966.7 | C12: 11879.8 | D12: 11904.4 | E12: 17195.2 | F12: 20702.3
A13: Оптовая и розничная торговля, ремонт автомобилей и мотоциклов | B13: 695.5 | C13: 791 | D13: 1014.4 | E13: 1051.7 | F13: 1205.2
A14: Транспортная деятельность и хранение грузов | B14: 549.2 | C14: 545.5 | D14: 677 | E14: 1026.9 | F14: 1451.7
A15: Деятельность гостиниц и ресторанов | B15: 12.7 | C15: 21.2 | D15: 24.9 | E15: 15.3 | F15: 30.3
A16: Информация и связь | B16: 1436.1 | C16: 1477.5 | D16: 4184.1 | E16: 4621.5 | F16: 6058
... A24: Искусство, развлечение и отдых | B24: 238.9 | C24: 339.2 | D24: 322.1 | E24: 384.4 | F24: 540.7
A25: Прочая обслуживающая деятельность | B25: - | C25: - | D25: - | E25: - | F25: -
A26: Косвенно измеряемые услуги финансового посредничества | B26: 12.4 | C26: 28.9 | D26: 36.7 | E26: 36 | F26: 44.7
A27: Чистые налоги на продукты | B27: 695.5 | C27: 1022.8 | D27: 1290.3 | E27: 2432.7 | F27: 2182.6
A30: 3.2. Валовой региональный продукт (ВРП)
A31: (в процентах к предыдущему году)
B32: 2020 | C32: 2021 | D32: 2022 | E32: 2023 | F32: 2024
A34: Валовой региональный продукт | B34: 92.6 | C34: 109.1 | D34: 104.7 | E34: 106.7 | F34: 110.3
A35: Сельское хозяйство, лесное хозяйство и рыбоводство | B35: 101.1 | C35: 101 | D35: 102.9 | E35: 101.7 | F35: 104.2
A36: Добыча полезных ископаемых | B36: 37.2 | C36: 159.3 | D36: 81.4 | E36: 152.1 | F36: 140.7
A37: Обрабатывающие производства | B37: 95.5 | C37: 139.6 | D37: 103.5 | E37: 109.6 | F37: 123.9
A38: Обеспечение (снабжение) электроэнергией, паром и кондицированным воздухом | B38: 101.1 | C38: 97 | D38: 102.3 | E38: 126.6 | F38: 264
A39: Водоснабжение, очистка, обработка отходов и получение вторичного сырья | B39: 97.4 | C39: 102.5 | D39: 113.4 | E39: 116.3 | F39: 116.3
A40: Строительство | B40: 89 | C40: 111.1 | D40: 161.5 | E40: 120 | F40: 140.4
A41: Оптовая и розничная торговля, ремонт автомобилей и мотоциклов | B41: 82.7 | C41: 116.9 | D41: 109.9 | E41: 115.1 | F41: 118.6
A42: Транспортная деятельность и хранение грузов | B42: 92.9 | C42: 91.2 | D42: 99.7 | E42: 110.1 | F42: 114.9
A43: Деятельность гостиниц и ресторанов | B43: 73.9 | C43: 109 | D43: 109.1 | E43: 110.9 | F43: 117.9
A44: Информация и связь | B44: 56 | C44: 144.1 | D44: 114.2 | E44: 130.5 | F44: 200
A45: Финансовое посредничество и страхование | B45: 66.8 | C45: 134.4 | D45: 102.8 | E45: 104.7 | F45: 103.4
... A53: Прочая обслуживающая деятельность | B53: 89.2 | C53: 89.3 | D53: 92.1 | E53: 117.9 | F53: 101.9
A54: Косвенно измеряемые услуги финансового посредничества | B54: - | C54: - | D54: - | E54: -
A55: Чистые налоги на продукты | B55: 93.4 | C55: 122.1 | D55: 111.4 | E55: 113.4 | F55: 112.2
A58: 3.3. Основные фонды по полной стоимости
A59: (на конец года; миллионов сомов)
...

Sheet пром1
A1: 4. ПРОМЫШЛЕННОСТЬ
A2: 4.1. Объем производства промышленной продукции по видам экономической
A3: деятельности (без учета стоимости давальческого сырья)
A4: (миллион сомов)
B5: 2020 | C5: 2021 | D5: 2022 | E5: 2023 | F5: 2024
A6: Всего | B6: 9457.8 | C6: 13463.8 | D6: 14596.6 | E6: 17317.6 | F6: 18474.246
A7: Добыча полезных ископаемых | B7: 1137.7 | C7: 2401.6 | D7: 2393.2 | E7: 3852.8 | F7: 3144.7306
A8: Добыча каменного угля и бурого угля (лигнита) | B8: 834.5 | C8: 1419 | D8: 1833.2 | E8: 2127.1 | F8: 1804.8808
A9: Добыча металлических руд | B9: 50.2 | C9: 617.9 | D9: 171.7 | E9: 786.8 | F9: 637.8558
A10: Добыча прочих полезных ископаемых | B10: 253 | C10: 364.7 | D10: 388.3 | E10: 939 | F10: 701.994
A11: Обрабатывающие производства | B11: 7008.5 | C11: 9662.3 | D11: 10713.7 | E11: 11617.8 | F11: 13022.681
A12: Производство пищевых продуктов (включая напитки) и табачных изделий | B12: 423.5 | C12: 501.8 | D12: 665.1 | E12: 610.3 | F12: 768.6196
A13: Текстильное производство; производство одежды и обуви, кожи и прочих кожаных изделий | B13: 424.2 | C13: 676.4 | D13: 756.7 | E13: 687.4 | F13: 720.0655
A14: Производство деревянных и бумажных изделий; полиграфическая деятельность | B14: 134 | C14: 169 | D14: 314.7 | E14: 275.8 | F14: 279.5112
A15: Производство кокса и очищенных нефтепродуктов | B15: - | C15: - | D15: - | E15: - | F15: 15.7848
A16: Производство химической продукции | B16: 1.4 | C16: 1.9 | D16: 1.9 | E16: 1.2 | F16: 1.544
A17: Производство фармацевтической продукции | B17: 7.2 | C17: - | D17: - | E17: - | F17: -
A18: Производство резиновых и пластмассовых изделий, прочих неметаллических минеральных продуктов | B18: 5911.7 | C18: 8189.8 | D18: 8828.7 | E18: 9890.6 | F18: 11082.446
A19: Производство основных металлов и готовых металлических изделий, кроме машин и оборудования | B19: 37 | C19: 33.2 | D19: 18.4 | E19: 23.8 | F19: 69.4723
A20: Производство электрического оборудования | B20: 45.2 | C20: 63.2 | D20: 89 | E20: 67.8 | F20: -
A21: Прочие производства, ремонт и установка машин и оборудования | B21: 24.3 | C21: 27 | D21: 39.2 | E21: 60.8 | F21: 85.2382
A22: Обеспечение (снабжение) электроэнергией, газом, паром и кондиционированным воздухом | B22: 1197.5 | C22: 1275.4 | D22: 1338.1 | E22: 1630.1 | F22: 2054.859
A23: Производство электроэнергии, ее передача и распределение | B23: 1186.2 | C23: 1265 | D23: 1323.3 | E23: 1615.7 | F23: 2037.2319
A24: Обеспечение (снабжение) паром и кондиционированным воздухом | B24: 11.3 | C24: 10.4 | D24: 14.7 | E24: 14.4 | F24: 17.6271
A25: Водоснабжение, очистка, обработка отходов и получение вторичного сырья | B25: 114.1 | C25: 124.5 | D25: 151.6 | E25: 216.8 | F25: 251.9751
A26: Сбор, обработка и распределение воды (водоснабжение) | B26: 80.7 | C26: 84.4 | D26: 100.5 | E26: 133.7 | F26: 150.069
A27: Сбор, обработка и уничтожение отходов, получение вторичного сырья | B27: 33.4 | C27: 36.7 | D27: 45.2 | E27: 73.8 | F27: 92.0565
A28: Обеззараживание и прочая обработка отходов | B28: - | C28: 3.4 | D28: 5.9 | E28: 9.3 | F28: 9.8
A31: 4.2. Объем производства промышленной продукции по территории
A32: (миллион сомов)
B33: 2020 | C33: 2021 | D33: 2022 | E33: 2023 | F33: 2024
A35: Ошская область | B35: 9457.8 | C35: 13463.8 | D35: 14596.6 | E35: 17317.6 | F35: 18474.246
A36: районы:
A37: Алайский | B37: 355.5 | C37: 674.2 | D37: 719.7 | E37: 578.9 | F37: 412.9179
A38: Араванский | B38: 3834.4 | C38: 4382.5 | D38: 4337.2 | E38: 5245.6 | F38: 6052.3538
A39: Кара-Кулжинский | B39: 84.4 | C39: 89.5 | D39: 101.8 | E39: 120.3 | F39: 148.6919
A40: Кара-Сууский | B40: 1688.9 | C40: 2161.8 | D40: 2790.9 | E40: 3322.5 | F40: 3796.4293
A41: в т.ч. г.Кара-Суу | B41: 443 | C41: 478.6 | D41: 366.4 | E41: 603.3 | F41: 812.9
A42: Ноокатский | B42: 2467.1 | C42: 4164.7 | D42: 4692.7 | E42: 5058.6 | F42: 5077.6308
A43: в т.ч.г. Ноокат | B43: 9.6 | C43: 17.7 | D43: 12 | E43: 43.1 | F43: 51
...

Sheet пром2
A1: 4.3. Индексы физического объема промышленной продукции
A2: по видам экономической деятельности
A3: (в процентах к предыдущему году)
B4: 2020 | C4: 2021 | D4: 2022 | E4: 2023 | F4: 2024
A5: Всего | B5: 82.4 | C5: 133.6 | D5: 104.9 | E5: 117.1 | F5: 107.8
A6: Добыча полезных ископаемых | B6: 34 | C6: 201 | D6: 99 | E6: 160.7 | F6: 96
A7: Добыча каменного угля и бурого угля (лигнита) | B7: 72.3 | C7: 157.4 | D7: 110.5 | E7: 112.5 | F7: 87.3
A8: Добыча металлических руд | B8: 5.7 | C8: 764.1 | D8: 25.6 | E8: 540.3 | F8: 100
A9: Добыча прочих полезных ископаемых | B9: 83.4 | C9: 116.8 | D9: 93.5 | E9: 130.2 | F9: 123.4
A10: Обрабатывающие производства | B10: 94.5 | C10: 126.4 | D10: 105.9 | E10: 105.8 | F10: 108
A11: Производство пищевых продуктов (включая напитки) и табачных изделий | B11: 87.5 | C11: 102.9 | D11: 96.8 | E11: 108.4 | F11: 115.3
A12: Текстильное производство; производство одежды и обуви, кожи и прочих кожаных изделий | B12: 100.1 | C12: 124.8 | D12: 97.3 | E12: 97.2 | F12: 99.6
A13: Производство деревянных и бумажных изделий; полиграфическая деятельность | B13: 114.9 | C13: 118 | D13: 168.3 | E13: 92.6 | F13: 99.8
A14: Производство химической продукции | B14: 60.7 | C14: 349 | D14: 90.4 | E14: 48.8 | F14: в 4,4 р
A15: Производство резиновых и пластмассовых изделий, прочих неметаллических минеральных продуктов | B15: 95.1 | C15: 131.5 | D15: 107.8 | E15: 106.8 | F15: 107.1993
A16: Производство основных металлов и готовых металлических изделий, кроме машин и оборудования | B16: 84.4 | C16: 143 | D16: 77 | E16: 137.2 | F16: 107.801
A17: Производство электрического оборудования | B17: 126.2 | C17: 121 | D17: 121.5 | E17: 55.9 | F17: -
A18: Производство машин и оборудования | B18: 96.3 | C18: 112.1 | D18: 117.2 | E18: - | F18: 127.7966
A19: Прочие производства, ремонт и установка машин и оборудования | B19: 72.9 | C19: 71.9 | D19: 197.7 | E19: 153.7 | F19: 91.8696
A20: Обеспечение (снабжение) электроэнергией, газом, паром и кондиционированным воздухом | B20: 101.5 | C20: 95.5 | D20: 104.6 | E20: 126.6 | F20: 140.4976
A21: Производство электроэнергии, ее передача и распределение | B21: 101.8 | C21: 94.9 | D21: 104.7 | E21: 127.4 | F21: 140.5808
A22: Обеспечение (снабжение) паром и кондиционированным воздухом | B22: 85 | C22: 114.6 | D22: 95.7 | E22: 126.6 | F22: 129.3103
A23: Водоснабжение, очистка, обработка отходов и получение вторичного сырья | B23: 97.6 | C23: 103.3 | D23: 111.9 | E23: 121.1 | F23: 110.502
A24: Сбор, обработка и распределение воды (водоснабжение) | B24: 97.7 | C24: 98.6 | D24: 110.3 | E24: 109.7 | F24: 115.8724
A25: Сбор, обработка и уничтожение отходов получение вторичного сырья | B25: 98.4 | C25: 110.5 | D25: 116.4 | E25: 148.4 | F25: 140.7373
A26: Обеззараживание и прочая обработка отходов | B26: - | C26: - | D26: - | E26: - | F26: -
A28: 4.4. Индексы физического объема промышленной продукции по территории
A29: (в процентах к предыдущему году)
B30: 2020 | C30: 2021 | D30: 2022 | E30: 2023 | F30: 2024
A32: Ошская область | B32: 82.4 | C32: 133.6 | D32: 104.9 | E32: 117.1 | F32: 107.8
A33: районы:
A34: Алайский | B34: 56.1 | C34: 187.1 | D34: 105.5 | E34: 81.6 | F34: 82.4
A35: Араванский | B35: 103.3 | C35: 104.1 | D35: 102.9 | E35: 110.9 | F35: 102
A36: Кара-Кулжинский | B36: 99.3 | C36: 99.2 | D36: 101.2 | E36: 109.7 | F36: 113
A37: Кара-Сууский | B37: 104.4 | C37: 106.3 | D37: 107 | E37: 111.4 | F37: 117.6
A38: Ноокатский | B38: 77.3 | C38: 153.3 | D38: 111.9 | E38: 105.8 | F38: 106.4
A39: Узгенский | B39: 90.3 | C39: 121.4 | D39: 103.7 | E39: 115.2 | F39: 106.5
A40: Чон-Алайский | B40: 11.9 | C40: 151.5 | D40: 53.4 | E40: 238.7 | F40: 109.8

Sheet пром3
A1: 4.5. Производство основных видов промышленной продукции
A2: по видам экономической деятельности
B3: Ед. изм. | C3: 2020 | D3: 2021 | E3: 2022 | F3: 2023 | G3: 2024
A5: Уголь каменный и лигнит | B5: тыс.т | C5: 535.1 | D5: 875.2 | E5: 977 | F5: 1001.6 | G5: 783.7
A6: Мясо и пищевые субпродукты | B6: т | C6: 4706.1 | D6: 5061.6 | E6: 4476.2 | F6: 4945.7 | G6: 5963.8
A7: Колбасные изделия | B7: т | C7: 19.5 | D7: 31.4 | E7: 30.1 | F7: 20.9 | G7: 28.5
A8: Молоко и сливки в твердых формах | B8: т | C8: - | D8: - | E8: - | F8: 90
A9: Мороженое и продукты аналогичные замороженные | B9: т | C9: 39.6 | D9: 29.6 | E9: 42.8 | F9: 39.7 | G9: 41.1
A10: Рис очищенный | B10: т | C10: 1177 | D10: 1115.8 | E10: 1066.4 | F10: 1030.2 | G10: 1015.9
A11: Мука из зерновых культур1 | B11: тыс.т | C11: 25 | D11: 17.8 | E11: 20.5 | F11: 22.3 | G11: 21.4
A12: Масло растительное | B12: т | C12: 508.7 | D12: 402.4 | E12: 366.4 | F12: 404.1 | G12: 530
A13: Хлеб свежий | B13: тыс.т | C13: 4.9 | D13: 5.3 | E13: 5.3 | F13: 5.5 | G13: 5.3
A14: Макароны, лапша, кускус и изделия мучные аналогичные | B14: т | C14: 104.4 | D14: 78 | E14: 75.9 | F14: 79.2 | G14: 93.4
A15: Фрукты, овощи и грибы переработанные и консервированные | B15: т | C15: 87 | D15: 119.2 | E15: 77.7 | F15: 19.6 | G15: 18.9
A16: Сухари и печенье; кондитерские изделия и пирожные длительного хранения | B16: т | C16: 389.6 | D16: 444 | E16: 402.6 | F16: 358.1
A17: Пиво | B17: тыс.л. | C17: 88 | D17: 176.1 | E17: 286 | F17: 447.9 | G17: 443.2
A18: Безалкогольные напитки | B18: тыс.л. | C18: 45.1 | D18: 310.5 | E18: 144.2 | F18: 112.2 | G18: 127.3
A19: Воды минеральные , газированные, неподслащенные и неароматизированные | B19: тыс.л. | C19: 217.4 | D19: 526 | E19: 1123.2 | F19: 322 | G19: 507.1
A20: Табак промышленно изготовленный и его заменители | B20: т | C20: - | D20: 107 | E20: 96.6 | F20: 33 | G20: 71.5
A21: Волокно хлопковое кардо и гребнечесанное | B21: т | C21: 8368.9 | D21: 8258.9 | E21: 9730.3 | F21: 9058.4 | G21: 7739.3
A22: Одежда верхняя, кроме трикотажной, мужская и для мальчиков | B22: тыс.шт | C22: 3.5 | D22: 29.4 | E22: 60.2 | F22: 112.2 | G22: 112.5
A23: Одежда верхняя, кроме трикотажной, женская и для девочек | B23: тыс.шт | C23: 41.9 | D23: 50.3 | E23: 97.9 | F23: 70.8 | G23: 315.6
A24: Обувь | B24: пар | C24: 2217528 | D24: 4524666 | E24: 2981778 | F24: 2521598 | G24: 2290.4
A25: Цемент | B25: тыс.т | C25: 1277.2 | D25: 1720.4 | E25: 1858 | F25: 1926.1 | G25: 1983.1
A26: Кирпичи керамические, неогнеупорные, строительные | B26: тыс.шт | C26: 15584.8 | D26: 18767.8 | E26: 21528.6 | F26: 22816.9 | G26: 24104.9
A27: Мебель | B27: млн.сом | C27: 24.3 | D27: 26.9 | E27: 27.6 | F27: 28.4 | G27: 62.2
A28: Вода природная | B28: т.куб.м | C28: 9372 | D28: 8912.9 | E28: 10647.3 | F28: 10534.9
A30: 4.6. Объем производства промышленной продукции по типам предприятий
A31: (миллион сомов)
C32: 2020 | D32: 2021 | E32: 2022 | F32: 2023 | G32: 2024
A33: Промышленность - всего | C33: 9457.8 | D33: 13463.8 | E33: 14596.6 | F33: 17317.6 | G33: 18474.2
A34: в том числе по типам предприятий:
A35: малые предприятия | C35: 1518.3 | D35: 2226.5 | E35: 2892.8 | F35: 3914.1 | G35: 4611.4
A36: средние предприятия | C36: 1746 | D36: 2463.1 | E36: 2228.3 | F36: 3068 | G36: 3946.4
A37: крупные предприятия | C37: 5648.2 | D37: 8133.9 | E37: 8683.5 | F37: 9354 | G37: 8794.4
A38: индивидуальные предприниматели*) | C38: 529.2 | D38: 640.3 | E38: 792 | F38: 981.5 | G38: 1122
A40: *) Объемы по индивидуальным предприятиям приведены с учетом скрытого производства муки и хлеба

Sheet сх1
A1: 5. СЕЛЬСКОЕ ХОЗЯЙСТВО
A2: 5.1. Количество субъектов сельского хозяйства
A3: ( единиц)
B4: 2020 | C4: 2021 | D4: 2022 | E4: 2023 | F4: 2024
A6: Государственные хозяйства | B6: 11 | C6: 15 | D6: 18 | E6: 17 | F6: 12
A7: Коллективные хозяйства | B7: 47 | C7: 63 | D7: 95 | E7: 63 | F7: 89
A8: Крестьянские (фермерские) хозяйства | B8: 127897 | C8: 128771 | D8: 133856 | E8: 13548 | F8: 134795
A11: 5.2. Площадь сельскохозяйственных угодий
A12: ( на 1 января,гектаров)
B13: 2020 | C13: 2021 | D13: 2022 | E13: 2023 | F13: 2024
A15: Сельскохозяйственные угодья - всего | B15: 1668789 | C15: 1668413 | D15: 1667359 | E15: 1666079 | F15: 1666079
A16: Пашня | B16: 184808 | C16: 184638 | D16: 184185 | E16: 183398 | F16: 183398
A17: Многолетние насаждения | B17: 14536 | C17: 14564 | D17: 14505 | E17: 14529 | F17: 14529
A18: Залежь | B18: 2473 | C18: 2473 | D18: 2473 | E18: 2464 | F18: 2464
A19: Сенокосы | B19: 75502 | C19: 75511 | D19: 75605 | E19: 75738 | F19: 75738
A20: Пастбища | B20: 1391470 | C20: 1391227 | D20: 1390591 | E20: 1389950 | F20: 1389950
A23: 5.3. Особо охраняемые территории
A24: (процентах)
B25: 2020 | C25: 2021 | D25: 2022 | E25: 2023 | F25: 2024
A27: Всего | B27: 0.9 | C27: 0.9 | D27: 0.9 | E27: 0.9 | F27: 0.9
A29: 5.4. Обьем валового выпуска продукции сельского хозяйства, лесного хояйства и рыболовства
A30: (в действующих ценах, миллионов сомов)
B31: 2020 | C31: 2021 | D31: 2022 | E31: 2023 | F31: 2024
A33: Всего | B33: 49208.2 | C33: 63958 | D33: 71999.4 | E33: 74681 | F33: 71005.3
A34: Сельское хозяйство | B34: 47853.3 | C34: 62370.9 | D34: 70386.7 | E34: 72726.9 | F34: 69117.6
A35: Растениеводство | B35: 22283.7 | C35: 31297.3 | D35: 35891.6 | E35: 35263.2 | F35: 31131.9
A36: Животноводство | B36: 25569.6 | C36: 31073.6 | D36: 34495.1 | E36: 37463.7 | F36: 37985.7
A37: Услуги, оказанные сельскому хозяйству | B37: 1318 | C37: 1545.7 | D37: 1554.1 | E37: 1890.4 | F37: 1795.5
A38: Охота и лесное хозяйство | B38: 30.1 | C38: 34.2 | D38: 51.3 | E38: 54.6 | F38: 92.2
A39: Рыболовство | B39: 6.8 | C39: 7.2 | D39: 7.3 | E39: 9.1
A41: 5.5. Индекс физического объема продукции сельского хозяйства, лесного хозяйства и рыболовства
A42: ( в процентах)
B43: 2020 | C43: 2021 | D43: 2022 | E43: 2023 | F43: 2024
A45: Продукция (товары и услуги) селького хозяйства, охоты и лесного хозяйства | B45: 101 | C45: 100.9 | D45: 102.8 | E45: 101.7 | F45: 104.6
A46: из нее:
A47: растениеводство | B47: 100.1 | C47: 99.6 | D47: 104.3 | E47: 100.8 | F47: 107.3
A48: животноводство | B48: 101.9 | C48: 102 | D48: 101.4 | E48: 102 | F48: 102.2
A50: 5.6. Посевная площадь основных видов сельскохозяйственных культур
A51: (гектар)
B52: 2020 | C52: 2021 | D52: 2022 | E52: 2023 | F52: 2024
...

Sheet Строит2
A1: 6. СТРОИТЕЛЬСТВО
A2: 6.1. Объем подрядных работ, выполненных строительными
A3: организациями, по формам собственности и территории1
A4: (миллион сомов)
B5: 2020 | C5: 2021 | D5: 2022 | E5: 2023 | F5: 2024
A7: Всего | B7: 4251.6 | C7: 4961.2 | D7: 5297.1 | E7: 7733 | F7: 10130.4
A8: районы:
A9: Алайский | B9: 212.4 | C9: 249.5 | D9: 364.3 | E9: 433.8 | F9: 720.3
A10: Араванский | B10: 541.9 | C10: 664.8 | D10: 693.3 | E10: 1021.2 | F10: 1278.2
A11: Кара-Кулжинский | B11: 100.4 | C11: 55.3 | D11: 84.6 | E11: 116.8 | F11: 325.5
A12: Кара-Суйский | B12: 1813.4 | C12: 2146.9 | D12: 2184.4 | E12: 3310 | F12: 4154.7
A13: Ноокатский | B13: 760.7 | C13: 898.7 | D13: 917.5 | E13: 1413.7 | F13: 1754.9
A14: Узгенский | B14: 816.2 | C14: 936.7 | D14: 1039.5 | E14: 1418.2 | F14: 1885.5
A15: Чон-Алайский | B15: 6.6 | C15: 9.3 | D15: 13.5 | E15: 19.3 | F15: 11.3
A17: Государственная | B17: 234.9 | C17: 147 | D17: 575.8 | E17: 454.7 | F17: 1265.4
A18: районы:
A19: Алайский | B19: 35.5 | C19: 37.6 | D19: 156.6 | E19: 113.5 | F19: 330.2
A20: Араванский | B20: 3.7 | C20: 19.7 | D20: 60.6 | E20: 45.9 | F20: 90.3
A21: Кара-Кулжинский | B21: 68.3 | C21: 16.7 | D21: 46.8 | E21: 58.6 | F21: 254.6
A22: Кара-Суйский | B22: 26 | C22: 4.7 | D22: 83.4 | E22: 71.2 | F22: 209.8
A23: Ноокатский | B23: 21.7 | C23: 12.9 | D23: 48.8 | E23: 74.5 | F23: 123.7
A24: Узгенский | B24: 73.1 | C24: 46.1 | D24: 166.1 | E24: 71.7 | F24: 245.5
A25: Чон-Алайский | B25: 6.6 | C25: 9.3 | D25: 13.5 | E25: 19.3 | F25: 11.3
A27: Частная | B27: 4016.7 | C27: 4814.2 | D27: 4721.3 | E27: 7278.3 | F27: 8865
A28: районы:
A29: Алайский | B29: 176.9 | C29: 211.9 | D29: 207.7 | E29: 320.3 | F29: 390.1
A30: Араванский | B30: 538.2 | C30: 645.1 | D30: 632.7 | E30: 975.3 | F30: 1187.9
A31: Кара-Кулжинский | B31: 32.1 | C31: 38.6 | D31: 37.8 | E31: 58.2 | F31: 70.9
A32: Кара-Суйский | B32: 1787.4 | C32: 2142.2 | D32: 2101 | E32: 3238.8 | F32: 3944.9
A33: Ноокатский | B33: 739 | C33: 885.8 | D33: 868.7 | E33: 1339.2 | F33: 1631.2
A34: Узгенский | B34: 743.1 | C34: 890.6 | D34: 873.4 | E34: 1346.5 | F34: 1640
A37: 1) Включая капитальный и текущий ремонты
A39: 6.2. Капитальный и текущий ремонт, выполненный строительными
A40: организациями, по формам собственности и территории
A41: (миллион сомов)
B42: 2020 | C42: 2021 | D42: 2022 | E42: 2023 | F42: 2024
A44: Всего | B44: 2652.4 | C44: 2997.9 | D44: 3309 | E44: 5208 | F44: 6546
A45: районы:
A46: Алайский | B46: 142.9 | C46: 163.3 | D46: 280.5 | E46: 325.8 | F46: 460
A47: Араванский | B47: 331 | C47: 402.3 | D47: 438 | E47: 692.4 | F47: 841.7
...

Sheet Груз
A1: 7. ТРАНСПОРТ
A2: Грузовые перевозки
A3: 7.1. Перевозки грузов автомобильным транспортом
A4: (тысяч тонн)
B5: 2020 | C5: 2021 | D5: 2022 | E5: 2023 | F5: 2024
A7: Всего | B7: 2424.2 | C7: 2580.4 | D7: 2680.1 | E7: 2756.8 | F7: 2930.7
A10: 7.2. Перевозки грузов автомобильным транспортом по территории
A11: (тысяч тонн)
B12: 2020 | C12: 2021 | D12: 2022 | E12: 2023 | F12: 2024
A14: Ошская область | B14: 2424.2 | C14: 2580.4 | D14: 2680.1 | E14: 2756.8 | F14: 2930.7
A15: районы:
A16: Алайский | B16: 146.6 | C16: 156.8 | D16: 158 | E16: 158.2 | F16: 125.5
A17: Араванский | B17: 250.6 | C17: 262.9 | D17: 263.3 | E17: 267.7 | F17: 276.1
A18: Кара-Кулжинский | B18: 35.8 | C18: 37.6 | D18: 42.4 | E18: 50.4 | F18: 55.9
A19: Кара-Сууский | B19: 1070.7 | C19: 1176.2 | D19: 1199.6 | E19: 1251.9 | F19: 1412.8
A20: в т.ч. г. Кара-Суу | B20: 249.2 | C20: 282.6 | D20: 285.5 | E20: 299.9 | F20: 369.5
A21: Ноокатский | B21: 409.9 | C21: 423.7 | D21: 455.5 | E21: 461.8 | F21: 467
A22: в т.ч. г.Ноокат | B22: 92 | C22: 95.1 | D22: 102.2 | E22: 103.6 | F22: 177.1
A23: Узгенский | B23: 385.8 | C23: 396.3 | D23: 433.6 | E23: 439 | F23: 461.4
A24: в т.ч. г. Узген | B24: 127.8 | C24: 131.2 | D24: 143.5 | E24: 145.2 | F24: 113.8
A25: Чон-Алайский | B25: 124.8 | C25: 126.9 | D25: 127.7 | E25: 127.8 | F25: 132
A28: 7.3. Грузооборот автомобильного транспорта
A29: (млн. тонно-километров)
B30: 2020 | C30: 2021 | D30: 2022 | E30: 2023 | F30: 2024
A32: Всего | B32: 124.7 | C32: 138.2 | D32: 151.6 | E32: 164.5 | F32: 189.5
A35: 7.4. Доходы от перевозок грузов автомобильным транспортом
B37: 2020 | C37: 2021 | D37: 2022 | E37: 2023 | F37: 2024
A39: Всего | B39: 65.7 | C39: 73.2 | D39: 80.2 | E39: 87.1
A42: Пассажирские перевозки
A43: 7.5. Перевозки пассажиров автомобильным транспортом (тысяч человек)
B45: 2020 | C45: 2021 | D45: 2022 | E45: 2023 | F45: 2024
A47: Всего | B47: 24055.3 | C47: 25225.7 | D47: 25808 | E47: 26322.8 | F47: 29195.5
A48: автобусы | B48: 22161.4 | C48: 23381 | D48: 23886.5 | E48: 24135.3 | F48: 26798.3
A49: такси | B49: 1893.9 | C49: 1844.7 | D49: 1921.5 | E49: 2187.5 | F49: 2397.2

Sheet Пассаж
A1: 7.6. Перевозки пассажиров автомобильным транспортом по территории
A2: (тысяч человек)
B3: 2020 | C3: 2021 | D3: 2022 | E3: 2023 | F3: 2024
A5: Ошская область | B5: 24055.3 | C5: 25225.7 | D5: 25808 | E5: 26322.8 | F5: 29195.5
A6: районы:
A7: Алайский | B7: 160.4 | C7: 171.5 | D7: 175.3 | E7: 177 | F7: 186.3
A8: Араванский | B8: 1943.5 | C8: 2082.8 | D8: 2100.9 | E8: 2184.7 | F8: 2407.1
A9: Кара-Кулжинский | B9: 436.5 | C9: 439 | D9: 482.9 | E9: 498.2 | F9: 548.4
A10: Кара-Сууский | B10: 18132.9 | C10: 19017.2 | D10: 19409.7 | E10: 19608.5 | F10: 21875.3
A11: в т.ч. г. Кара-Суу | B11: 4531.4 | C11: 4755 | D11: 4914.9 | E11: 4970.5 | F11: 7450.9
A12: Ноокатский | B12: 2458.2 | C12: 2584.2 | D12: 2588.1 | E12: 2746.4 | F12: 2917.5
A13: в т.ч. г.Ноокат | B13: 572.7 | C13: 601.8 | D13: 613.7 | E13: 654.7 | F13: 921.1
A14: Узгенский | B14: 872.5 | C14: 877.5 | D14: 995.9 | E14: 1051.7 | F14: 1192
A15: в т.ч. г. Узген | B15: 255.4 | C15: 257 | D15: 291.2 | E15: 307.6 | F15: 339.5
A16: Чон-Алайский | B16: 51.3 | C16: 53.5 | D16: 55.2 | E16: 56.3 | F16: 68.9
A18: 7.7. Пассажирооборот автомобильного транспорта
A19: (миллионов пассажиро-километров)
B20: 2020 | C20: 2021 | D20: 2022 | E20: 2023 | F20: 2024
A22: Всего | B22: 549.5 | C22: 560.9 | D22: 594.4 | E22: 670 | F22: 768.1
A23: автобусы | B23: 477.9 | C23: 472.9 | D23: 503.7 | E23: 577 | F23: 669.3
A24: такси | B24: 71.6 | C24: 88.1 | D24: 90.7 | E24: 92.9 | F24: 98.8
A28: 7.8. Доходы от перевозок пассажиров автомобильным транспортом
A29: (миллионов сомов)
B30: 2020 | C30: 2021 | D30: 2022 | E30: 2023 | F30: 2024
A32: Всего | B32: 1114.4 | C32: 1326.7 | D32: 1373 | E32: 1429.8 | F32: 1600.4
A34: автобусы | B34: 183.7 | C34: 181.7 | D34: 193.6 | E34: 221.8 | F34: 257.2
A35: такси | B35: 930.8 | C35: 1145 | D35: 1179.4 | E35: 1208.1 | F35: 1343.2
A36: Аварийность на транспорте
A37: 7.9. Дорожно-транспортные происшествия с подвижным составом и численность пострадавших в них
B39: 2020 | C39: 2021 | D39: 2022 | E39: 2023 | F39: 2024
A41: Совершено ДТП, единиц | B41: 644 | C41: 812 | D41: 733 | E41: 709 | F41: 697
A42: Счисленность пострадавших,человек
A43: погибло | B43: 126 | C43: 139 | D43: 101 | E43: 113 | F43: 103
A44: ранено | B44: 1003 | C44: 1431 | D44: 1264 | E44: 1182 | F44: 1161

Sheet  связ
A1: 8. СВЯЗЬ
A2: 8.1.Основные показатели связи общего пользования
A3: (тысяч)
B4: 2020 | C4: 2021 | D4: 2022 | E4: 2023 | F4: 2024
A5: Отправлено:
A6: письменной корреспонденции | B6: 131.6 | C6: 93.6 | D6: 105.8
A7: посылок | B7: 1.9 | C7: 0.1 | D7: 0.8
A8: почтовых переводов денежных средств1 | B8: 7.4 | C8: 14.3 | D8: 3.5
A9: телеграмм | B9: - | C9: - | D9: -
A10: 8.2. Объем услуг почтовой и курьерской деятельности, услуги связи
A11: (в фактически действовавших ценах; миллионов сомов)
B12: 2020 | C12: 2021 | D12: 2022 | E12: 2023 | F12: 2024
A13: Почтовая и куррьерская деятельность | B13: 61.2 | C13: 54.1 | D13: 53
A14: Связь
A15: в том числе:
A16: телеграфная | B16: 0.2 | C16: 0.1 | D16: 0.3
A17: международная телефонная | B17: 0.2 | C17: 0.2 | D17: 0.6
A18: междугородная телефонная | B18: 8.5 | C18: 6.3 | D18: 1.5
A19: городская и сельская телефонная | B19: 26 | C19: 22.6 | D19: 4.7
A20: радиосвязь, радиовещание и телевидение | B20: 4.7 | C20: 4.1 | D20: -
A21: услуги по предоставлению Интернет каналов | B21: 127.7 | C21: 144.7 | D21: 79.9
A22: прочие | B22: - | C22: - | D22: -
A25: 8.3. Основные показатели развития телефонной связи общего пользования
A26: (на конец года)
B27: 2020 | C27: 2021 | D27: 2022 | E27: 2023 | F27: 2024
A28: Число телефонных станций местной
A29: телефонной сети, единиц | B29: 42 | C29: 42 | D29: 42
A30: в том числе:
A31: в городских поселениях | B31: 13 | C31: 13 | D31: 13
A32: в сельской местности | B32: 29 | C32: 29 | D32: 29
A33: Общая монтированная емкость
A34: телефонных станций, тыс. номеров | B34: 31.9 | C34: 31.9 | D34: 31.8
A35: в том числе:
A36: в городских поселениях | B36: 14 | C36: 14 | D36: 13.9
A37: в сельской местности | B37: 17.9 | C37: 17.9 | D37: 17.9
A39: Продолжение
B40: 2020 | C40: 2021 | D40: 2022 | E40: 2023 | F40: 2024
A41: Число телефонных аппаратов (без таксофонов)
A42: в том числе:
A43: в городских поселениях | B43: 3.3 | C43: 2.2 | D43: 2.2
...

Sheet труд
A1: 9. ТРУД, ЗАРАБОТНАЯ ПЛАТА И СОЦИАЛЬНОЕ ОБЕСПЕЧЕНИЕ
A2: 9.1.1 Численность занятого населения по видам экономической деятельности *
B3: 2020 | D3: 2021 | F3: 2022 | H3: 2023 | J3: 2024
B4: Тысяч человек | C4: в % к итогу | D4: Тысяч человек | E4: в % к итогу | F4: Тысяч человек | G4: в % к итогу | H4: Тысяч человек | I4: в % к итогу | J4: Тысяч человек | K4: в % к итогу
A5: Всего | B5: 607.9 | C5: =C7+C8+C9+C10+C11+C12+C13+C14+C15+C16+C17+C19+C20+C21+C22+C23+C24+C25+C26 -> 100.0018 | D5: 632 | E5: 100 | F5: 631.3 | G5: 100 | H5: 622.5 | I5: 100 | J5: 616.9 | K5: 100
A6: в том числе:
A7: Сельское хозяйство, лесное хозяйство и рыболовство | B7: 211.8 | C7: 35 | D7: 220.4 | E7: 34.9 | F7: 216.4 | G7: 34.3 | H7: 204.3 | I7: 32.8 | J7: 190.2 | K7: 30.8
A8: Добыча полезных ископаемых | B8: 2.1 | C8: 0.3 | D8: 2.2 | E8: 0.3 | F8: 0.4 | G8: 0.1 | H8: 0 | I8: 0 | J8: 0 | K8: 0
A9: Обрабатывающие производства | B9: 30.8 | C9: 5 | D9: 29.5 | E9: 4.7 | F9: 29.5 | G9: 4.7 | H9: 27.3 | I9: 4.4 | J9: 32.1 | K9: 5.2
A10: Обеспечение (снабжение) электроэнергией, паром и кондицированным воздухом | B10: 3.1 | C10: 0.50995229 | D10: 3.8 | E10: 0.6 | F10: 3.8 | G10: 0.6 | H10: 4.9 | I10: 0.8 | J10: 4.1 | K10: 0.6
A11: Водоснабжение, очистка, обработка отходов | B11: 1.3 | C11: 0.002 | D11: 1.9 | E11: 0.3 | F11: 2.1 | G11: 0.3 | H11: 1.1 | I11: 0.2 | J11: 1.8 | K11: 0.3
A12: Строительство | B12: 90.2 | C12: 14.8 | D12: 103.9 | E12: 16.3 | F12: 104.7 | G12: 16.6 | H12: 105.8 | I12: 17 | J12: 111.7 | K12: 18.1
A13: Оптовая и розничная торговля, ремонт автомобилей и мотоциклов | B13: 82.4 | C13: 13.5 | D13: 80 | E13: 12.5 | F13: 82.9 | G13: 13.13 | H13: 84 | I13: 13.5 | J13: 77.6 | K13: 12.6
A14: Транспортная деятельность и хранение грузов | B14: 43.3 | C14: 7.1228821 | D14: 47 | E14: 7.3 | F14: 54.5 | G14: 8.6 | H14: 57 | I14: 9.2 | J14: 67.5 | K14: 11
A15: Деятельность гостиниц и ресторанов | B15: 48.8 | C15: 8.0276361 | D15: 45.7 | E15: 7.2 | F15: 43.9 | G15: 7 | H15: 50.2 | I15: 8.1 | J15: 50.2 | K15: 8.4
A16: Информация и связь | B16: 3.2 | C16: 0.5 | D16: 2.8 | E16: 0.6 | F16: 3.7 | G16: 0.6 | H16: 3.6 | I16: 0.6 | J16: 2.1 | K16: 0.3
A17: Финансовое посредничество и страхование | B17: 3.7 | C17: 0.60865274 | D17: 2.8 | E17: 0.6 | F17: 2.7 | G17: 0.4 | H17: 2.4 | I17: 0.4 | J17: 3.9 | K17: 0.6
A18: Операции с невижимым имуществом | B18: - | C18: - | D18: - | E18: - | F18: - | G18: - | H18: - | I18: - | J18: - | K18: -
A19: Профессиональная, научная и техническая деятельность | B19: 3.3 | C19: 0.6 | D19: 3.3 | E19: 0.7 | F19: 3 | G19: 0.5 | H19: 2.7 | I19: 0.4 | J19: 1.3 | K19: 0.2
A20: Административная и впомогательная деятельность | B20: 2.9 | C20: 0.4 | D20: 2.5 | E20: 0.5 | F20: 2.2 | G20: 0.4 | H20: 1.8 | I20: 0.3 | J20: 1.3 | K20: 0.2
A21: Государственное управление | B21: 20.2 | C21: 3.322915 | D21: 19 | E21: 3 | F21: 17.2 | G21: 2.7 | H21: 16.1 | I21: 2.6 | J21: 10.8 | K21: 1.6
A22: Образование | B22: 36.8 | C22: 6 | D22: 39.4 | E22: 6.2 | F22: 38.7 | G22: 6.1 | H22: 38.4 | I22: 6.2 | J22: 41.4 | K22: 6.7
A23: Здравоохранение и социальное обслуживание населения | B23: 19 | C23: 3.1255141 | D23: 19.4 | E23: 3 | F23: 18.7 | G23: 3 | H23: 16.8 | I23: 2.7 | J23: 16.9 | K23: 2.7
A24: Искусство, развлечение и отдых | B24: 0.5 | C24: 0.08225037 | D24: 0.7 | E24: 0.1 | F24: 1.1 | G24: 0.1 | H24: 2.3 | I24: 0.4 | J24: 1.2 | K24: 0.2
A25: Прочая обслуживающая деятельность | B25: 4.5 | C25: 1 | D25: 7.7 | E25: 1.2 | F25: 5.3 | G25: 0.8 | H25: 2.8 | I25: 0.4 | J25: 3.6 | K25: 0.5
A26: Деятельность частных домашних хозяйств | B26: 0.2 | C26: 0.1 | D26: 0 | E26: 0 | F26: 0.7 | G26: 0.1 | H26: 0 | I26: 0 | J26: 0.1 | K26: 0
J27: - | K27: -
A29: *По данным интегрированного выборочного обследования бюджетов домашних хозяйств и рабочей силы

Sheet труд1
A1: 9.1.2 Занятое население Ошской области в возрасте 15 лет и старше *
A2: (тысяч человек)
B3: 2020 | C3: 2021 | D3: 2022 | E3: 2023 | F3: 2024
A5: Занятое население | B5: =B7+B8+B9 -> 607.9 | C5: 632 | D5: 631.3 | E5: 622.5 | F5: 616.9
A6: в том числе:
A7: Сельское хозяйство, охота, лесное хозяйство (включая рыболовство и рыбоводство) | B7: 211.8 | C7: 220.4 | D7: 216.4 | E7: 204.3 | F7: 190.2
A8: Промышленность и строительство | B8: 127.5 | C8: 141.3 | D8: 140.4 | E8: 139.1 | F8: 148.8
A9: Сектор услуг | B9: 268.6 | C9: 270.3 | D9: 274.5 | E9: 279.1 | F9: 277.9
A11: *) по данным интегрированного выборочного обследования бюджетов домашних хозяйств и рабочей силы рабочей силы
A14: 9.2. Распределение предприятий и организаций сферы туризма по формам собственности
A15: (человек)
B16: 2020 | C16: 2021 | D16: 2022 | E16: 2023 | F16: 2024
A18: Предприятия и организации сферы туризма - всего | B18: 11 | C18: 12 | D18: 11 | E18: 10 | F18: 8
A20: Санаторно-курортные, оздоровительные учреждения
A21: и учреждения отдыха - всего | B21: 4 | C21: 4 | D21: 2 | E21: 1 | F21: 1
A22: Санаторно-курортные учреждения | B22: 4 | C22: 1 | D22: 3 | E22: 3 | F22: 1
A23: Деятельность туристических агентств (туристические агентства) | B23: 2 | C23: 2 | D23: 1 | E23: 1 | F23: 1
A24: Предприятия отдыха и туризма | B24: 2 | C24: 2 | D24: 2 | E24: 2 | F24: 3
A25: Природные парки и заповедники | B25: 3 | C25: 3 | D25: 3 | E25: 3 | F25: 3

Sheet труд2
A1: 9.3. Численность официально зарегистрированных безработных по полу
A2: (человек)
B3: 2020 | C3: 2021 | D3: 2022 | E3: 2023 | F3: 2024
A5: Всего | B5: =B6+B7 -> 19977 | C5: 19444 | D5: 17556 | E5: 16376 | F5: 14010
A6: Мужчин | B6: 11230 | C6: 11355 | D6: 10390 | E6: 9667 | F6: 8309
A7: Женщин | B7: 8747 | C7: 8089 | D7: 7166 | E7: 6709 | F7: 5701
A10: 9.4. Численность официально зарегистрированных безработных по возрасту
A11: (человек)
B12: 2020 | C12: 2021 | D12: 2022 | E12: 2023 | F12: 2024
A14: Всего в возрасте от 16 лет и старше | B14: =B15+B16+B17+B18+B19+B20+B21+B22+B23+B24+B25 -> 19977 | C14: 19444 | D14: 17556 | E14: 16376 | F14: 14010
A15: от 16 до 17 лет | B15: 422 | C15: 472 | D15: 601 | E15: 504 | F15: 454
A16: от 18 до 21 лет | B16: 2867 | C16: 2582 | D16: 2414 | E16: 2090 | F16: 1729
A17: от 22 до 24 лет | B17: 2833 | C17: 1862 | D17: 1411 | E17: 1317 | F17: 965
A18: от 25 до 29 лет | B18: 2396 | C18: 2665 | D18: 2849 | E18: 2988 | F18: 2490
A19: от 30 до 34 лет | B19: 3846 | C19: 3872 | D19: 3314 | E19: 2921 | F19: 2950
A20: от 35 до 39 лет | B20: 3334 | C20: 3463 | D20: 3259 | E20: 3035 | F20: 2475
A21: от 40 до 44 лет | B21: 2116 | C21: 2251 | D21: 1928 | E21: 1877 | F21: 1633
A22: от 45 до 49 лет | B22: 1043 | C22: 1163 | D22: 942 | E22: 850 | F22: 713
A23: от 50 до 54 лет | B23: 572 | C23: 582 | D23: 466 | E23: 432 | F23: 347
A24: от 55 до 59 лет | B24: 412 | C24: 403 | D24: 280 | E24: 270 | F24: 194
A25: от 60 лет и старше | B25: 136 | C25: 129 | D25: 92 | E25: 92 | F25: 60
A28: 9.5. Официально зарегистрированные безработные по образованию
A29: (человек)
B30: 2020 | C30: 2021 | D30: 2022 | E30: 2023 | F30: 2024
A32: Всего | B32: =B33+B38 -> 19977 | C32: 19444 | D32: 17556 | E32: 16376 | F32: 14010
A33: Мужчины | B33: =B34+B35+B36+B37 -> 11230 | C33: 11355 | D33: 10390 | E33: 9667 | F33: 8309
A34: Неполное среднее | B34: 140 | C34: 438 | D34: 3567 | E34: 3598 | F34: 3079
A35: Среднее общее | B35: 10540 | C35: 18060 | D35: 5595 | E35: 5621 | F35: 4764
A36: Среднее специальное | B36: 376 | C36: 456 | D36: 227 | E36: 241 | F36: 260
A37: Высшее | B37: 174 | C37: 489 | D37: 241 | E37: 207 | F37: 206
A38: Женщины | B38: =B39+B40+B41+B42 -> 8747 | C38: 8089 | D38: 7166 | E38: 6709 | F38: 5701
A39: Неполное среднее | B39: 355 | C39: 168 | D39: 2564 | E39: 2668 | F39: 2163
A40: Среднее общее | B40: 7790 | C40: 7384 | D40: 3863 | E40: 3487 | F40: 3037
A41: Среднее специальное | B41: 381 | C41: 266 | D41: 266 | E41: 313 | F41: 290
A42: Высшее | B42: 221 | C42: 271 | D42: 253 | E42: 241 | F42: 211

Sheet труд3
A1: 9.6. Численность официально зарегистрированных безработных по территории
A2: (человек)
B3: 2020 | C3: 2021 | D3: 2022 | E3: 2023 | F3: 2024
A5: Ошская область | B5: =B7+B8+B9+B10+B11+B12+B13+B14+B15 -> 19977 | C5: 19444 | D5: 17556 | E5: 16376 | F5: 14010
A6: районы:
A7: Алайский | B7: 1181 | C7: 1233 | D7: 1230 | E7: 919 | F7: 996
A8: Араванский | B8: 2024 | C8: 1440 | D8: 1257 | E8: 1253 | F8: 1597
A9: Кара-Кулжинский | B9: 1665 | C9: 1864 | D9: 867 | E9: 423 | F9: 724
A10: Кара-Сууский | B10: 3457 | C10: 3582 | D10: 4147 | E10: 3435 | F10: 1929
A11: г.Кара-Суу | B11: 288 | C11: 289 | D11: 309 | E11: 281
A12: Ноокатский | B12: 7608 | C12: 7536 | D12: 5812 | E12: 6280 | F12: 6100
A13: Узгенский | B13: 2184 | C13: 2556 | D13: 2620 | E13: 2218 | F13: 921
A14: г.Узген | B14: 458 | C14: 578 | D14: 645 | E14: 550
A15: Чон-Алайский | B15: 1112 | C15: 1233 | D15: 1623 | E15: 1848 | F15: 1743
A18: 9.7. Среднемесячная заработная плата работников предприятий, учреждений и организаций по видам экономической деятельности (сомов)
B21: 2020 | C21: 2021 | D21: 2022 | E21: 2023 | F21: 2024
A23: Всего | B23: 12712.4 | C23: 12557 | D23: 19762.4 | E23: 23134 | F23: 25200
A24: Сельское хозяйство, лесное хозяйство и рыболовство | B24: 8920.9 | C24: 8987 | D24: 14363.4 | E24: 22455 | F24: 23541
A25: Добыча полезных ископаемых | B25: 11939 | C25: 10088 | D25: 13399.7 | E25: 20801 | F25: 34522
A26: Обрабатывающие производства | B26: 15289.2 | C26: 14697 | D26: 21030.6 | E26: 21617 | F26: 27485
A27: Обеспечение (снабжение) электроэнергией, паром и кондицированным воздухом | B27: 23239.7 | C27: 23209 | D27: 31375.8 | E27: 39354 | F27: 44645
A28: Водоснабжение, очистка, обработка отходов | B28: 7877.9 | C28: 7891 | D28: 9720.3 | E28: 11830 | F28: 15096
A29: Строительство | B29: 8895.7 | C29: 8552 | D29: 13159.2 | E29: 16333 | F29: 22884
A30: Оптовая и розничная торговля, ремонт автомобилей и мотоциклов | B30: 6621.2 | C30: 7759 | D30: 10049.2 | E30: 13250 | F30: 19884
A31: Транспортная деятельность и хранение грузов | B31: 9012.9 | C31: 9471 | D31: 11749.2 | E31: 12555 | F31: 19087
A32: Деятельность гостиниц и ресторанов | C32: 5034 | D32: 9898.1 | E32: 5833 | F32: 7833
A33: Информация и связь | B33: 14815.8 | C33: 14945 | D33: 17116.8 | E33: 21612 | F33: 27120
A34: Финансовое посредничество и страхование | B34: 27197.2 | C34: 27511 | D34: 35790.9 | E34: 42792 | F34: 52366
A35: Операции с недвижимым имуществом | B35: 8202.7 | C35: 8479 | D35: 11292.6 | E35: 16157 | F35: 19882
A36: Профессиональная, научная и техническая деятельность | B36: 15955.4 | C36: 15778 | D36: 26100.4 | E36: 34323 | F36: 35358
A37: Административная и впомогательная деятельность | B37: 17025.9 | C37: 15464 | D37: 19239.3 | E37: 20041 | F37: 29985
A38: Государственное управление | B38: 18752.7 | C38: 18521 | D38: 23890.8 | E38: 38839 | F38: 38807
A39: Образование | B39: 12282.1 | C39: 12286 | D39: 20026.8 | E39: 22272 | F39: 22863
A40: Здравоохранение и социальное обслуживание населения | B40: 9346.9 | C40: 9355 | D40: 17483.8 | E40: 17499 | F40: 21049
A41: Искусство, развлечение и отдых | B41: 6635.3 | C41: 6696 | D41: 14447.5 | E41: 18244 | F41: 16864
A42: Прочая обслуживающая деятельность | B42: 5866.4 | C42: 5114 | D42: 6788 | E42: 8244 | F42: 9377
A43: Деятельность частных домашних хозяйств | B43: - | C43: - | D43: - | E43: -
A44: Деятельность экстерриториальных организаций | B44: - | C44: - | D44: - | E44: -

Sheet труд4
A1: 9.8. Среднемесячная заработная плата работников предприятий и учреждений сферы туризма по формам собственности
A2: (сомов)
B3: 2020 | C3: 2021 | D3: 2022 | E3: 2023 | F3: 2024
A5: Предприятия и организации сферы туризма - всего | B5: 8432 | C5: 7749 | D5: 12360.5 | E5: 23542 | F5: 27079
A6: в т.ч. Гостиницы
A7: Санаторно-курортные учреждения | B7: 7656.5 | C7: 7656 | D7: 9872.8 | E7: 18609 | F7: 10162
A8: Деятельность туристических агентств (туристические агентства) | B8: - | C8: - | D8: - | E8: - | F8: -
A9: Предприятия отдыха и туризма | B9: 0 | C9: 3297.2 | D9: 1833.3 | E9: 5833 | F9: 7833
A10: Природные парки и заповедники | B10: 9694.9 | C10: 9695 | D10: 18695.7 | E10: 29912 | F10: 28284
A15: 9.9. Среднемесячная заработная плата работников предприятий, учреждений и организаций по территории
A16: (сомов)
B17: 2020 | C17: 2021 | D17: 2022 | E17: 2023 | F17: 2024
A19: Ошская область | B19: 12712 | C19: 12557 | D19: 19762.4 | E19: 23134 | F19: 25 200
A20: районы:
A21: Алайский | B21: 16137 | C21: 16006 | D21: 24109.7 | E21: 29587 | F21: 32 211
A22: Араванский | B22: 11177 | C22: 11049 | D22: 17886.7 | E22: 21330 | F22: 22 723
A23: Кара-Кулжинский | B23: 13492 | C23: 8958 | D23: 20683 | E23: 24931 | F23: 25 944
A24: Кара-Сууский | B24: 11948 | C24: 11775 | D24: 18672.9 | E24: 21242 | F24: 24 382
A25: в т.ч. г. Кара-Суу | B25: 12340 | C25: 12446 | D25: 19780.7 | E25: 22526 | F25: 25 094
A26: Ноокатский | B26: 12419.9 | C26: 12327 | D26: 19673.8 | E26: 22739 | F26: 24 522
A27: в т.ч. г. Ноокат | B27: 10922.1 | C27: 10846 | D27: 17973.9 | E27: 26106 | F27: 23 406
A28: Узгенский | B28: 12242 | C28: 11949 | D28: 18437.2 | E28: 21842 | F28: 23 665
A29: в т.ч. г. Узген | B29: 13762 | C29: 13646 | D29: 19798.8 | E29: 24980 | F29: 28 735
A30: Чон-Алайский | B30: 16828 | C30: 16935 | D30: 27267.2 | E30: 31453 | F30: 32 430

Sheet торг
A1: 10. ТОРГОВЛЯ И РЫНОЧНЫЕ УСЛУГИ
A2: 10.1.Оптовая и розничная торговля, ремонт автомобилей и мотоциклов
A3: (млн. сомов)
B4: 2020 | C4: 2021 | D4: 2022 | E4: 2023 | F4: 2024
A6: Всего | B6: 37473.1 | C6: =C7+C8+C9+C10+C11 -> 48279.8 | D6: =D7+D8+D9+D10+D11 -> 61984.7 | E6: =E7+E8+E9+E10+E11 -> 76071 | F6: 90039.6
A7: Оптовая и розничная торговля автомобилями и мотоциклами,их детелями,узлами и принадлежностями | B7: 175.2 | C7: 249 | D7: 266.2 | E7: 291.8 | F7: 308.9
A8: Техническое обслуживание и ремонт автомобилей | B8: 103.6 | C8: 143.2 | D8: 184.3 | E8: 188.3 | F8: 208.7
A9: Оптовая торговля | B9: 6230.5 | C9: 6224.1 | D9: 10245.8 | E9: 12323.4 | F9: 13244.7
A10: Розничная торговля моторным топливом | B10: 3483.4 | C10: 5707.9 | D10: 8144.7 | E10: 10356.8 | F10: 9632.2
A11: Розничная торговля, кроме торговли автомобилями и моторным топливом | B11: 27480.4 | C11: 35955.6 | D11: 43143.7 | E11: 52910.7 | F11: 66645.1
A14: 10.2. Индексы физического объема оборота оптовой и розничной
A15: торговли, ремонта автомобилей и мотоциклов
A16: (в процентах к предыдущему году)
B17: 2020 | C17: 2021 | D17: 2022 | E17: 2023 | F17: 2024
A19: Всего | B19: 80 | C19: 111.6 | D19: 114.4 | E19: 116 | F19: 112.5
A20: Оптовая и розничная торговля автомобилями и мотоциклами, их деталями, узлами и принадлежностями | B20: 69.4 | C20: 136.1 | D20: 101.8 | E20: 104.1 | F20: 103.7
A21: Техническое обслуживание и ремонт автомобилей | B21: 89.3 | C21: 108.6 | D21: 104.2 | E21: 103 | F21: 104.8
A22: Оптовая торговля | B22: 61.9 | C22: 88.8 | D22: 149.9 | E22: 111.5 | F22: 102.4
A23: Розничная торговля моторным топливом | B23: 93.8 | C23: 114.3 | D23: 109.3 | E23: 135.2 | F23: 86.1
A24: Розничная торговля, кроме торговли автомобилями и моторным топливом | B24: 83.6 | C24: 116.3 | D24: 109.2 | E24: 113.6 | F24: 120
A26: 10.3. Деятельность гостиниц и ресторанов
A27: (млн. сомов)
B28: 2020 | C28: 2021 | D28: 2022 | E28: 2023 | F28: 2024
A30: Всего | B30: 961.9 | C30: =B31+B32 -> 961.9 | D30: =C31+C32 -> 1196.5 | E30: =D31+D32 -> 1435.6 | F30: 2087.4
A31: Предоставление услуг гостиницами и услуг для туристического проживания, а также прочими местами для краткосрочного проживания | B31: 7.4 | C31: 13 | D31: 14.7 | E31: 65.6 | F31: 64.4
A32: Деятельность ресторанов, предоставление мобильных услуг и прочих услуг по обеспечению пищей | B32: 954.5 | C32: 1183.5 | D32: 1420.9 | E32: 1633.6 | F32: 2023
A35: 10.4. Индексы физического объема деятельности гостиниц и ресторанов
A36: (в процентах к предыдущему году)
B37: 2020 | C37: 2021 | D37: 2022 | E37: 2023 | F37: 2024
A39: Всего | B39: 74.9 | C39: 107.7 | D39: 109 | E39: 110.2 | F39: 117.9
A40: Предоставление услуг гостиницами и услуг для туристического проживания,а также прочими местами для краткосрочного проживания | B40: 42.1 | C40: 175.1 | D40: 113.4 | E40: 445.7 | F40: 98
A41: Деятельность ресторанов, предоставление мобильных услуг и прочих услуг по обеспечению пищей | B41: 75.4 | C41: 107.2 | D41: 109 | E41: 106.7 | F41: 118.7
A43: 10.5. Оптовая и розничная торговля, ремонт автомобилей и мотоциклов по формам собственности
A44: (млн. сомов)
B45: 2020 | C45: 2021 | D45: 2022 | E45: 2023 | F45: 2024
A47: Всего | B47: 37473.1 | C47: =C49+C50+C51+C52+C53 -> 48279.8 | D47: =D49+D50+D51+D52+D53 -> 61984.7 | E47: =E49+E50+E51+E52+E53 -> 76071 | F47: 90039.6
A49: Оптовая и розничная торговля автомобилями и мотоциклами, их детелями, узлами и принадлежности | B49: 175.2 | C49: 249 | D49: 266.2 | E49: 291.8 | F49: 308.9
A50: Техническое обслуживание и ремонт автомобилей | B50: 103.6 | C50: 143.2 | D50: 184.3 | E50: 188.3 | F50: 208.7
A51: Оптовая торговля | B51: 6230.5 | C51: 6224.1 | D51: 10245.8 | E51: 12323.4 | F51: 13244.7
A52: Розничная торговля моторным топливом | B52: 3483.4 | C52: 5707.9 | D52: 8144.7 | E52: 10356.8 | F52: 9632.2
...

Sheet торг1
A1: 10.14. Объем оборота розничной торговли,
A2: включая предприятия питания, по каналам реализации
B4: 2020 | C4: 2021 | D4: 2022 | E4: 2023 | F4: 2024
A6: Миллион сомов
A7: Все каналы реализации | B7: 32093.4 | C7: =C8+C9 -> 43095.9 | D7: =D8+D9 -> 52975.5 | E7: =E8+E9 -> 65192.9 | F7: 78609.2
A8: Торгующие организации | B8: 7113.2 | C8: 10199.1 | D8: 13133.9 | E8: 16479.6 | F8: 23372.9
A9: Торговля на всех типах рынков | B9: 24980.2 | C9: 32896.8 | D9: 39841.6 | E9: 48713.3 | F9: 55236.3
A12: Все каналы реализации | B12: 82.6 | C12: 119.4 | D12: 111.9 | E12: 114 | F12: 114.9
A13: Торгующие организации | B13: 82.6 | C13: 127.5 | D13: 117.2 | E13: 116.3 | F13: 116.3
A14: Торговля на всех типах рынков | B14: 82.6 | C14: 117.1 | D14: 110.3 | E14: 113.3 | F14: 121
A17: 10.15. Розничная торговля, включая оборот предприятий
A18: питания по территории
A19: млн. сомов)
B20: 2020 | C20: 2021 | D20: 2022 | E20: 2023 | F20: 2024
A22: Ошская область | B22: 32093.4 | C22: =C24+C25+C26+C27+C29+C31+C33 -> 43095.9 | D22: =D24+D25+D26+D27+D29+D31+D33 -> 52975.5 | E22: =E24+E25+E26+E27+E29+E31+E33 -> 65192.9 | F22: 78609.2
A23: районы:
A24: Алайский | B24: 1140 | C24: 1442.2 | D24: 1751.8 | E24: 2072.7 | F24: 2498.3
A25: Араванский | B25: 1206.9 | C25: 1603.7 | D25: 1870.8 | E25: 2280.9 | F25: 2591.3
A26: Кара-Кулжинский | B26: 884.9 | C26: 1179.8 | D26: 1368.6 | E26: 1538.3 | F26: 1825.3
A27: Кара-Сууский | B27: 18277.8 | C27: 24160.5 | D27: 30070.2 | E27: 38402.2 | F27: 47226.5
A28: г.Кара-Суу | B28: 11779.5 | C28: 14024.1 | D28: 15868.4 | E28: 18015.8 | F28: 20915.8
A29: Ноокатский | B29: 4166.2 | C29: 5724.8 | D29: 6844.7 | E29: 7910.2 | F29: 10430.8
A30: г. Ноокат | B30: 2242.9 | C30: 1905 | D30: 2117.2 | E30: 2372.2 | F30: 2520
A31: Узгенский | B31: 5651.5 | C31: 7949.3 | D31: 9852 | E31: 11588.1 | F31: 12506.8
A32: г.Узген | B32: 3712.1 | C32: 5193.6 | D32: 5746.2 | E32: 6534.3 | F32: 7162
A33: Чон-Алайский | B33: 766.1 | C33: 1035.6 | D33: 1217.4 | E33: 1400.5 | F33: 1530.2
A36: 10.16. Индексы физического объема оборота розничной торговли,
A37: включая предприятия питания по территории
A38: (в процентах к предыдущему году)
B39: 2020 | C39: 2021 | D39: 2022 | E39: 2023 | F39: 2024
A41: Ошская область | B41: 82.6 | C41: 119.4 | D41: 111.9 | E41: 114 | F41: 114.9
A42: районы:
A43: Алайский | B43: 80.6 | C43: 112.5 | D43: 110.6 | E43: 109.6 | F43: 114.9
A44: Араванский | B44: 83.2 | C44: 118.1 | D44: 106.2 | E44: 113 | F44: 108.3
A45: Кара-Кулжинский | B45: 86.2 | C45: 118.5 | D45: 105.6 | E45: 104.2 | F45: 113.1
A46: Кара-Сууский | B46: 88.2 | C46: 117.5 | D46: 113.3 | E46: 118.3 | F46: 117.2
A47: г.Кара-Суу | B47: 98.9 | C47: 105.8 | D47: 60.1 | E47: 105.2 | F47: 110.7
A48: Ноокатский | B48: 72.4 | C48: 122.2 | D48: 108.9 | E48: 107.1 | F48: 125.7
A49: г. Ноокат | B49: 77.2 | C49: 75.5 | D49: 101.2 | E49: 103.8 | F49: 101.3
A50: Узгенский | B50: 76.3 | C50: 125.1 | D50: 112.8 | E50: 109 | F50: 102.9
...

Sheet услуги
A1: 10.20. Объем рыночных услуг по видам экономической деятельности
A2: млн.сомов
B3: 2020 | C3: 2021 | D3: 2022 | E3: 2023 | F3: 2024
A4: Всего рыночные услуги | B4: 41797.6 | C4: 53791.8 | D4: =D5+D6+D7+D8+D9+D10+D11+D12+D13+D14+D15+D16 -> 68010 | E4: =E5+E6+E7+E8+E9+E10+E11+E12+E13+E14+E15+E16 -> 82888.1 | F4: 98940.7
A5: Оптовая и розничная торговля автомобилями и мотоциклами, их деталями, узлами и принадлежностями | B5: 37473.1 | C5: 48279.8 | D5: 61984.7 | E5: 76071 | F5: 90039.6
A6: Транспортная деятельность и хранение грузов | B6: 961.9 | C6: 1750.7 | D6: 1695.7 | E6: 1798.6 | F6: 1987.2
A7: Услуги гостиниц и ресторанов | B7: 1388 | C7: 1196.5 | D7: 1435.7 | E7: 1699.3 | F7: 2087.3
A8: Информация и связь | B8: 99.4 | C8: 138.9 | D8: 141 | E8: 139.1 | F8: 293.4
A9: Финансовое посредничество и страхование | B9: 866.7 | C9: 1063.5 | D9: 1124.3 | E9: 1115.2 | F9: 1669.8
A10: Операции с недвижимым имуществом | B10: 93.9 | C10: 138.5 | D10: 165.2 | E10: 201.2 | F10: 334.9
A11: Профессиональная, научная и техническая деятельность | B11: 207.1 | C11: 283.2 | D11: 295.8 | E11: 386.8 | F11: 509.1
A12: Административная и вспомогательная деятельность | B12: 148.6 | C12: 172 | D12: 164.7 | E12: 247.3 | F12: 302.9
A13: Образование | B13: 123.4 | C13: 312.4 | D13: 421.3 | E13: 518.3 | F13: 694.1
A14: Здравоохранение и социальное обслуживание населения | B14: 167.7 | C14: 178.7 | D14: 263 | E14: 288.4 | F14: 442.1
A15: Искусство, развлечения и отдых | B15: 30.5 | C15: 31.8 | D15: 54.3 | E15: 67 | F15: 111.6
A16: Прочая обслуживающая деятельность | B16: 237.3 | C16: 245.8 | D16: 264.3 | E16: 355.9 | F16: 468.7
A19: 10.21. Индексы физического объема рыночных услуг по видам экономической деятельности
A20: в процентах к предыдущему году
B21: 2020 | C21: 2021 | D21: 2022 | E21: 2023 | F21: 2024
A22: Всего рыночные услуги | B22: 80.9 | C22: 111.2 | D22: 113.8 | E22: 115.2 | F22: 112.4
A23: Оптовая и розничная торговля автомобилями и мотоциклами, их деталями, узлами и принадлежностями | B23: 80 | C23: 111.6 | D23: 114.4 | E23: 116 | F23: 112.5
A24: Транспортная деятельность и хранение грузов | B24: 92 | C24: 106.5 | D24: 107.9 | E24: 110.6 | F24: 114.9
A25: Услуги гостиниц и ресторанов | B25: 74.9 | C25: 107.7 | D25: 109 | E25: 110.2 | F25: 117.9
A26: Информация и связь | B26: 93.6 | C26: 97.7 | D26: 91.6 | E26: 96 | F26: 99.5
A27: Финансовое посредничество и страхование | B27: 100 | C27: 99.9 | D27: 107.8 | E27: 101.5 | F27: 103.4
A28: Операции с недвижимым имуществом | B28: 98.1 | C28: 100 | D28: 96.4 | E28: 83.1 | F28: 98.9
A29: Профессиональная, научная и техническая деятельность | B29: 95.8 | C29: 97.4 | D29: 103.8 | E29: 101.5 | F29: 98.1
A30: Административная и вспомогательная деятельность | B30: 95.7 | C30: 102.3 | D30: 100.8 | E30: 109.6 | F30: 106.6
A31: Образование | B31: 48.8 | C31: 251.1 | D31: 132.8 | E31: 117.3 | F31: 114.6
A32: Здравоохранение и социальное обслуживание населения | B32: 152.9 | C32: 102.7 | D32: 142.3 | E32: 107.4 | F32: 151.6
A33: Искусство, развлечения и отдых | B33: 101.3 | C33: 99.8 | D33: 81.8 | E33: 104.9 | F33: 100.6
A34: Прочая обслуживающая деятельность | B34: 99.1 | C34: 94.8 | D34: 85.4 | E34: 93.8 | F34: 90.9

Sheet инд
A1: 11. ЦЕНЫ И ТАРИФЫ
A2: 11.1. Индекс потребительских цен и тарифов на товары и услуги
A3: (в процентах к декабрю предыдущего года)
B4: 2020 | C4: 2021 | D4: 2022 | E4: 2023 | F4: 2024
A6: Все товары и платные услуги | B6: 107.7 | C6: 110.7 | D6: 109.38 | E6: 108.19191 | F6: 104.53
A8: Товары | B8: 109 | C8: 111.2 | D8: 109.27 | E8: 107.92 | F8: 104.16
A9: Продовольственные | B9: 114 | C9: 113.9 | D9: 110.3 | E9: 107.1 | F9: 103.91
A10: Непродовольственные | B10: 102 | C10: 108 | D10: 107.19 | E10: 107.2 | F10: 104.58
A11: Платные услуги | B11: 101.2 | C11: 107.7 | D11: 110 | E11: 109.2 | F11: 104.53
A12: Хлеб, хлебобулочные изделия и крупы | B12: 108.5 | C12: 108.3 | D12: 111.59 | E12: 111.46057 | F12: 106.63
A13: Мясо | B13: 121.7 | C13: 114.5 | D13: 106.99 | E13: 103.97024 | F13: 108.43
A14: Рыба | B14: 99.9 | C14: 108.1 | D14: 104.47 | E14: 103.11843 | F14: 101.51
A15: Молочные изделия, сыр и яйца | B15: 108.5 | C15: 114.6 | D15: 101.13 | E15: 109.96881 | F15: 102.88
A16: Масла и жиры | B16: 133.4 | C16: 125.7 | D16: 106.11 | E16: 95.3957 | F16: 92.78
A17: Фрукты и овощи | B17: 110.5 | C17: 118.3 | D17: 100.72 | E17: 112.69168 | F17: 98.24
A18: Сахар, джем, мед, шоколад и конфеты | B18: 110.4 | C18: 120.8 | D18: 124.33 | E18: 99.555317 | F18: 99.47
... A30: Рестораны и гостиницы | B30: 101.6 | C30: 112.8 | D30: 111.56 | E30: 104.7308 | F30: 105.39
A34: 11.2. Средние потребительские цены (тарифы) на отдельные виды товаров (услуг) на потребительском рынке
A35: (в сомах за килограмм, штуку, пару, услугу)
B36: 2020 | C36: 2021 | D36: 2022 | E36: 2023 | F36: 2024
A38: Рис среднезерный | B38: 90.31 | C38: 93.05 | D38: 96.2 | E38: 131.64 | F38: 153.63
A39: Хлеб из муки 1 сорта | B39: 64.05 | C39: 64.23 | D39: 69.5 | E39: 72.74 | F39: 80.71
A40: Мука пшеничная 1 сорта | B40: 37.4 | C40: 39.75 | D40: 48.33 | E40: 50.5 | F40: 50.25
A41: Говядина | B41: 369.48 | C41: 460.37 | D41: 508.04 | E41: 524.65 | F41: 543.6
A42: Баранина | B42: 378.93 | C42: 489.69 | D42: 574.59 | E42: 600 | F42: 610.63
A43: Молоко цельное разливное, л | B43: 32.95 | C43: 38.58 | D43: 46.77 | E43: 49.67 | F43: 51.86
A44: Яйца куриные, 10 шт. | B44: 94.45 | C44: 119.32 | D44: 127.44 | E44: 136.08 | F44: 138.64
A45: Масло сливочное | B45: 360.66 | C45: 357.55 | D45: 428.2 | E45: 460.01 | F45: 463.49
A46: Масло подсолнечное, кг | B46: 104.08 | C46: 165.03 | D46: 181.16 | E46: 165.46 | F46: 152.28
A47: Яблоки | B47: 66.78 | C47: 57.02 | D47: 55.42 | E47: 78.82 | F47: 88.17
A48: Лук репчатый | B48: 21.36 | C48: 22.66 | D48: 30.05 | E48: 28.1 | F48: 24.61
A49: Картофель | B49: 26.02 | C49: 35.82 | D49: 31.05 | E49: 28.95 | F49: 31.27
... A62: Стрижка модельная (женская) | B62: 298.94 | C62: 307.22 | D62: 360.73 | E62: 387.27 | F62: 384.06
B64: 2020 | C64: 2021 | D64: 2022 | E64: 2023 | F64: 2024
A65: Абонентская плата за телефон, за месяц | B65: 62.24 | C65: 62.24 | D65: 62.24 | E65: 103.74 | F65: 103.74
A66: Плата за электричество (за кВт/ч) | B66: 0.77 | C66: 0.77 | D66: 0.77 | E66: 1 | F66: 1.07
A69: 11.3. Средние потребительские тарифы на отдельные виды услуг, оказываемых населению, в сфере туризма
A70: (в сомах)
B71: 2020 | C71: 2021 | D71: 2022 | E71: 2023 | F71: 2024
A73: Проживание в гостинице (за сутки с человека) | B73: 0 | C73: 0 | D73: 0 | E73: 0 | F73: 0
...

Sheet Госсектор
A1: 12. ГОСУДАРСТВЕННЫЕ ФИНАНСЫ
A2: 12.1. Республиканский бюджет
A3: (тысяч сомов)
B4: 2020 | C4: 2021 | D4: 2022 | E4: 2023 | F4: 2024
A6: Доходы, всего | B6: 1311965.3 | C6: 1943128 | D6: 2107690.7 | E6: 3583750.3 | F6: 4081090.3
A7: Доходы от операционной деятельности | B7: 1311965.3 | C7: 1943128 | D7: 2107690.7 | E7: 3583750.3 | F7: 4081090.3
