Workbook

Sheet Баткен
A1: Региондук дүң продукт (РДП) экономикалык ишмердиктин түрлөрү боюнча учурдагы баалар менен | B1: Валовой региональный продукт (ВРП) по видам экономической деятельности в текущих ценах | C1: Gross regional product (GRP) by types of economical activity in current prices
A2: (млн.сом) | B2: (млн.сомов) | C2: (mln.som)
A3: Баткен облусу | B3: Баткенская область | C3: Batken oblast
A4: Көрсөкүчтөрдүн аталыштары | B4: Наименование показателей | C4: Items | D4: 2020 | E4: 2021 | F4: 2022 | G4: 2023 | H4: 2024
A5: Региондук дүң продукт | B5: Валовой региональный продукт | C5: Gross regional product | D5: 22912.9 | E5: 27083.3 | F5: 36864.5 | G5: 45596 | H5: 49764.7
A7: Айыл чарбасы, токой чарбасы жана балык уулоочулук | B7: Сельское хозяйство, лесное хозяйство и рыболовство | C7: Agriculture, forestry and fishing | D7: 6002 | E7: 6951.4 | F7: 8001.6 | G7: 9685.3 | H7: 9969.3
A8: Пайдалуу кендерди казуу | B8: Добыча полезных ископаемых | C8: Mining | D8: 275.7 | E8: 689.1 | F8: 860.7 | G8: 1219.1 | H8: 1561.9
A9: Иштетүү өндүрүшү (иштетүү өнөр жайы) | B9: Обрабатывающие производства (обрабатывающая промышленность) | C9: Manufacturing | D9: 795.6 | E9: 1164.9 | F9: 854 | G9: 1771.9 | H9: 2038.2
A10: Электр энергия, газ, буу жана кондицияланган аба менен камсыздоо (жабдуу) | B10: Обеспечение (снабжение) электроэнергией, газом, паром и кондиционированным воздухом | C10: Electricity, gas and steam production, distribution and supply | D10: 220 | E10: 48.1 | F10: 319.7 | G10: 0 | H10: 728.1
A11: Суу менен камсыздоо, тазалоо, калдыктарды иштетүү жана кайра пайдалануучу чийки затты алуу | B11: Водоснабжение, очистка, обработка отходов и получение вторичного сырья | C11: Water supply, waste treatment and disposal | D11: 56.6 | E11: 62.8 | F11: 75.6 | G11: 78.8 | H11: 115.3
A12: Курулуш | B12: Строительство | C12: Construction | D12: 460.1 | E12: 1404.4 | F12: 3674.2 | G12: 3330.4 | H12: 2256.3
A13: Дүң жана чекене соода; автомобиль жана мотоциклдерди оңдоо | B13: Оптовая и розничная торговля; ремонт автомобилей и мотоциклов | C13: Trade: repair of transport means | D13: 4176.9 | E13: 4713.5 | F13: 5482 | G13: 6459 | H13: 6896.9
A14: Транспорт ишмердиги жана жүктөрдү сактоо | B14: Транспортная деятельность и хранение грузов | C14: Transportation and storage | D14: 170.6 | E14: 179.6 | F14: 130 | G14: 190.7 | H14: 675.4
A15: Мейманканалар менен ресторандардын ишмердиги | B15: Деятельность гостиниц и ресторанов | C15: Accommodation and food service activities | D15: 465 | E15: 439.2 | F15: 873.6 | G15: 565.6 | H15: 632.9
A16: Маалымат жана байланыш | B16: Информация и связь | C16: Information and communication | D16: 80.2 | E16: 99.1 | F16: 91.9 | G16: 97.3 | H16: 114.4
... A25: Башка тейлөө ишмердиги | B25: Прочая обслуживающая деятельность | C25: Other service activities | D25: 127.9 | E25: 182.6 | F25: 297.2 | G25: 419.1 | H25: 665.5
A26: Финансылык ортомчулуктун кыйыр өлчөнүүчү кызмат көрсөтүүлөрү (ФОКӨК) | B26: Услуги финансового посредничества, измеряемые косвенным образом (УФПИК) | C26: Indirectly measured services of financial intermediation (FISIM) | D26: - | E26: - | F26: - | G26: - | H26: -
A27: Жеке үй чарбаларынын жалданма жумушчулар менен иш алып баруусу; жеке үй чарбаларынын өз керектөөлөрү үчүн ар түрдүү товарларды жана кызмат көрсөтүүлөрдү өндүрүшү | B27: Деятельность частных домашних хозяйств с наемными работниками; производство частными домашними хозяйствами разнообразных товаров и услуг для собственного потребления | C27: Activities of households as employers; undifferentiated goods- and services-producing activities of households for own use | D27: 5.5 | E27: 13.1 | F27: 16.6 | G27: 26.4 | H27: 19.8
A28: Продуктулардын таза салыктары | B28: Чистые налоги на продукты | C28: Net taxes on products | D28: 763.3 | E28: 968.6 | F28: 1119.5 | G28: 1755.7 | H28: 1821.3

Sheet Жалал-Абад
A1: Региондук дүң продукт (РДП) экономикалык ишмердиктин түрлөрү боюнча учурдагы баалар менен | B1: Валовой региональный продукт (ВРП) по видам экономической деятельности в текущих ценах | C1: Gross regional product (GRP) by types of economical activity in current prices
A2: (млн.сом) | B2: (млн.сомов) | C2: (mln.som)
A3: Жалал-Абад облусу | B3: Джалал-Абатская область | C3: Jalal Abad oblast
A4: Көрсөкүчтөрдүн аталыштары | B4: Наименование показателей | C4: Items | D4: 2020 | E4: 2021 | F4: 2022 | G4: 2023 | H4: 2024
A5: Региондук дүң продукт | B5: Валовой региональный продукт | C5: Gross regional product | D5: 68566.8 | E5: 87275.7 | F5: 108126.9 | G5: 144613.9 | H5: 160128.4
A7: Айыл чарбасы, токой чарбасы жана балык уулоочулук | B7: Сельское хозяйство, лесное хозяйство и рыболовство | C7: Agriculture, forestry and fishing | D7: 13278.8 | E7: 18845.9 | F7: 21181.6 | G7: 22766.6 | H7: 25242.8
A8: Пайдалуу кендерди казуу | B8: Добыча полезных ископаемых | C8: Mining | D8: 5233.7 | E8: 11783 | F8: 10949.6 | G8: 13382.4 | H8: 17374.8
A9: Иштетүү өндүрүшү (иштетүү өнөр жайы) | B9: Обрабатывающие производства (обрабатывающая промышленность) | C9: Manufacturing | D9: 2143 | E9: 1877.7 | F9: 5143.8 | G9: 9565.7 | H9: 8224.7
A10: Электр энергия, газ, буу жана кондицияланган аба менен камсыздоо (жабдуу) | B10: Обеспечение (снабжение) электроэнергией, газом, паром и кондиционированным воздухом | C10: Electricity, gas and steam production, distribution and supply | D10: 8071.3 | E10: 5929.4 | F10: 5280.7 | G10: 9378.1 | H10: 8674
A11: Суу менен камсыздоо, тазалоо, калдыктарды иштетүү жана кайра пайдалануучу чийки затты алуу | B11: Водоснабжение, очистка, обработка отходов и получение вторичного сырья | C11: Water supply, waste treatment and disposal | D11: 119.2 | E11: 130.2 | F11: 153.1 | G11: 192.9 | H11: 283.4
A12: Курулуш | B12: Строительство | C12: Construction | D12: 4753.9 | E12: 7400 | F12: 7765.9 | G12: 13784 | H12: 13445.6
A13: Дүң жана чекене соода; автомобиль жана мотоциклдерди оңдоо | B13: Оптовая и розничная торговля; ремонт автомобилей и мотоциклов | C13: Trade: repair of transport means | D13: 10778.4 | E13: 14116.2 | F13: 18945.7 | G13: 25119.4 | H13: 29530.1
A14: Транспорт ишмердиги жана жүктөрдү сактоо | B14: Транспортная деятельность и хранение грузов | C14: Transportation and storage | D14: 419.7 | E14: 498.3 | F14: 819.6 | G14: 1517.5 | H14: 1339.3
A15: Мейманканалар менен ресторандардын ишмердиги | B15: Деятельность гостиниц и ресторанов | C15: Accommodation and food service activities | D15: 644.1 | E15: 942.8 | F15: 1456.9 | G15: 2160.4 | H15: 2888.1
A16: Маалымат жана байланыш | B16: Информация и связь | C16: Information and communication | D16: 156.9 | E16: 208.1 | F16: 200.6 | G16: 218.6 | H16: 263.9
... A25: Башка тейлөө ишмердиги | B25: Прочая обслуживающая деятельность | C25: Other service activities | D25: 1138.6 | E25: 1311.5 | F25: 1537.6 | G25: 1976.8 | H25: 2718.4
A26: Финансылык ортомчулуктун кыйыр өлчөнүүчү кызмат көрсөтүүлөрү (ФОКӨК) | B26: Услуги финансового посредничества, измеряемые косвенным образом (УФПИК) | C26: Indirectly measured services of financial intermediation (FISIM) | D26: - | E26: - | F26: - | G26: - | H26: -
A27: Жеке үй чарбаларынын жалданма жумушчулар менен иш алып баруусу; жеке үй чарбаларынын өз керектөөлөрү үчүн ар түрдүү товарларды жана кызмат көрсөтүүлөрдү өндүрүшү | B27: Деятельность частных домашних хозяйств с наемными работниками; производство частными домашними хозяйствами разнообразных товаров и услуг для собственного потребления | C27: Activities of households as employers; undifferentiated goods- and services-producing activities of households for own use | D27: 16.9 | E27: 39.8 | F27: 45.7 | G27: 44.3 | H27: 52.7
A28: Продуктулардын таза салыктары | B28: Чистые налоги на продукты | C28: Net taxes on products | D28: 823.9 | E28: 1444 | F28: 2134.5 | G28: 4157.5 | H28: 3678

Sheet Ысык-Көл
A1: Региондук дүң продукт (РДП) экономикалык ишмердиктин түрлөрү боюнча учурдагы баалар менен | B1: Валовой региональный продукт (ВРП) по видам экономической деятельности в текущих ценах | C1: Gross regional product (GRP) by types of economical activity in current prices
A2: (млн.сом) | B2: (млн.сомов) | C2: (mln.som)
A3: Исык-Көл облусу | B3: Ысык-Кульская область | C3: Issyk-kul oblast
A4: Көрсөкүчтөрдүн аталыштары | B4: Наименование показателей | C4: Items | D4: 2020 | E4: 2021 | F4: 2022 | G4: 2023 | H4: 2024
A5: Региондук дүң продукт | B5: Валовой региональный продукт | C5: Gross regional product | D5: 88452.1 | E5: 82462.5 | F5: 107532.8 | G5: 118842.4 | H5: 133667.3
A7: Айыл чарбасы, токой чарбасы жана балык уулоочулук | B7: Сельское хозяйство, лесное хозяйство и рыболовство | C7: Agriculture, forestry and fishing | D7: 10617.2 | E7: 13560.1 | F7: 13537.3 | G7: 16652.1 | H7: 17634.8
A8: Пайдалуу кендерди казуу | B8: Добыча полезных ископаемых | C8: Mining | D8: 64.7 | E8: 19.9 | F8: 191.1 | G8: 256.7 | H8: 515.6
A9: Иштетүү өндүрүшү (иштетүү өнөр жайы) | B9: Обрабатывающие производства (обрабатывающая промышленность) | C9: Manufacturing | D9: 53965.2 | E9: 42861.9 | F9: 60241.8 | G9: 64143.3 | H9: 67554.9
A10: Электр энергия, газ, буу жана кондицияланган аба менен камсыздоо (жабдуу) | B10: Обеспечение (снабжение) электроэнергией, газом, паром и кондиционированным воздухом | C10: Electricity, gas and steam production, distribution and supply | D10: 814.6 | E10: 350.5 | F10: 849.9 | G10: 783.7 | H10: 864.5
A11: Суу менен камсыздоо, тазалоо, калдыктарды иштетүү жана кайра пайдалануучу чийки затты алуу | B11: Водоснабжение, очистка, обработка отходов и получение вторичного сырья | C11: Water supply, waste treatment and disposal | D11: 85.7 | E11: 102.9 | F11: 126.5 | G11: 158.8 | H11: 250.6
A12: Курулуш | B12: Строительство | C12: Construction | D12: 6434.5 | E12: 6614.8 | F12: 6399.7 | G12: 7657.6 | H12: 14719.8
A13: Дүң жана чекене соода; автомобиль жана мотоциклдерди оңдоо | B13: Оптовая и розничная торговля; ремонт автомобилей и мотоциклов | C13: Trade: repair of transport means | D13: 2954.3 | E13: 3715.3 | F13: 4738.9 | G13: 5573 | H13: 6127.6
A14: Транспорт ишмердиги жана жүктөрдү сактоо | B14: Транспортная деятельность и хранение грузов | C14: Transportation and storage | D14: 494.2 | E14: 527.6 | F14: 509.7 | G14: 551.1 | H14: 753
A15: Мейманканалар менен ресторандардын ишмердиги | B15: Деятельность гостиниц и ресторанов | C15: Accommodation and food service activities | D15: 162.8 | E15: 589.8 | F15: 994.2 | G15: 1382.1 | H15: 1778
A16: Маалымат жана байланыш | B16: Информация и связь | C16: Information and communication | D16: 217.6 | E16: 313 | F16: 304.1 | G16: 339.7 | H16: 271.7
... A25: Башка тейлөө ишмердиги | B25: Прочая обслуживающая деятельность | C25: Other service activities | D25: 1407.6 | E25: 1364.7 | F25: 1051.8 | G25: 868.1 | H25: 1391.4
A26: Финансылык ортомчулуктун кыйыр өлчөнүүчү кызмат көрсөтүүлөрү (ФОКӨК) | B26: Услуги финансового посредничества, измеряемые косвенным образом (УФПИК) | C26: Indirectly measured services of financial intermediation (FISIM) | D26: - | E26: - | F26: - | G26: - | H26: -
A27: Жеке үй чарбаларынын жалданма жумушчулар менен иш алып баруусу; жеке үй чарбаларынын өз керектөөлөрү үчүн ар түрдүү товарларды жана кызмат көрсөтүүлөрдү өндүрүшү | B27: Деятельность частных домашних хозяйств с наемными работниками; производство частными домашними хозяйствами разнообразных товаров и услуг для собственного потребления | C27: Activities of households as employers; undifferentiated goods- and services-producing activities of households for own use | D27: 13.3 | E27: 35.1 | F27: 32.3 | G27: 30.2 | H27: 32
A28: Продуктулардын таза салыктары | B28: Чистые налоги на продукты | C28: Net taxes on products | D28: 683.1 | E28: 789.7 | F28: 1111.2 | G28: 1817.4 | H28: 1482.6

Sheet Нарын
A1: Региондук дүң продукт (РДП) экономикалык ишмердиктин түрлөрү боюнча учурдагы баалар менен | B1: Валовой региональный продукт (ВРП) по видам экономической деятельности в текущих ценах | C1: Gross regional product (GRP) by types of economical activity in current prices
A2: (млн.сом) | B2: (млн.сомов) | C2: (mln.som)
A3: Нарын облусу | B3: Нарынская область | C3: Naryn oblast
A4: Көрсөкүчтөрдүн аталыштары | B4: Наименование показателей | C4: Items | D4: 2020 | E4: 2021 | F4: 2022 | G4: 2023 | H4: 2024
A5: Региондук дүң продукт | B5: Валовой региональный продукт | C5: Gross regional product | D5: 18165.4 | E5: 18213.3 | F5: 28094.6 | G5: 33366.5 | H5: 40730.8
A7: Айыл чарбасы, токой чарбасы жана балык уулоочулук | B7: Сельское хозяйство, лесное хозяйство и рыболовство | C7: Agriculture, forestry and fishing | D7: 3752.8 | E7: 4782.3 | F7: 5674.4 | G7: 6629.4 | H7: 7884.7
A8: Пайдалуу кендерди казуу | B8: Добыча полезных ископаемых | C8: Mining | D8: 559.9 | E8: 382.7 | F8: 1085.2 | G8: 507.2 | H8: 2237.6
A9: Иштетүү өндүрүшү (иштетүү өнөр жайы) | B9: Обрабатывающие производства (обрабатывающая промышленность) | C9: Manufacturing | D9: 241 | E9: 318.5 | F9: 286.5 | G9: 420.2 | H9: 673.7
A10: Электр энергия, газ, буу жана кондицияланган аба менен камсыздоо (жабдуу) | B10: Обеспечение (снабжение) электроэнергией, газом, паром и кондиционированным воздухом | C10: Electricity, gas and steam production, distribution and supply | D10: 964.3 | E10: 446.4 | F10: 326.8 | G10: 149.2 | H10: 562.2
A11: Суу менен камсыздоо, тазалоо, калдыктарды иштетүү жана кайра пайдалануучу чийки затты алуу | B11: Водоснабжение, очистка, обработка отходов и получение вторичного сырья | C11: Water supply, waste treatment and disposal | D11: 48 | E11: 37.9 | F11: 45.8 | G11: 64.7 | H11: 84.1
A12: Курулуш | B12: Строительство | C12: Construction | D12: 1639.4 | E12: 666.8 | F12: 2145.9 | G12: 2600.8 | H12: 2942.6
A13: Дүң жана чекене соода; автомобиль жана мотоциклдерди оңдоо | B13: Оптовая и розничная торговля; ремонт автомобилей и мотоциклов | C13: Trade: repair of transport means | D13: 1938.8 | E13: 2418.2 | F13: 4876.8 | G13: 6604 | H13: 7918.9
A14: Транспорт ишмердиги жана жүктөрдү сактоо | B14: Транспортная деятельность и хранение грузов | C14: Transportation and storage | D14: 814.6 | E14: 563.3 | F14: 1340.3 | G14: 1280.3 | H14: 1439.8
A15: Мейманканалар менен ресторандардын ишмердиги | B15: Деятельность гостиниц и ресторанов | C15: Accommodation and food service activities | D15: 32.3 | E15: 22.4 | F15: 39.7 | G15: 65.5 | H15: 199.6
A16: Маалымат жана байланыш | B16: Информация и связь | C16: Information and communication | D16: 51.4 | E16: 60.3 | F16: 80 | G16: 74.6 | H16: 69.6
... A25: Башка тейлөө ишмердиги | B25: Прочая обслуживающая деятельность | C25: Other service activities | D25: 136.9 | E25: 147.1 | F25: 163.2 | G25: 213.7 | H25: 211
A26: Финансылык ортомчулуктун кыйыр өлчөнүүчү кызмат көрсөтүүлөрү (ФОКӨК) | B26: Услуги финансового посредничества, измеряемые косвенным образом (УФПИК) | C26: Indirectly measured services of financial intermediation (FISIM) | D26: - | E26: - | F26: - | G26: - | H26: -
A27: Жеке үй чарбаларынын жалданма жумушчулар менен иш алып баруусу; жеке үй чарбаларынын өз керектөөлөрү үчүн ар түрдүү товарларды жана кызмат көрсөтүүлөрдү өндүрүшү | B27: Деятельность частных домашних хозяйств с наемными работниками; производство частными домашними хозяйствами разнообразных товаров и услуг для собственного потребления | C27: Activities of households as employers; undifferentiated goods- and services-producing activities of households for own use | D27: 4.4 | E27: 10.2 | F27: 11.9 | G27: 12.6 | H27: 14.3
A28: Продуктулардын таза салыктары | B28: Чистые налоги на продукты | C28: Net taxes on products | D28: 227.6 | E28: 253.2 | F28: 336.5 | G28: 747.7 | H28: 982.6

Sheet Ош обл
A1: Региондук дүң продукт (РДП) экономикалык ишмердиктин түрлөрү боюнча учурдагы баалар менен | B1: Валовой региональный продукт (ВРП) по видам экономической деятельности в текущих ценах | C1: Gross regional product (GRP) by types of economical activity in current prices
A2: (млн.сом) | B2: (млн.сомов) | C2: (mln.som)
A3: Ош облусу | B3: Ошская область | C3: Osh oblast
A4: Көрсөкүчтөрдүн аталыштары | B4: Наименование показателей | C4: Items | D4: 2020 | E4: 2021 | F4: 2022 | G4: 2023 | H4: 2024
A5: Региондук дүң продукт | B5: Валовой региональный продукт | C5: Gross regional product | D5: 50996.5 | E5: 60550.7 | F5: 77621.9 | G5: 96701 | H5: 106559.6
A7: Айыл чарбасы, токой чарбасы жана балык уулоочулук | B7: Сельское хозяйство, лесное хозяйство и рыболовство | C7: Agriculture, forestry and fishing | D7: 15529.8 | E7: 19625.8 | F7: 23151.6 | G7: 25221.9 | H7: 24966.8
A8: Пайдалуу кендерди казуу | B8: Добыча полезных ископаемых | C8: Mining | D8: 539.5 | E8: 1519.8 | F8: 1034 | G8: 1315 | H8: 2618.2
A9: Иштетүү өндүрүшү (иштетүү өнөр жайы) | B9: Обрабатывающие производства (обрабатывающая промышленность) | C9: Manufacturing | D9: 4096.7 | E9: 5139.8 | F9: 6850 | G9: 8155.9 | H9: 8799.1
A10: Электр энергия, газ, буу жана кондицияланган аба менен камсыздоо (жабдуу) | B10: Обеспечение (снабжение) электроэнергией, газом, паром и кондиционированным воздухом | C10: Electricity, gas and steam production, distribution and supply | D10: 461.6 | E10: 105.5 | F10: 256.3 | G10: 535.2 | H10: 1164.1
A11: Суу менен камсыздоо, тазалоо, калдыктарды иштетүү жана кайра пайдалануучу чийки затты алуу | B11: Водоснабжение, очистка, обработка отходов и получение вторичного сырья | C11: Water supply, waste treatment and disposal | D11: 63.9 | E11: 67.1 | F11: 80.2 | G11: 111 | H11: 143
A12: Курулуш | B12: Строительство | C12: Construction | D12: 2308.5 | E12: 1210.5 | F12: 4037.8 | G12: 7050.7 | H12: 7824.1
A13: Дүң жана чекене соода; автомобиль жана мотоциклдерди оңдоо | B13: Оптовая и розничная торговля; ремонт автомобилей и мотоциклов | C13: Trade: repair of transport means | D13: 8966.7 | E13: 11879.8 | F13: 11904.4 | G13: 17195.2 | H13: 20702.3
A14: Транспорт ишмердиги жана жүктөрдү сактоо | B14: Транспортная деятельность и хранение грузов | C14: Transportation and storage | D14: 695.5 | E14: 791 | F14: 1014.4 | G14: 1051.7 | H14: 1205.2
A15: Мейманканалар менен ресторандардын ишмердиги | B15: Деятельность гостиниц и ресторанов | C15: Accommodation and food service activities | D15: 549.2 | E15: 545.5 | F15: 677 | G15: 1026.9 | H15: 1451.7
A16: Маалымат жана байланыш | B16: Информация и связь | C16: Information and communication | D16: 12.7 | E16: 21.2 | F16: 24.9 | G16: 15.3 | H16: 30.3
... A25: Башка тейлөө ишмердиги | B25: Прочая обслуживающая деятельность | C25: Other service activities | D25: 238.9 | E25: 339.2 | F25: 322.1 | G25: 384.4 | H25: 540.7
A26: Финансылык ортомчулуктун кыйыр өлчөнүүчү кызмат көрсөтүүлөрү (ФОКӨК) | B26: Услуги финансового посредничества, измеряемые косвенным образом (УФПИК) | C26: Indirectly measured services of financial intermediation (FISIM) | D26: - | E26: - | F26: - | G26: - | H26: -
A27: Жеке үй чарбаларынын жалданма жумушчулар менен иш алып баруусу; жеке үй чарбаларынын өз керектөөлөрү үчүн ар түрдүү товарларды жана кызмат көрсөтүүлөрдү өндүрүшү | B27: Деятельность частных домашних хозяйств с наемными работниками; производство частными домашними хозяйствами разнообразных товаров и услуг для собственного потребления | C27: Activities of households as employers; undifferentiated goods- and services-producing activities of households for own use | D27: 12.4 | E27: 28.9 | F27: 36.7 | G27: 36 | H27: 44.7
A28: Продуктулардын таза салыктары | B28: Чистые налоги на продукты | C28: Net taxes on products | D28: 695.5 | E28: 1022.8 | F28: 1290.3 | G28: 2432.7 | H28: 2182.6

Sheet Талас
A1: Региондук дүң продукт (РДП) экономикалык ишмердиктин түрлөрү боюнча учурдагы баалар менен | B1: Валовой региональный продукт (ВРП) по видам экономической деятельности в текущих ценах | C1: Gross regional product (GRP) by types of economical activity in current prices
A2: (млн.сом) | B2: (млн.сомов) | C2: (mln.som)
A3: Талас облусу | B3: Таласская область | C3: Talas oblast
A4: Көрсөкүчтөрдүн аталыштары | B4: Наименование показателей | C4: Items | D4: 2020 | E4: 2021 | F4: 2022 | G4: 2023 | H4: 2024
A5: Региондук дүң продукт | B5: Валовой региональный продукт | C5: Gross regional product | D5: 17902.5 | E5: 31340.8 | F5: 39161.4 | G5: 41087.6 | H5: 53957.9
A7: Айыл чарбасы, токой чарбасы жана балык уулоочулук | B7: Сельское хозяйство, лесное хозяйство и рыболовство | C7: Agriculture, forestry and fishing | D7: 6951.3 | E7: 8737.2 | F7: 8790.3 | G7: 9774 | H7: 10614.4
A8: Пайдалуу кендерди казуу | B8: Добыча полезных ископаемых | C8: Mining | D8: 15.6 | E8: 15.6 | F8: 1.8 | G8: 15.1 | H8: 42.6
A9: Иштетүү өндүрүшү (иштетүү өнөр жайы) | B9: Обрабатывающие производства (обрабатывающая промышленность) | C9: Manufacturing | D9: 409.6 | E9: 9684.4 | F9: 13139.3 | G9: 12983 | H9: 21010.8
A10: Электр энергия, газ, буу жана кондицияланган аба менен камсыздоо (жабдуу) | B10: Обеспечение (снабжение) электроэнергией, газом, паром и кондиционированным воздухом | C10: Electricity, gas and steam production, distribution and supply | D10: 263.1 | E10: 4.4 | F10: 54.9 | G10: 148.8 | H10: 837
A11: Суу менен камсыздоо, тазалоо, калдыктарды иштетүү жана кайра пайдалануучу чийки затты алуу | B11: Водоснабжение, очистка, обработка отходов и получение вторичного сырья | C11: Water supply, waste treatment and disposal | D11: 13.5 | E11: 25.9 | F11: 21.6 | G11: 40.2 | H11: 56.3
A12: Курулуш | B12: Строительство | C12: Construction | D12: 668.1 | E12: 867.1 | F12: 631.7 | G12: 1588.3 | H12: 3454.3
A13: Дүң жана чекене соода; автомобиль жана мотоциклдерди оңдоо | B13: Оптовая и розничная торговля; ремонт автомобилей и мотоциклов | C13: Trade: repair of transport means | D13: 3696.4 | E13: 4594.2 | F13: 5486 | G13: 3312 | H13: 3789.1
A14: Транспорт ишмердиги жана жүктөрдү сактоо | B14: Транспортная деятельность и хранение грузов | C14: Transportation and storage | D14: 218.9 | E14: 1208.1 | F14: 2279.5 | G14: 2722.2 | H14: 2615.2
A15: Мейманканалар менен ресторандардын ишмердиги | B15: Деятельность гостиниц и ресторанов | C15: Accommodation and food service activities | D15: 34.6 | E15: 60 | F15: 97.2 | G15: 212.5 | H15: 214.6
A16: Маалымат жана байланыш | B16: Информация и связь | C16: Information and communication | D16: 42.9 | E16: 50.3 | F16: 60.2 | G16: 59.4 | H16: 70.7
... A25: Башка тейлөө ишмердиги | B25: Прочая обслуживающая деятельность | C25: Other service activities | D25: 84.8 | E25: 131.4 | F25: 149.6 | G25: 163.8 | H25: 150.7
A26: Финансылык ортомчулуктун кыйыр өлчөнүүчү кызмат көрсөтүүлөрү (ФОКӨК) | B26: Услуги финансового посредничества, измеряемые косвенным образом (УФПИК) | C26: Indirectly measured services of financial intermediation (FISIM) | D26: - | E26: - | F26: - | G26: - | H26: -
A27: Жеке үй чарбаларынын жалданма жумушчулар менен иш алып баруусу; жеке үй чарбаларынын өз керектөөлөрү үчүн ар түрдүү товарларды жана кызмат көрсөтүүлөрдү өндүрүшү | B27: Деятельность частных домашних хозяйств с наемными работниками; производство частными домашними хозяйствами разнообразных товаров и услуг для собственного потребления | C27: Activities of households as employers; undifferentiated goods- and services-producing activities of households for own use | D27: 3.5 | E27: 8.5 | F27: 10.4 | G27: 10.7 | H27: 11.8
A28: Продуктулардын таза салыктары | B28: Чистые налоги на продукты | C28: Net taxes on products | D28: 366.3 | E28: 274.7 | F28: 472.2 | G28: 805.6 | H28: 855.5

Sheet Чуй
A1: Региондук дүң продукт (РДП) экономикалык ишмердиктин түрлөрү боюнча учурдагы баалар менен | B1: Валовой региональный продукт (ВРП) по видам экономической деятельности в текущих ценах | C1: Gross regional product (GRP) by types of economical activity in current prices
A2: (млн.сом) | B2: (млн.сомов) | C2: (mln.som)
A3: Чүй облусу | B3: Чуйская область | C3: Chui oblast
A4: Көрсөкүчтөрдүн аталыштары | B4: Наименование показателей | C4: Items | D4: 2020 | E4: 2021 | F4: 2022 | G4: 2023 | H4: 2024
A5: Региондук дүң продукт | B5: Валовой региональный продукт | C5: Gross regional product | D5: 84972.3 | E5: 111233.1 | F5: 146415.5 | G5: 183367.3 | H5: 205072
A7: Айыл чарбасы, токой чарбасы жана балык уулоочулук | B7: Сельское хозяйство, лесное хозяйство и рыболовство | C7: Agriculture, forestry and fishing | D7: 20944.7 | E7: 23780.5 | F7: 30886.9 | G7: 34638.1 | H7: 36423.8
A8: Пайдалуу кендерди казуу | B8: Добыча полезных ископаемых | C8: Mining | D8: 82.7 | E8: 6730.7 | F8: 4235.6 | G8: 9450 | H8: 12525.6
A9: Иштетүү өндүрүшү (иштетүү өнөр жайы) | B9: Обрабатывающие производства (обрабатывающая промышленность) | C9: Manufacturing | D9: 13067.2 | E9: 19718.6 | F9: 32863.1 | G9: 41674.7 | H9: 46110.1
A10: Электр энергия, газ, буу жана кондицияланган аба менен камсыздоо (жабдуу) | B10: Обеспечение (снабжение) электроэнергией, газом, паром и кондиционированным воздухом | C10: Electricity, gas and steam production, distribution and supply | D10: 2687.8 | E10: 2464.8 | F10: 2668.1 | G10: 1327.2 | H10: 5131.2
A11: Суу менен камсыздоо, тазалоо, калдыктарды иштетүү жана кайра пайдалануучу чийки затты алуу | B11: Водоснабжение, очистка, обработка отходов и получение вторичного сырья | C11: Water supply, waste treatment and disposal | D11: 207.1 | E11: 236 | F11: 279 | G11: 374 | H11: 439.9
A12: Курулуш | B12: Строительство | C12: Construction | D12: 6683 | E12: 9561.1 | F12: 9229 | G12: 11984.8 | H12: 9228.3
A13: Дүң жана чекене соода; автомобиль жана мотоциклдерди оңдоо | B13: Оптовая и розничная торговля; ремонт автомобилей и мотоциклов | C13: Trade: repair of transport means | D13: 14785.3 | E13: 18165.6 | F13: 23667.1 | G13: 31378.4 | H13: 44814.4
A14: Транспорт ишмердиги жана жүктөрдү сактоо | B14: Транспортная деятельность и хранение грузов | C14: Transportation and storage | D14: 1269.2 | E14: 1124.1 | F14: 1354.7 | G14: 1674.9 | H14: 2032.1
A15: Мейманканалар менен ресторандардын ишмердиги | B15: Деятельность гостиниц и ресторанов | C15: Accommodation and food service activities | D15: 359.8 | E15: 1055.4 | F15: 1858.9 | G15: 2780.3 | H15: 1452
A16: Маалымат жана байланыш | B16: Информация и связь | C16: Information and communication | D16: 278.6 | E16: 348.9 | F16: 396.2 | G16: 736.7 | H16: 81.5
... A25: Башка тейлөө ишмердиги | B25: Прочая обслуживающая деятельность | C25: Other service activities | D25: 631 | E25: 669 | F25: 1317 | G25: 1534 | H25: 1215.3
A26: Финансылык ортомчулуктун кыйыр өлчөнүүчү кызмат көрсөтүүлөрү (ФОКӨК) | B26: Услуги финансового посредничества, измеряемые косвенным образом (УФПИК) | C26: Indirectly measured services of financial intermediation (FISIM) | D26: - | E26: - | F26: - | G26: - | H26: -
A27: Жеке үй чарбаларынын жалданма жумушчулар менен иш алып баруусу; жеке үй чарбаларынын өз керектөөлөрү үчүн ар түрдүү товарларды жана кызмат көрсөтүүлөрдү өндүрүшү | B27: Деятельность частных домашних хозяйств с наемными работниками; производство частными домашними хозяйствами разнообразных товаров и услуг для собственного потребления | C27: Activities of households as employers; undifferentiated goods- and services-producing activities of households for own use | D27: 16.8 | E27: 39.6 | F27: 43 | G27: 42.6 | H27: 50.4
A28: Продуктулардын таза салыктары | B28: Чистые налоги на продукты | C28: Net taxes on products | D28: 6052.8 | E28: 7388.8 | F28: 11634.1 | G28: 17007.7 | H28: 17045.3

Sheet Бишкек ш.
A1: Региондук дүң продукт (РДП) экономикалык ишмердиктин түрлөрү боюнча учурдагы баалар менен | B1: Валовой региональный продукт (ВРП) по видам экономической деятельности в текущих ценах | C1: Gross regional product (GRP) by types of economical activity in current prices
A2: (млн.сом) | B2: (млн.сомов) | C2: (mln.som)
A3: Бишкек ш. | B3: г. Бишкек | C3: с.Bishkek
A4: Көрсөкүчтөрдүн аталыштары | B4: Наименование показателей | C4: Items | D4: 2020 | E4: 2021 | F4: 2022 | G4: 2023 | H4: 2024
A5: Региондук дүң продукт | B5: Валовой региональный продукт | C5: Gross regional product | D5: 251304.9 | E5: 321994.3 | F5: 417953.3 | G5: 595335.5 | H5: 744030.4
A7: Айыл чарбасы, токой чарбасы жана балык уулоочулук | B7: Сельское хозяйство, лесное хозяйство и рыболовство | C7: Agriculture, forestry and fishing | D7: 330.7 | E7: 442.3 | F7: 505.3 | G7: 643.2 | H7: 2825.2
A8: Пайдалуу кендерди казуу | B8: Добыча полезных ископаемых | C8: Mining | D8: 2.1 | E8: 8.7 | F8: 1.7 | G8: 74 | H8: 74.7
A9: Иштетүү өндүрүшү (иштетүү өнөр жайы) | B9: Обрабатывающие производства (обрабатывающая промышленность) | C9: Manufacturing | D9: 8515.8 | E9: 10815.7 | F9: 18463.5 | G9: 26869.6 | H9: 43089.6
A10: Электр энергия, газ, буу жана кондицияланган аба менен камсыздоо (жабдуу) | B10: Обеспечение (снабжение) электроэнергией, газом, паром и кондиционированным воздухом | C10: Electricity, gas and steam production, distribution and supply | D10: 2721.5 | E10: 1881.8 | F10: 3885 | G10: 7373.2 | H10: 8283
A11: Суу менен камсыздоо, тазалоо, калдыктарды иштетүү жана кайра пайдалануучу чийки затты алуу | B11: Водоснабжение, очистка, обработка отходов и получение вторичного сырья | C11: Water supply, waste treatment and disposal | D11: 974.3 | E11: 1788.9 | F11: 1252.6 | G11: 1232.9 | H11: 1773.8
A12: Курулуш | B12: Строительство | C12: Construction | D12: 33954.8 | E12: 26130.8 | F12: 32904.3 | G12: 39852.2 | H12: 52809.5
A13: Дүң жана чекене соода; автомобиль жана мотоциклдерди оңдоо | B13: Оптовая и розничная торговля; ремонт автомобилей и мотоциклов | C13: Trade: repair of transport means | D13: 34984 | E13: 48948.6 | F13: 63412.1 | G13: 106300.6 | H13: 132263.4
A14: Транспорт ишмердиги жана жүктөрдү сактоо | B14: Транспортная деятельность и хранение грузов | C14: Transportation and storage | D14: 13509.8 | E14: 20990.7 | F14: 20089.6 | G14: 28442 | H14: 34190.3
A15: Мейманканалар менен ресторандардын ишмердиги | B15: Деятельность гостиниц и ресторанов | C15: Accommodation and food service activities | D15: 3048.5 | E15: 4780.3 | F15: 8077.1 | G15: 14734.4 | H15: 23625.4
A16: Маалымат жана байланыш | B16: Информация и связь | C16: Information and communication | D16: 14923.6 | E16: 19356.6 | F16: 21578.9 | G16: 31369.1 | H16: 39535.9
... A25: Башка тейлөө ишмердиги | B25: Прочая обслуживающая деятельность | C25: Other service activities | D25: 3926.7 | E25: 5355.3 | F25: 6505.1 | G25: 7832.3 | H25: 9859.7
A26: Финансылык ортомчулуктун кыйыр өлчөнүүчү кызмат көрсөтүүлөрү (ФОКӨК) | B26: Услуги финансового посредничества, измеряемые косвенным образом (УФПИК) | C26: Indirectly measured services of financial intermediation (FISIM) | D26: - | E26: - | F26: - | G26: - | H26: -
A27: Жеке үй чарбаларынын жалданма жумушчулар менен иш алып баруусу; жеке үй чарбаларынын өз керектөөлөрү үчүн ар түрдүү товарларды жана кызмат көрсөтүүлөрдү өндүрүшү | B27: Деятельность частных домашних хозяйств с наемными работниками; производство частными домашними хозяйствами разнообразных товаров и услуг для собственного потребления | C27: Activities of households as employers; undifferentiated goods- and services-producing activities of households for own use | D27: 27.7 | E27: 67.1 | F27: 72.4 | G27: 73.9 | H27: 92
A28: Продуктулардын таза салыктары | B28: Чистые налоги на продукты | C28: Net taxes on products | D28: 52208.4 | E28: 81882.2 | F28: 111964.1 | G28: 166751.5 | H28: 186528.4

Sheet Ош ш.
A1: Региондук дүң продукт (РДП) экономикалык ишмердиктин түрлөрү боюнча учурдагы баалар менен | B1: Валовой региональный продукт (ВРП) по видам экономической деятельности в текущих ценах | C1: Gross regional product (GRP) by types of economical activity in current prices
A2: (млн.сом) | B2: (млн.сомов) | C2: (mln.som)
A3: Ош ш. | B3: г. Ош | C3: с.Osh
A4: Көрсөкүчтөрдүн аталыштары | B4: Наименование показателей | C4: Items | D4: 2020 | E4: 2021 | F4: 2022 | G4: 2023 | H4: 2024
A5: Региондук дүң продукт | B5: Валовой региональный продукт | C5: Gross regional product | D5: 36415.2 | E5: 42700.6 | F5: 58973.7 | G5: 74819.8 | H5: 88880.7
A7: Айыл чарбасы, токой чарбасы жана балык уулоочулук | B7: Сельское хозяйство, лесное хозяйство и рыболовство | C7: Agriculture, forestry and fishing | D7: 440.6 | E7: 444.2 | F7: 520.3 | G7: 589.2 | H7: 901.5
A8: Пайдалуу кендерди казуу | B8: Добыча полезных ископаемых | C8: Mining | D8: 0 | E8: 0 | F8: 1.3 | G8: 0 | H8: 0.7
A9: Иштетүү өндүрүшү (иштетүү өнөр жайы) | B9: Обрабатывающие производства (обрабатывающая промышленность) | C9: Manufacturing | D9: 933.1 | E9: 844.4 | F9: 1418.8 | G9: 1953.5 | H9: 3317.3
A10: Электр энергия, газ, буу жана кондицияланган аба менен камсыздоо (жабдуу) | B10: Обеспечение (снабжение) электроэнергией, газом, паром и кондиционированным воздухом | C10: Electricity, gas and steam production, distribution and supply | D10: 3376.7 | E10: 1105.8 | F10: 1308.2 | G10: 876.2 | H10: 1720.3
A11: Суу менен камсыздоо, тазалоо, калдыктарды иштетүү жана кайра пайдалануучу чийки затты алуу | B11: Водоснабжение, очистка, обработка отходов и получение вторичного сырья | C11: Water supply, waste treatment and disposal | D11: 164.2 | E11: 173.2 | F11: 210.3 | G11: 280.2 | H11: 421.8
A12: Курулуш | B12: Строительство | C12: Construction | D12: 2946.6 | E12: 3522.1 | F12: 5355.8 | G12: 9834.8 | H12: 14969.1
A13: Дүң жана чекене соода; автомобиль жана мотоциклдерди оңдоо | B13: Оптовая и розничная торговля; ремонт автомобилей и мотоциклов | C13: Trade: repair of transport means | D13: 10413.1 | E13: 13811.5 | F13: 16087.1 | G13: 18910.2 | H13: 21482
A14: Транспорт ишмердиги жана жүктөрдү сактоо | B14: Транспортная деятельность и хранение грузов | C14: Transportation and storage | D14: 712 | E14: 2157.3 | F14: 3002.2 | G14: 3142.6 | H14: 3336.1
A15: Мейманканалар менен ресторандардын ишмердиги | B15: Деятельность гостиниц и ресторанов | C15: Accommodation and food service activities | D15: 1198.3 | E15: 997.3 | F15: 885.2 | G15: 1793 | H15: 1548.1
A16: Маалымат жана байланыш | B16: Информация и связь | C16: Information and communication | D16: 654.4 | E16: 458.4 | F16: 438.5 | G16: 559 | H16: 604.9
... A25: Башка тейлөө ишмердиги | B25: Прочая обслуживающая деятельность | C25: Other service activities | D25: 348.2 | E25: 429.6 | F25: 1000.6 | G25: 1337.6 | H25: 1566.9
A26: Финансылык ортомчулуктун кыйыр өлчөнүүчү кызмат көрсөтүүлөрү (ФОКӨК) | B26: Услуги финансового посредничества, измеряемые косвенным образом (УФПИК) | C26: Indirectly measured services of financial intermediation (FISIM) | D26: - | E26: - | F26: - | G26: - | H26: -
A27: Жеке үй чарбаларынын жалданма жумушчулар менен иш алып баруусу; жеке үй чарбаларынын өз керектөөлөрү үчүн ар түрдүү товарларды жана кызмат көрсөтүүлөрдү өндүрүшү | B27: Деятельность частных домашних хозяйств с наемными работниками; производство частными домашними хозяйствами разнообразных товаров и услуг для собственного потребления | C27: Activities of households as employers; undifferentiated goods- and services-producing activities of households for own use | D27: 4.5 | E27: 10.9 | F27: 13.4 | G27: 12.9 | H27: 16.1
A28: Продуктулардын таза салыктары | B28: Чистые налоги на продукты | C28: Net taxes on products | D28: 3664 | E28: 6208.4 | F28: 10734.1 | G28: 12913.6 | H28: 12755.8

Sheet Лист1
A1: Регионалдык дүң продукт (РДП) экономикалык ишмердиктин түрлөрү боюнча учурдагы баа менен | B1: Валовой региональный продукт (ВРП) по видам экономической деятельности в текущих ценах | C1: Gross regional product (GRP) by types of economical activity in current prices
A2: (млн.сом) | B2: (млн.сомов) | C2: (mln.som)
A3: Көрсөкүчтөрдүн аталыштары | B3: Наименование показателей | C3: Items | D3: 2010 | E3: 2011 | F3: 2012 | G3: 2013 | H3: 2014 | I3: 2015 | J3: 2016 | K3: 2017 | L3: 2018 | M3: 2019
A4: Регионалдык дүң продукт | B4: Валовой региональный продукт | C4: Gross regional product | D4: =Баткен!#REF!+'Жалал-Абад'!#REF!+'Ысык-Көл'!#REF!+Нарын!#REF!+'Ош обл'!#REF!+Талас!#REF!+Чуй!#REF!+'Бишкек ш.'!#REF!+'Ош ш.'!#REF! -> #REF! | E4: =Баткен!#REF!+'Жалал-Абад'!#REF!+'Ысык-Көл'!#REF!+Нарын!#REF!+'Ош обл'!#REF!+Талас!#REF!+Чуй!#REF!+'Бишкек ш.'!#REF!+'Ош ш.'!#REF! -> #REF! | F4: =Баткен!#REF!+'Жалал-Абад'!#REF!+'Ысык-Көл'!#REF!+Нарын!#REF!+'Ош обл'!#REF!+Талас!#REF!+Чуй!#REF!+'Бишкек ш.'!#REF!+'Ош ш.'!#REF! -> #REF! | G4: =Баткен!#REF!+'Жалал-Абад'!#REF!+'Ысык-Көл'!#REF!+Нарын!#REF!+'Ош обл'!#REF!+Талас!#REF!+Чуй!#REF!+'Бишкек ш.'!#REF!+'Ош ш.'!#REF! -> #REF! | H4: =Баткен!#REF!+'Жалал-Абад'!#REF!+'Ысык-Көл'!#REF!+Нарын!#REF!+'Ош обл'!#REF!+Талас!#REF!+Чуй!#REF!+'Бишкек ш.'!#REF!+'Ош ш.'!#REF! -> #REF! | I4: =Баткен!#REF!+'Жалал-Абад'!#REF!+'Ысык-Көл'!#REF!+Нарын!#REF!+'Ош обл'!#REF!+Талас!#REF!+Чуй!#REF!+'Бишкек ш.'!#REF!+'Ош ш.'!#REF! -> #REF! | J4: =Баткен!#REF!+'Жалал-Абад'!#REF!+'Ысык-Көл'!#REF!+Нарын!#REF!+'Ош обл'!#REF!+Талас!#REF!+Чуй!#REF!+'Бишкек ш.'!#REF!+'Ош ш.'!#REF! -> #REF! | K4: =Баткен!#REF!+'Жалал-Абад'!#REF!+'Ысык-Көл'!#REF!+Нарын!#REF!+'Ош обл'!#REF!+Талас!#REF!+Чуй!#REF!+'Бишкек ш.'!#REF!+'Ош ш.'!#REF! -> #REF! | L4: =Баткен!#REF!+'Жалал-Абад'!#REF!+'Ысык-Көл'!#REF!+Нарын!D5+'Ош обл'!#REF!+Талас!#REF!+Чуй!#REF!+'Бишкек ш.'!#REF!+'Ош ш.'!#REF! -> #REF! | M4: =Баткен!D5+'Жалал-Абад'!D5+'Ысык-Көл'!D5+Нарын!E5+'Ош обл'!D5+Талас!D5+Чуй!D5+'Бишкек ш.'!D5+'Ош ш.'!D5 -> 639736.5
A6: Айыл чарбасы, токой чарбасы жана балык уулоочулук | B6: Сельское хозяйство, лесное хозяйство и рыболовство | C6: Agriculture, forestry and fishing | D6: =Баткен!#REF!+'Жалал-Абад'!#REF!+'Ысык-Көл'!#REF!+Нарын!#REF!+'Ош обл'!#REF!+Талас!#REF!+Чуй!#REF!+'Бишкек ш.'!#REF!+'Ош ш.'!#REF! -> #REF! | E6: =Баткен!#REF!+'Жалал-Абад'!#REF!+'Ысык-Көл'!#REF!+Нарын!#REF!+'Ош обл'!#REF!+Талас!#REF!+Чуй!#REF!+'Бишкек ш.'!#REF!+'Ош ш.'!#REF! -> #REF! | F6: =Баткен!#REF!+'Жалал-Абад'!#REF!+'Ысык-Көл'!#REF!+Нарын!#REF!+'Ош обл'!#REF!+Талас!#REF!+Чуй!#REF!+'Бишкек ш.'!#REF!+'Ош ш.'!#REF! -> #REF! | G6: =Баткен!#REF!+'Жалал-Абад'!#REF!+'Ысык-Көл'!#REF!+Нарын!#REF!+'Ош обл'!#REF!+Талас!#REF!+Чуй!#REF!+'Бишкек ш.'!#REF!+'Ош ш.'!#REF! -> #REF! | H6: =Баткен!#REF!+'Жалал-Абад'!#REF!+'Ысык-Көл'!#REF!+Нарын!#REF!+'Ош обл'!#REF!+Талас!#REF!+Чуй!#REF!+'Бишкек ш.'!#REF!+'Ош ш.'!#REF! -> #REF! | I6: =Баткен!#REF!+'Жалал-Абад'!#REF!+'Ысык-Көл'!#REF!+Нарын!#REF!+'Ош обл'!#REF!+Талас!#REF!+Чуй!#REF!+'Бишкек ш.'!#REF!+'Ош ш.'!#REF! -> #REF! | J6: =Баткен!#REF!+'Жалал-Абад'!#REF!+'Ысык-Көл'!#REF!+Нарын!#REF!+'Ош обл'!#REF!+Талас!#REF!+Чуй!#REF!+'Бишкек ш.'!#REF!+'Ош ш.'!#REF! -> #REF! | K6: =Баткен!#REF!+'Жалал-Абад'!#REF!+'Ысык-Көл'!#REF!+Нарын!#REF!+'Ош обл'!#REF!+Талас!#REF!+Чуй!#REF!+'Бишкек ш.'!#REF!+'Ош ш.'!#REF! -> #REF! | L6: =Баткен!#REF!+'Жалал-Абад'!#REF!+'Ысык-Көл'!#REF!+Нарын!D7+'Ош обл'!#REF!+Талас!#REF!+Чуй!#REF!+'Бишкек ш.'!#REF!+'Ош ш.'!#REF! -> #REF! | M6: =Баткен!D7+'Жалал-Абад'!D7+'Ысык-Көл'!D7+Нарын!E7+'Ош обл'!D7+Талас!D7+Чуй!D7+'Бишкек ш.'!D7+'Ош ш.'!D7 -> 78877.4
A7: Пайдалуу кендерди казуу | B7: Добыча полезных ископаемых | C7: Mining | D7: =Баткен!#REF!+'Жалал-Абад'!#REF!+'Ысык-Көл'!#REF!+Нарын!#REF!+'Ош обл'!#REF!+Талас!#REF!+Чуй!#REF!+'Бишкек ш.'!#REF!+'Ош ш.'!#REF! -> #REF! | E7: =Баткен!#REF!+'Жалал-Абад'!#REF!+'Ысык-Көл'!#REF!+Нарын!#REF!+'Ош обл'!#REF!+Талас!#REF!+Чуй!#REF!+'Бишкек ш.'!#REF!+'Ош ш.'!#REF! -> #REF! | F7: =Баткен!#REF!+'Жалал-Абад'!#REF!+'Ысык-Көл'!#REF!+Нарын!#REF!+'Ош обл'!#REF!+Талас!#REF!+Чуй!#REF!+'Бишкек ш.'!#REF!+'Ош ш.'!#REF! -> #REF! | G7: =Баткен!#REF!+'Жалал-Абад'!#REF!+'Ысык-Көл'!#REF!+Нарын!#REF!+'Ош обл'!#REF!+Талас!#REF!+Чуй!#REF!+'Бишкек ш.'!#REF!+'Ош ш.'!#REF! -> #REF! | H7: =Баткен!#REF!+'Жалал-Абад'!#REF!+'Ысык-Көл'!#REF!+Нарын!#REF!+'Ош обл'!#REF!+Талас!#REF!+Чуй!#REF!+'Бишкек ш.'!#REF!+'Ош ш.'!#REF! -> #REF! | I7: =Баткен!#REF!+'Жалал-Абад'!#REF!+'Ысык-Көл'!#REF!+Нарын!#REF!+'Ош обл'!#REF!+Талас!#REF!+Чуй!#REF!+'Бишкек ш.'!#REF!+'Ош ш.'!#REF! -> #REF! | J7: =Баткен!#REF!+'Жалал-Абад'!#REF!+'Ысык-Көл'!#REF!+Нарын!#REF!+'Ош обл'!#REF!+Талас!#REF!+Чуй!#REF!+'Бишкек ш.'!#REF!+'Ош ш.'!#REF! -> #REF! | K7: =Баткен!#REF!+'Жалал-Абад'!#REF!+'Ысык-Көл'!#REF!+Нарын!#REF!+'Ош обл'!#REF!+Талас!#REF!+Чуй!#REF!+'Бишкек ш.'!#REF!+'Ош ш.'!#REF! -> #REF! | L7: =Баткен!#REF!+'Жалал-Абад'!#REF!+'Ысык-Көл'!#REF!+Нарын!D8+'Ош обл'!#REF!+Талас!#REF!+Чуй!#REF!+'Бишкек ш.'!#REF!+'Ош ш.'!#REF! -> #REF! | M7: =Баткен!D8+'Жалал-Абад'!D8+'Ысык-Көл'!D8+Нарын!E8+'Ош обл'!D8+Талас!D8+Чуй!D8+'Бишкек ш.'!D8+'Ош ш.'!D8 -> 6596.7
A8: Иштетүү өндүрүшү (иштетүү өнөр жайы) | B8: Обрабатывающие производства (обрабатывающая промышленность) | C8: Manufacturing | D8: =Баткен!#REF!+'Жалал-Абад'!#REF!+'Ысык-Көл'!#REF!+Нарын!#REF!+'Ош обл'!#REF!+Талас!#REF!+Чуй!#REF!+'Бишкек ш.'!#REF!+'Ош ш.'!#REF! -> #REF! | E8: =Баткен!#REF!+'Жалал-Абад'!#REF!+'Ысык-Көл'!#REF!+Нарын!#REF!+'Ош обл'!#REF!+Талас!#REF!+Чуй!#REF!+'Бишкек ш.'!#REF!+'Ош ш.'!#REF! -> #REF! | F8: =Баткен!#REF!+'Жалал-Абад'!#REF!+'Ысык-Көл'!#REF!+Нарын!#REF!+'Ош обл'!#REF!+Талас!#REF!+Чуй!#REF!+'Бишкек ш.'!#REF!+'Ош ш.'!#REF! -> #REF! | G8: =Баткен!#REF!+'Жалал-Абад'!#REF!+'Ысык-Көл'!#REF!+Нарын!#REF!+'Ош обл'!#REF!+Талас!#REF!+Чуй!#REF!+'Бишкек ш.'!#REF!+'Ош ш.'!#REF! -> #REF! | H8: =Баткен!#REF!+'Жалал-Абад'!#REF!+'Ысык-Көл'!#REF!+Нарын!#REF!+'Ош обл'!#REF!+Талас!#REF!+Чуй!#REF!+'Бишкек ш.'!#REF!+'Ош ш.'!#REF! -> #REF! | I8: =Баткен!#REF!+'Жалал-Абад'!#REF!+'Ысык-Көл'!#REF!+Нарын!#REF!+'Ош обл'!#REF!+Талас!#REF!+Чуй!#REF!+'Бишкек ш.'!#REF!+'Ош ш.'!#REF! -> #REF! | J8: =Баткен!#REF!+'Жалал-Абад'!#REF!+'Ысык-Көл'!#REF!+Нарын!#REF!+'Ош обл'!#REF!+Талас!#REF!+Чуй!#REF!+'Бишкек ш.'!#REF!+'Ош ш.'!#REF! -> #REF! | K8: =Баткен!#REF!+'Жалал-Абад'!#REF!+'Ысык-Көл'!#REF!+Нарын!#REF!+'Ош обл'!#REF!+Талас!#REF!+Чуй!#REF!+'Бишкек ш.'!#REF!+'Ош ш.'!#REF! -> #REF! | L8: =Баткен!#REF!+'Жалал-Абад'!#REF!+'Ысык-Көл'!#REF!+Нарын!D9+'Ош обл'!#REF!+Талас!#REF!+Чуй!#REF!+'Бишкек ш.'!#REF!+'Ош ш.'!#REF! -> #REF! | M8: =Баткен!D9+'Жалал-Абад'!D9+'Ысык-Көл'!D9+Нарын!E9+'Ош обл'!D9+Талас!D9+Чуй!D9+'Бишкек ш.'!D9+'Ош ш.'!D9 -> 84244.7
A9: Электр энергия, газ, буу жана кондицияланган аба менен камсыздоо (жабдуу) | B9: Обеспечение (снабжение) электроэнергией, газом, паром и кондиционированным воздухом | C9: Electricity, gas and steam production, distribution and supply | D9: =Баткен!#REF!+'Жалал-Абад'!#REF!+'Ысык-Көл'!#REF!+Нарын!#REF!+'Ош обл'!#REF!+Талас!#REF!+Чуй!#REF!+'Бишкек ш.'!#REF!+'Ош ш.'!#REF! -> #REF! | E9: =Баткен!#REF!+'Жалал-Абад'!#REF!+'Ысык-Көл'!#REF!+Нарын!#REF!+'Ош обл'!#REF!+Талас!#REF!+Чуй!#REF!+'Бишкек ш.'!#REF!+'Ош ш.'!#REF! -> #REF! | F9: =Баткен!#REF!+'Жалал-Абад'!#REF!+'Ысык-Көл'!#REF!+Нарын!#REF!+'Ош обл'!#REF!+Талас!#REF!+Чуй!#REF!+'Бишкек ш.'!#REF!+'Ош ш.'!#REF! -> #REF! | G9: =Баткен!#REF!+'Жалал-Абад'!#REF!+'Ысык-Көл'!#REF!+Нарын!#REF!+'Ош обл'!#REF!+Талас!#REF!+Чуй!#REF!+'Бишкек ш.'!#REF!+'Ош ш.'!#REF! -> #REF! | H9: =Баткен!#REF!+'Жалал-Абад'!#REF!+'Ысык-Көл'!#REF!+Нарын!#REF!+'Ош обл'!#REF!+Талас!#REF!+Чуй!#REF!+'Бишкек ш.'!#REF!+'Ош ш.'!#REF! -> #REF! | I9: =Баткен!#REF!+'Жалал-Абад'!#REF!+'Ысык-Көл'!#REF!+Нарын!#REF!+'Ош обл'!#REF!+Талас!#REF!+Чуй!#REF!+'Бишкек ш.'!#REF!+'Ош ш.'!#REF! -> #REF! | J9: =Баткен!#REF!+'Жалал-Абад'!#REF!+'Ысык-Көл'!#REF!+Нарын!#REF!+'Ош обл'!#REF!+Талас!#REF!+Чуй!#REF!+'Бишкек ш.'!#REF!+'Ош ш.'!#REF! -> #REF! | K9: =Баткен!#REF!+'Жалал-Абад'!#REF!+'Ысык-Көл'!#REF!+Нарын!#REF!+'Ош обл'!#REF!+Талас!#REF!+Чуй!#REF!+'Бишкек ш.'!#REF!+'Ош ш.'!#REF! -> #REF! | L9: =Баткен!#REF!+'Жалал-Абад'!#REF!+'Ысык-Көл'!#REF!+Нарын!D10+'Ош обл'!#REF!+Талас!#REF!+Чуй!#REF!+'Бишкек ш.'!#REF!+'Ош ш.'!#REF! -> #REF! | M9: =Баткен!D10+'Жалал-Абад'!D10+'Ысык-Көл'!D10+Нарын!E10+'Ош обл'!D10+Талас!D10+Чуй!D10+'Бишкек ш.'!D10+'Ош ш.'!D10 -> 19063
A10: Суу менен камсыздоо, тазалоо, калдыктарды иштетүү жана кайра пайдалануучу чийки затты алуу | B10: Водоснабжение, очистка, обработка отходов и получение вторичного сырья | C10: Water supply, waste treatment and disposal | D10: =Баткен!#REF!+'Жалал-Абад'!#REF!+'Ысык-Көл'!#REF!+Нарын!#REF!+'Ош обл'!#REF!+Талас!#REF!+Чуй!#REF!+'Бишкек ш.'!#REF!+'Ош ш.'!#REF! -> #REF! | E10: =Баткен!#REF!+'Жалал-Абад'!#REF!+'Ысык-Көл'!#REF!+Нарын!#REF!+'Ош обл'!#REF!+Талас!#REF!+Чуй!#REF!+'Бишкек ш.'!#REF!+'Ош ш.'!#REF! -> #REF! | F10: =Баткен!#REF!+'Жалал-Абад'!#REF!+'Ысык-Көл'!#REF!+Нарын!#REF!+'Ош обл'!#REF!+Талас!#REF!+Чуй!#REF!+'Бишкек ш.'!#REF!+'Ош ш.'!#REF! -> #REF! | G10: =Баткен!#REF!+'Жалал-Абад'!#REF!+'Ысык-Көл'!#REF!+Нарын!#REF!+'Ош обл'!#REF!+Талас!#REF!+Чуй!#REF!+'Бишкек ш.'!#REF!+'Ош ш.'!#REF! -> #REF! | H10: =Баткен!#REF!+'Жалал-Абад'!#REF!+'Ысык-Көл'!#REF!+Нарын!#REF!+'Ош обл'!#REF!+Талас!#REF!+Чуй!#REF!+'Бишкек ш.'!#REF!+'Ош ш.'!#REF! -> #REF! | I10: =Баткен!#REF!+'Жалал-Абад'!#REF!+'Ысык-Көл'!#REF!+Нарын!#REF!+'Ош обл'!#REF!+Талас!#REF!+Чуй!#REF!+'Бишкек ш.'!#REF!+'Ош ш.'!#REF! -> #REF! | J10: =Баткен!#REF!+'Жалал-Абад'!#REF!+'Ысык-Көл'!#REF!+Нарын!#REF!+'Ош обл'!#REF!+Талас!#REF!+Чуй!#REF!+'Бишкек ш.'!#REF!+'Ош ш.'!#REF! -> #REF! | K10: =Баткен!#REF!+'Жалал-Абад'!#REF!+'Ысык-Көл'!#REF!+Нарын!#REF!+'Ош обл'!#REF!+Талас!#REF!+Чуй!#REF!+'Бишкек ш.'!#REF!+'Ош ш.'!#REF! -> #REF! | L10: =Баткен!#REF!+'Жалал-Абад'!#REF!+'Ысык-Көл'!#REF!+Нарын!D11+'Ош обл'!#REF!+Талас!#REF!+Чуй!#REF!+'Бишкек ш.'!#REF!+'Ош ш.'!#REF! -> #REF! | M10: =Баткен!D11+'Жалал-Абад'!D11+'Ысык-Көл'!D11+Нарын!E11+'Ош обл'!D11+Талас!D11+Чуй!D11+'Бишкек ш.'!D11+'Ош ш.'!D11 -> 1722.4
A11: Курулуш | B11: Строительство | C11: Construction | D11: =Баткен!#REF!+'Жалал-Абад'!#REF!+'Ысык-Көл'!#REF!+Нарын!#REF!+'Ош обл'!#REF!+Талас!#REF!+Чуй!#REF!+'Бишкек ш.'!#REF!+'Ош ш.'!#REF! -> #REF! | E11: =Баткен!#REF!+'Жалал-Абад'!#REF!+'Ысык-Көл'!#REF!+Нарын!#REF!+'Ош обл'!#REF!+Талас!#REF!+Чуй!#REF!+'Бишкек ш.'!#REF!+'Ош ш.'!#REF! -> #REF! | F11: =Баткен!#REF!+'Жалал-Абад'!#REF!+'Ысык-Көл'!#REF!+Нарын!#REF!+'Ош обл'!#REF!+Талас!#REF!+Чуй!#REF!+'Бишкек ш.'!#REF!+'Ош ш.'!#REF! -> #REF! | G11: =Баткен!#REF!+'Жалал-Абад'!#REF!+'Ысык-Көл'!#REF!+Нарын!#REF!+'Ош обл'!#REF!+Талас!#REF!+Чуй!#REF!+'Бишкек ш.'!#REF!+'Ош ш.'!#REF! -> #REF! | H11: =Баткен!#REF!+'Жалал-Абад'!#REF!+'Ысык-Көл'!#REF!+Нарын!#REF!+'Ош обл'!#REF!+Талас!#REF!+Чуй!#REF!+'Бишкек ш.'!#REF!+'Ош ш.'!#REF! -> #REF! | I11: =Баткен!#REF!+'Жалал-Абад'!#REF!+'Ысык-Көл'!#REF!+Нарын!#REF!+'Ош обл'!#REF!+Талас!#REF!+Чуй!#REF!+'Бишкек ш.'!#REF!+'Ош ш.'!#REF! -> #REF! | J11: =Баткен!#REF!+'Жалал-Абад'!#REF!+'Ысык-Көл'!#REF!+Нарын!#REF!+'Ош обл'!#REF!+Талас!#REF!+Чуй!#REF!+'Бишкек ш.'!#REF!+'Ош ш.'!#REF! -> #REF! | K11: =Баткен!#REF!+'Жалал-Абад'!#REF!+'Ысык-Көл'!#REF!+Нарын!#REF!+'Ош обл'!#REF!+Талас!#REF!+Чуй!#REF!+'Бишкек ш.'!#REF!+'Ош ш.'!#REF! -> #REF! | L11: =Баткен!#REF!+'Жалал-Абад'!#REF!+'Ысык-Көл'!#REF!+Нарын!D12+'Ош обл'!#REF!+Талас!#REF!+Чуй!#REF!+'Бишкек ш.'!#REF!+'Ош ш.'!#REF! -> #REF! | M11: =Баткен!D12+'Жалал-Абад'!D12+'Ысык-Көл'!D12+Нарын!E12+'Ош обл'!D12+Талас!D12+Чуй!D12+'Бишкек ш.'!D12+'Ош ш.'!D12 -> 58876.3
A12: Дүң жана чекене соода; автомобиль жана мотоциклдерди оңдоо | B12: Оптовая и розничная торговля; ремонт автомобилей и мотоциклов | C12: Trade: repair of transport means | D12: =Баткен!#REF!+'Жалал-Абад'!#REF!+'Ысык-Көл'!#REF!+Нарын!#REF!+'Ош обл'!#REF!+Талас!#REF!+Чуй!#REF!+'Бишкек ш.'!#REF!+'Ош ш.'!#REF! -> #REF! | E12: =Баткен!#REF!+'Жалал-Абад'!#REF!+'Ысык-Көл'!#REF!+Нарын!#REF!+'Ош обл'!#REF!+Талас!#REF!+Чуй!#REF!+'Бишкек ш.'!#REF!+'Ош ш.'!#REF! -> #REF! | F12: =Баткен!#REF!+'Жалал-Абад'!#REF!+'Ысык-Көл'!#REF!+Нарын!#REF!+'Ош обл'!#REF!+Талас!#REF!+Чуй!#REF!+'Бишкек ш.'!#REF!+'Ош ш.'!#REF! -> #REF! | G12: =Баткен!#REF!+'Жалал-Абад'!#REF!+'Ысык-Көл'!#REF!+Нарын!#REF!+'Ош обл'!#REF!+Талас!#REF!+Чуй!#REF!+'Бишкек ш.'!#REF!+'Ош ш.'!#REF! -> #REF! | H12: =Баткен!#REF!+'Жалал-Абад'!#REF!+'Ысык-Көл'!#REF!+Нарын!#REF!+'Ош обл'!#REF!+Талас!#REF!+Чуй!#REF!+'Бишкек ш.'!#REF!+'Ош ш.'!#REF! -> #REF! | I12: =Баткен!#REF!+'Жалал-Абад'!#REF!+'Ысык-Көл'!#REF!+Нарын!#REF!+'Ош обл'!#REF!+Талас!#REF!+Чуй!#REF!+'Бишкек ш.'!#REF!+'Ош ш.'!#REF! -> #REF! | J12: =Баткен!#REF!+'Жалал-Абад'!#REF!+'Ысык-Көл'!#REF!+Нарын!#REF!+'Ош обл'!#REF!+Талас!#REF!+Чуй!#REF!+'Бишкек ш.'!#REF!+'Ош ш.'!#REF! -> #REF! | K12: =Баткен!#REF!+'Жалал-Абад'!#REF!+'Ысык-Көл'!#REF!+Нарын!#REF!+'Ош обл'!#REF!+Талас!#REF!+Чуй!#REF!+'Бишкек ш.'!#REF!+'Ош ш.'!#REF! -> #REF! | L12: =Баткен!#REF!+'Жалал-Абад'!#REF!+'Ысык-Көл'!#REF!+Нарын!D13+'Ош обл'!#REF!+Талас!#REF!+Чуй!#REF!+'Бишкек ш.'!#REF!+'Ош ш.'!#REF! -> #REF! | M12: =Баткен!D13+'Жалал-Абад'!D13+'Ысык-Көл'!D13+Нарын!E13+'Ош обл'!D13+Талас!D13+Чуй!D13+'Бишкек ш.'!D13+'Ош ш.'!D13 -> 93173.3
A13: Транспорт ишмердиги жана жүктөрдү сактоо | B13: Транспортная деятельность и хранение грузов | C13: Transportation and storage | D13: =Баткен!#REF!+'Жалал-Абад'!#REF!+'Ысык-Көл'!#REF!+Нарын!#REF!+'Ош обл'!#REF!+Талас!#REF!+Чуй!#REF!+'Бишкек ш.'!#REF!+'Ош ш.'!#REF! -> #REF! | E13: =Баткен!#REF!+'Жалал-Абад'!#REF!+'Ысык-Көл'!#REF!+Нарын!#REF!+'Ош обл'!#REF!+Талас!#REF!+Чуй!#REF!+'Бишкек ш.'!#REF!+'Ош ш.'!#REF! -> #REF! | F13: =Баткен!#REF!+'Жалал-Абад'!#REF!+'Ысык-Көл'!#REF!+Нарын!#REF!+'Ош обл'!#REF!+Талас!#REF!+Чуй!#REF!+'Бишкек ш.'!#REF!+'Ош ш.'!#REF! -> #REF! | G13: =Баткен!#REF!+'Жалал-Абад'!#REF!+'Ысык-Көл'!#REF!+Нарын!#REF!+'Ош обл'!#REF!+Талас!#REF!+Чуй!#REF!+'Бишкек ш.'!#REF!+'Ош ш.'!#REF! -> #REF! | H13: =Баткен!#REF!+'Жалал-Абад'!#REF!+'Ысык-Көл'!#REF!+Нарын!#REF!+'Ош обл'!#REF!+Талас!#REF!+Чуй!#REF!+'Бишкек ш.'!#REF!+'Ош ш.'!#REF! -> #REF! | I13: =Баткен!#REF!+'Жалал-Абад'!#REF!+'Ысык-Көл'!#REF!+Нарын!#REF!+'Ош обл'!#REF!+Талас!#REF!+Чуй!#REF!+'Бишкек ш.'!#REF!+'Ош ш.'!#REF! -> #REF! | J13: =Баткен!#REF!+'Жалал-Абад'!#REF!+'Ысык-Көл'!#REF!+Нарын!#REF!+'Ош обл'!#REF!+Талас!#REF!+Чуй!#REF!+'Бишкек ш.'!#REF!+'Ош ш.'!#REF! -> #REF! | K13: =Баткен!#REF!+'Жалал-Абад'!#REF!+'Ысык-Көл'!#REF!+Нарын!#REF!+'Ош обл'!#REF!+Талас!#REF!+Чуй!#REF!+'Бишкек ш.'!#REF!+'Ош ш.'!#REF! -> #REF! | L13: =Баткен!#REF!+'Жалал-Абад'!#REF!+'Ысык-Көл'!#REF!+Нарын!D14+'Ош обл'!#REF!+Талас!#REF!+Чуй!#REF!+'Бишкек ш.'!#REF!+'Ош ш.'!#REF! -> #REF! | M13: =Баткен!D14+'Жалал-Абад'!D14+'Ысык-Көл'!D14+Нарын!E14+'Ош обл'!D14+Талас!D14+Чуй!D14+'Бишкек ш.'!D14+'Ош ш.'!D14 -> 18053.2
A14: Мейманканалар менен ресторандардын ишмердиги | B14: Деятельность гостиниц и ресторанов | C14: Accommodation and food service activities | D14: =Баткен!#REF!+'Жалал-Абад'!#REF!+'Ысык-Көл'!#REF!+Нарын!#REF!+'Ош обл'!#REF!+Талас!#REF!+Чуй!#REF!+'Бишкек ш.'!#REF!+'Ош ш.'!#REF! -> #REF! | E14: =Баткен!#REF!+'Жалал-Абад'!#REF!+'Ысык-Көл'!#REF!+Нарын!#REF!+'Ош обл'!#REF!+Талас!#REF!+Чуй!#REF!+'Бишкек ш.'!#REF!+'Ош ш.'!#REF! -> #REF! | F14: =Баткен!#REF!+'Жалал-Абад'!#REF!+'Ысык-Көл'!#REF!+Нарын!#REF!+'Ош обл'!#REF!+Талас!#REF!+Чуй!#REF!+'Бишкек ш.'!#REF!+'Ош ш.'!#REF! -> #REF! | G14: =Баткен!#REF!+'Жалал-Абад'!#REF!+'Ысык-Көл'!#REF!+Нарын!#REF!+'Ош обл'!#REF!+Талас!#REF!+Чуй!#REF!+'Бишкек ш.'!#REF!+'Ош ш.'!#REF! -> #REF! | H14: =Баткен!#REF!+'Жалал-Абад'!#REF!+'Ысык-Көл'!#REF!+Нарын!#REF!+'Ош обл'!#REF!+Талас!#REF!+Чуй!#REF!+'Бишкек ш.'!#REF!+'Ош ш.'!#REF! -> #REF! | I14: =Баткен!#REF!+'Жалал-Абад'!#REF!+'Ысык-Көл'!#REF!+Нарын!#REF!+'Ош обл'!#REF!+Талас!#REF!+Чуй!#REF!+'Бишкек ш.'!#REF!+'Ош ш.'!#REF! -> #REF! | J14: =Баткен!#REF!+'Жалал-Абад'!#REF!+'Ысык-Көл'!#REF!+Нарын!#REF!+'Ош обл'!#REF!+Талас!#REF!+Чуй!#REF!+'Бишкек ш.'!#REF!+'Ош ш.'!#REF! -> #REF! | K14: =Баткен!#REF!+'Жалал-Абад'!#REF!+'Ысык-Көл'!#REF!+Нарын!#REF!+'Ош обл'!#REF!+Талас!#REF!+Чуй!#REF!+'Бишкек ш.'!#REF!+'Ош ш.'!#REF! -> #REF! | L14: =Баткен!#REF!+'Жалал-Абад'!#REF!+'Ысык-Көл'!#REF!+Нарын!D15+'Ош обл'!#REF!+Талас!#REF!+Чуй!#REF!+'Бишкек ш.'!#REF!+'Ош ш.'!#REF! -> #REF! | M14: =Баткен!D15+'Жалал-Абад'!D15+'Ысык-Көл'!D15+Нарын!E15+'Ош обл'!D15+Талас!D15+Чуй!D15+'Бишкек ш.'!D15+'Ош ш.'!D15 -> 6484.7
A15: Маалымат жана байланыш | B15: Информация и связь | C15: Information and communication | D15: =Баткен!#REF!+'Жалал-Абад'!#REF!+'Ысык-Көл'!#REF!+Нарын!#REF!+'Ош обл'!#REF!+Талас!#REF!+Чуй!#REF!+'Бишкек ш.'!#REF!+'Ош ш.'!#REF! -> #REF! | E15: =Баткен!#REF!+'Жалал-Абад'!#REF!+'Ысык-Көл'!#REF!+Нарын!#REF!+'Ош обл'!#REF!+Талас!#REF!+Чуй!#REF!+'Бишкек ш.'!#REF!+'Ош ш.'!#REF! -> #REF! | F15: =Баткен!#REF!+'Жалал-Абад'!#REF!+'Ысык-Көл'!#REF!+Нарын!#REF!+'Ош обл'!#REF!+Талас!#REF!+Чуй!#REF!+'Бишкек ш.'!#REF!+'Ош ш.'!#REF! -> #REF! | G15: =Баткен!#REF!+'Жалал-Абад'!#REF!+'Ысык-Көл'!#REF!+Нарын!#REF!+'Ош обл'!#REF!+Талас!#REF!+Чуй!#REF!+'Бишкек ш.'!#REF!+'Ош ш.'!#REF! -> #REF! | H15: =Баткен!#REF!+'Жалал-Абад'!#REF!+'Ысык-Көл'!#REF!+Нарын!#REF!+'Ош обл'!#REF!+Талас!#REF!+Чуй!#REF!+'Бишкек ш.'!#REF!+'Ош ш.'!#REF! -> #REF! | I15: =Баткен!#REF!+'Жалал-Абад'!#REF!+'Ысык-Көл'!#REF!+Нарын!#REF!+'Ош обл'!#REF!+Талас!#REF!+Чуй!#REF!+'Бишкек ш.'!#REF!+'Ош ш.'!#REF! -> #REF! | J15: =Баткен!#REF!+'Жалал-Абад'!#REF!+'Ысык-Көл'!#REF!+Нарын!#REF!+'Ош обл'!#REF!+Талас!#REF!+Чуй!#REF!+'Бишкек ш.'!#REF!+'Ош ш.'!#REF! -> #REF! | K15: =Баткен!#REF!+'Жалал-Абад'!#REF!+'Ысык-Көл'!#REF!+Нарын!#REF!+'Ош обл'!#REF!+Талас!#REF!+Чуй!#REF!+'Бишкек ш.'!#REF!+'Ош ш.'!#REF! -> #REF! | L15: =Баткен!#REF!+'Жалал-Абад'!#REF!+'Ысык-Көл'!#REF!+Нарын!D16+'Ош обл'!#REF!+Талас!#REF!+Чуй!#REF!+'Бишкек ш.'!#REF!+'Ош ш.'!#REF! -> #REF! | M15: =Баткен!D16+'Жалал-Абад'!D16+'Ысык-Көл'!D16+Нарын!E16+'Ош обл'!D16+Талас!D16+Чуй!D16+'Бишкек ш.'!D16+'Ош ш.'!D16 -> 16427.2
A16: Финансылык ортомчулук жана камсыздандыруу | B16: Финансовое посредничество и страхование | C16: Financial and insurance activities | D16: =Баткен!#REF!+'Жалал-Абад'!#REF!+'Ысык-Көл'!#REF!+Нарын!#REF!+'Ош обл'!#REF!+Талас!#REF!+Чуй!#REF!+'Бишкек ш.'!#REF!+'Ош ш.'!#REF! -> #REF! | E16: =Баткен!#REF!+'Жалал-Абад'!#REF!+'Ысык-Көл'!#REF!+Нарын!#REF!+'Ош обл'!#REF!+Талас!#REF!+Чуй!#REF!+'Бишкек ш.'!#REF!+'Ош ш.'!#REF! -> #REF! | F16: =Баткен!#REF!+'Жалал-Абад'!#REF!+'Ысык-Көл'!#REF!+Нарын!#REF!+'Ош обл'!#REF!+Талас!#REF!+Чуй!#REF!+'Бишкек ш.'!#REF!+'Ош ш.'!#REF! -> #REF! | G16: =Баткен!#REF!+'Жалал-Абад'!#REF!+'Ысык-Көл'!#REF!+Нарын!#REF!+'Ош обл'!#REF!+Талас!#REF!+Чуй!#REF!+'Бишкек ш.'!#REF!+'Ош ш.'!#REF! -> #REF! | H16: =Баткен!#REF!+'Жалал-Абад'!#REF!+'Ысык-Көл'!#REF!+Нарын!#REF!+'Ош обл'!#REF!+Талас!#REF!+Чуй!#REF!+'Бишкек ш.'!#REF!+'Ош ш.'!#REF! -> #REF! | I16: =Баткен!#REF!+'Жалал-Абад'!#REF!+'Ысык-Көл'!#REF!+Нарын!#REF!+'Ош обл'!#REF!+Талас!#REF!+Чуй!#REF!+'Бишкек ш.'!#REF!+'Ош ш.'!#REF! -> #REF! | J16: =Баткен!#REF!+'Жалал-Абад'!#REF!+'Ысык-Көл'!#REF!+Нарын!#REF!+'Ош обл'!#REF!+Талас!#REF!+Чуй!#REF!+'Бишкек ш.'!#REF!+'Ош ш.'!#REF! -> #REF! | K16: =Баткен!#REF!+'Жалал-Абад'!#REF!+'Ысык-Көл'!#REF!+Нарын!#REF!+'Ош обл'!#REF!+Талас!#REF!+Чуй!#REF!+'Бишкек ш.'!#REF!+'Ош ш.'!#REF! -> #REF! | L16: =Баткен!#REF!+'Жалал-Абад'!#REF!+'Ысык-Көл'!#REF!+Нарын!D17+'Ош обл'!#REF!+Талас!#REF!+Чуй!#REF!+'Бишкек ш.'!#REF!+'Ош ш.'!#REF! -> #REF! | M16: =Баткен!D17+'Жалал-Абад'!D17+'Ысык-Көл'!D17+Нарын!E17+'Ош обл'!D17+Талас!D17+Чуй!D17+'Бишкек ш.'!D17+'Ош ш.'!D17 -> 27332.2
... A25: Финансылык ортомчулуктун кыйыр ыкма менен эсептелген тейлөөлөрү (ФОКЫЭ) | B25: Услуги финансового посредничества, измеряемые косвенным образом (УФПИК) | C25: Indirectly measured services of financial intermediation (FISIM) | D25: =Баткен!#REF!+'Жалал-Абад'!#REF!+'Ысык-Көл'!#REF!+Нарын!#REF!+'Ош обл'!#REF!+Талас!#REF!+Чуй!#REF!+'Бишкек ш.'!#REF!+'Ош ш.'!#REF! -> #REF! | E25: =Баткен!#REF!+'Жалал-Абад'!#REF!+'Ысык-Көл'!#REF!+Нарын!#REF!+'Ош обл'!#REF!+Талас!#REF!+Чуй!#REF!+'Бишкек ш.'!#REF!+'Ош ш.'!#REF! -> #REF! | F25: =Баткен!#REF!+'Жалал-Абад'!#REF!+'Ысык-Көл'!#REF!+Нарын!#REF!+'Ош обл'!#REF!+Талас!#REF!+Чуй!#REF!+'Бишкек ш.'!#REF!+'Ош ш.'!#REF! -> #REF! | G25: =Баткен!#REF!+'Жалал-Абад'!#REF!+'Ысык-Көл'!#REF!+Нарын!#REF!+'Ош обл'!#REF!+Талас!#REF!+Чуй!#REF!+'Бишкек ш.'!#REF!+'Ош ш.'!#REF! -> #REF! | H25: =Баткен!#REF!+'Жалал-Абад'!#REF!+'Ысык-Көл'!#REF!+Нарын!#REF!+'Ош обл'!#REF!+Талас!#REF!+Чуй!#REF!+'Бишкек ш.'!#REF!+'Ош ш.'!#REF! -> #REF! | I25: =Баткен!#REF!+'Жалал-Абад'!#REF!+'Ысык-Көл'!#REF!+Нарын!#REF!+'Ош обл'!#REF!+Талас!#REF!+Чуй!#REF!+'Бишкек ш.'!#REF!+'Ош ш.'!#REF! -> #REF! | J25: =Баткен!#REF!+'Жалал-Абад'!#REF!+'Ысык-Көл'!#REF!+Нарын!#REF!+'Ош обл'!#REF!+Талас!#REF!+Чуй!#REF!+'Бишкек ш.'!#REF!+'Ош ш.'!#REF! -> #REF! | K25: =Баткен!#REF!+'Жалал-Абад'!#REF!+'Ысык-Көл'!#REF!+Нарын!#REF!+'Ош обл'!#REF!+Талас!#REF!+Чуй!#REF!+'Бишкек ш.'!#REF!+'Ош ш.'!#REF! -> #REF! | L25: =Баткен!#REF!+'Жалал-Абад'!#REF!+'Ысык-Көл'!#REF!+Нарын!D26+'Ош обл'!#REF!+Талас!#REF!+Чуй!#REF!+'Бишкек ш.'!#REF!+'Ош ш.'!#REF! -> #REF! | M25: =Баткен!D26+'Жалал-Абад'!D26+'Ысык-Көл'!D26+Нарын!E26+'Ош обл'!D26+Талас!D26+Чуй!D26+'Бишкек ш.'!D26+'Ош ш.'!D26 -> #VALUE!
A26: Продуктулардын таза салыктары | B26: Чистые налоги на продукты | C26: Net taxes on products | D26: =Баткен!#REF!+'Жалал-Абад'!#REF!+'Ысык-Көл'!#REF!+Нарын!#REF!+'Ош обл'!#REF!+Талас!#REF!+Чуй!#REF!+'Бишкек ш.'!#REF!+'Ош ш.'!#REF! -> #REF! | E26: =Баткен!#REF!+'Жалал-Абад'!#REF!+'Ысык-Көл'!#REF!+Нарын!#REF!+'Ош обл'!#REF!+Талас!#REF!+Чуй!#REF!+'Бишкек ш.'!#REF!+'Ош ш.'!#REF! -> #REF! | F26: =Баткен!#REF!+'Жалал-Абад'!#REF!+'Ысык-Көл'!#REF!+Нарын!#REF!+'Ош обл'!#REF!+Талас!#REF!+Чуй!#REF!+'Бишкек ш.'!#REF!+'Ош ш.'!#REF! -> #REF! | G26: =Баткен!#REF!+'Жалал-Абад'!#REF!+'Ысык-Көл'!#REF!+Нарын!#REF!+'Ош обл'!#REF!+Талас!#REF!+Чуй!#REF!+'Бишкек ш.'!#REF!+'Ош ш.'!#REF! -> #REF! | H26: =Баткен!#REF!+'Жалал-Абад'!#REF!+'Ысык-Көл'!#REF!+Нарын!#REF!+'Ош обл'!#REF!+Талас!#REF!+Чуй!#REF!+'Бишкек ш.'!#REF!+'Ош ш.'!#REF! -> #REF! | I26: =Баткен!#REF!+'Жалал-Абад'!#REF!+'Ысык-Көл'!#REF!+Нарын!#REF!+'Ош обл'!#REF!+Талас!#REF!+Чуй!#REF!+'Бишкек ш.'!#REF!+'Ош ш.'!#REF! -> #REF! | J26: =Баткен!#REF!+'Жалал-Абад'!#REF!+'Ысык-Көл'!#REF!+Нарын!#REF!+'Ош обл'!#REF!+Талас!#REF!+Чуй!#REF!+'Бишкек ш.'!#REF!+'Ош ш.'!#REF! -> #REF! | K26: =Баткен!#REF!+'Жалал-Абад'!#REF!+'Ысык-Көл'!#REF!+Нарын!#REF!+'Ош обл'!#REF!+Талас!#REF!+Чуй!#REF!+'Бишкек ш.'!#REF!+'Ош ш.'!#REF! -> #REF! | L26: =Баткен!#REF!+'Жалал-Абад'!#REF!+'Ысык-Көл'!#REF!+Нарын!D28+'Ош обл'!#REF!+Талас!#REF!+Чуй!#REF!+'Бишкек ш.'!#REF!+'Ош ш.'!#REF! -> #REF! | M26: =Баткен!D28+'Жалал-Абад'!D28+'Ысык-Көл'!D28+Нарын!E28+'Ош обл'!D28+Талас!D28+Чуй!D28+'Бишкек ш.'!D28+'Ош ш.'!D28 -> 65510.5
